{"text_format":"1","workbook":"xlsx","n_sheets":17,"sheets":["Tabelle2","Anerkannte Düsen (2)","Randdüsen","Abdriftminderungsklasse","Doppelkompakt mit 90","25cm Düsenabstand","kompakt<90%","kompakt mit 90%","Doppelkompakt<90","lange < 90","lang mit 90","Doppellang <90","Doppellang mit 90","Doppelflachstrahlvarianten","Vorauflauf","Fldgg","anerkannte Düsen"],"not_rendered":{"charts":0,"images":22,"macros":1,"external_links":1,"defined_names":22,"comments":0,"pivot_tables":0},"unopened":[],"bounds":{"document_bytes":16777216,"sheet_cells":100000,"rows_first":2000,"rows_last":500,"rows_between":2000,"halvings":0,"cell_chars":16384,"cell_head_chars":4096},"cells_cut":0,"cells_raw":0,"read":"whole","date_system":"1900"}

{"sheet":"Tabelle2","index":0,"n_rows":1,"n_cols":17,"rows_kept":1,"cut":false,"hidden":false,"merged":[[2,1,2,3],[1,4,1,10],[0,9,0,11]]}
[null,null,null,null,null,null,null,null,null,{"$f":"YEAR(Q1)","v":2016},null,null,null,null,null,null,{"$f":"TODAY()","v":"2016-10-28"}]

{"sheet":"Anerkannte Düsen (2)","index":1,"n_rows":252,"n_cols":20,"rows_kept":252,"cut":false,"hidden":false,"merged":[[232,16,232,17],[139,14,139,15],[139,16,139,17],[140,16,140,17],[146,16,146,17],[147,16,147,17],[143,16,143,17],[188,16,188,17],[167,16,167,17],[166,16,166,17],[186,16,186,17],[187,16,187,17],[212,16,212,17],[213,16,213,17],[197,16,197,17],[192,16,192,17],[26,14,26,15],[52,14,52,15],[55,16,55,17],[144,16,144,17],[142,14,142,15],[132,14,132,15],[45,14,45,15],[34,14,34,15],[35,14,35,15],[162,14,162,15],[128,16,128,17],[214,16,214,17],[60,14,60,15],[46,14,46,15],[124,14,124,15],[94,16,94,17],[99,14,99,15],[106,14,106,15],[131,14,131,15],[132,16,132,17],[84,14,84,15],[133,16,133,17],[200,16,200,17],[176,14,176,15],[222,14,222,15],[221,14,221,15],[149,14,149,15],[207,16,207,17],[215,16,215,17],[153,16,153,17],[154,14,154,15],[157,14,157,15],[208,16,208,17],[206,16,206,17],[216,16,216,17],[217,16,217,17],[205,16,205,17],[192,14,192,15],[151,16,151,17],[163,16,163,17],[0,18,0,19],[1,2,1,3],[1,12,1,13],[1,14,1,15],[1,16,1,17],[1,18,1,19],[0,12,0,13],[0,14,0,15],[0,16,0,17],[11,14,11,15],[27,14,27,15],[50,16,50,17],[201,16,201,17],[203,16,203,17],[93,16,93,17],[87,16,87,17],[91,14,91,15],[77,16,77,17],[86,16,86,17],[115,14,115,15],[188,14,188,15],[102,16,102,17],[107,16,107,17],[68,14,68,15],[69,16,69,17]]}
[null,"anerkannt",null,null,null,{"$f":"YEAR(H1)","v":2016},"Jahr",{"$f":"TODAY()","v":"2016-10-28"},null,null,null,"Übertragung",0.5,null,0.75,null,0.9,null,0.95]
["G Nr","Bezeichnung","Druckbereich\n(bar)",null,"Tropfen","anerk.","erneut \nbeantragt","Anmelder","Bauart","Verwendung","Abstand",null,"bar",null,"bar",null,"bar",null,"bar"]
[1182,"XR 11004 VS / XRC 110 04 VS",1,4,"m - f",2021,null,"TeeJet","Flachstrahldüse","Verband - Feldbau","50 cm"]
[1211,"XR 11005 VS / XRC 110 05 VS",1,4,"g - f",2021,null,"TeeJet","Flachstrahldüse","Verband - Feldbau","50 cm"]
[1212,"XR 11006 VS",1,4,"g - m",2021,null,"TeeJet","Flachstrahldüse","Verband - Feldbau","50 cm"]
[1240,"LU 120 05 POM",1.5,5,"m - f",2016,null,"Lechler","Flachstrahldüse","Verband - Feldbau","50 cm"]
[1242,"LU 120 06 POM",1.5,5,"g - f",2016,null,"Lechler","Flachstrahldüse","Verband - Feldbau","50 cm"]
[1392,"XR 11003 VP",1.5,4,"m - f",2020,null,"TeeJet","Flachstrahldüse","Verband - Feldbau","50 cm"]
[1393,"XR 11004 VP",1,4,"m - f",2021,null,"TeeJet","Flachstrahldüse","Verband - Feldbau","50 cm"]
[1394,"XR 11005 VP",1,4,"g - f",2016,null,"TeeJet","Flachstrahldüse","Verband - Feldbau","50 cm"]
[1395,"XR 11003 VK",1.5,4,"m - f",2015,null,"TeeJet","Flachstrahldüse","Verband - Feldbau","50 cm"]
[1396,"XR 110 04 VK",1,4,"m - f",2015,null,{"$f":"'Anerkannte Düsen (2)'!M158&\" - \"&'Anerkannte Düsen (2)'!N158&\" bar\"","v":"1,5 - 2,5 bar"},"Flachstrahldüse","Verband - Feldbau","51 cm"]
[1397,"XR 110 05 VK",1,4,"g - f",2021,null,"TeeJet","Flachstrahldüse","Verband - Feldbau","50 cm"]
[1398,"DG 11003 VS",1.5,6,"-",2008,"nein","TeeJet","Flachstrahldüse","Verband - Feldbau","50 cm"]
[1399,"DG 11004 VS",1.5,6,"-",2008,"nein","TeeJet","Flachstrahldüse","Verband - Feldbau","50 cm"]
[1435,"8002E MS (Messing)",1.5,3,"-",2015,null,"Lechler","Flachstrahldüse","Bandspritzung","-",null,1.5,3,1.5,3,1.5,3]
[1436,"8002E POM, gelb",1.5,3,"-",2015,null,"Lechler","Flachstrahldüse","Bandspritzung","-",null,1.5,3,1.5,3,1.5,3]
[1437,"8003E MS (Messing)",1.5,3,"-",2015,null,"Lechler","Flachstrahldüse","Bandspritzung","-",null,1.5,3,1.5,3,1.5,3]
[1438,"8004E POM ",1.5,3,"-",2015,null,"Lechler","Flachstrahldüse","Bandspritzung","-",null,1.5,3,1.5,3,1.5,3]
[1441,"XRC 110 03 VS",1,4,"m - f",2016,null,"TeeJet","Flachstrahldüse","Verband - Feldbau","50 cm"]
[1489,"XR 110 06 VP",1,4,"g - m",2018,null,"TeeJet","Flachstrahldüse","Verband - Feldbau","50 cm"]
[1524,"LU 120 03 POM",1.5,5,"m - f",2016,null,"Lechler","Flachstrahldüse","Verband - Feldbau","50 cm"]
[1525,"TURBO Teejet 11002 VP",1,6,"g - m",2019,null,"TeeJet","Flachstrahldüse","Verband - Feldbau","50 - 75 cm"]
[1526,"TURBO Teejet 11003 VP",1,6,"sg - m",2018,null,"TeeJet","Flachstrahldüse","Verband - Feldbau","50 - 75 cm",null,1,1.5]
[1527,"TURBO Teejet 11004 VP",1,6,"sg - m",2018,null,"TeeJet","Flachstrahldüse","Verband - Feldbau","50 - 75 cm",null,1,1.5]
[1528,"TURBO Teejet 110 05 VP",1,6,"sg - m",2018,null,"TeeJet","Flachstrahldüse","Verband - Feldbau","75 cm"]
[1535,"ID 120 03 POM",3,8,"sg - g",2016,null,"Lechler","Injektor-Flachstrahldüse","Verband - Feldbau","50 cm",null,3,8,3]
[1536,"ID 120 04 POM",3,8,"sg - g",2017,null,"Lechler","Injektor-Flachstrahldüse","Verband - Feldbau","50 cm",null,3,5,3]
[1545,"ID 120 04 C (Keramik)",3,8,"sg - g",2018,null,"Lechler","Injektor-Flachstrahldüse","Verband - Feldbau","50 cm"]
[1546,"ID 120 03 C (Keramik)",3,8,"sg - g",2018,null,"Lechler","Injektor-Flachstrahldüse","Verband - Feldbau","50 cm"]
[1547,"ID 120 02 C (Keramik)",3.5,8,"g",2015,null,"Lechler","Injektor-Flachstrahldüse","Verband - Feldbau","50 cm"]
[1548,"ID 120 02 POM",3,8,"g",2014,"???","Lechler","Injektor-Flachstrahldüse","Verband - Feldbau","50 cm",null,3,3.5]
[1565,"ID 120 025 POM",3,8,"sg - g",2014,"???","Lechler","Injektor-Flachstrahldüse","Verband - Feldbau","50 cm",null,3,5]
[1566,"ID 120 025 C (Keramik)",3,8,"sg - g",2015,null,"Lechler","Injektor-Flachstrahldüse","Verband - Feldbau","50 cm"]
[1567,"AI 110 025 VS / AIC 110 025 VS",2,8,"sg - g",2015,null,"TeeJet","Injektor-Flachstrahldüse","Verband - Feldbau","50 - 75 cm",null,2,4,2]
[1568,"AI 110 03 VS / AIC 110 03 VS",2.5,8,"sg - g",2015,null,"TeeJet","Injektor-Flachstrahldüse","Verband - Feldbau","50 - 75 cm",null,2.5,8,2.5]
[1569,"AI 110 04 VS / AIC 110 04 VS",2.5,8,"sg - g",2021,null,"TeeJet","Injektor-Flachstrahldüse","Verband - Feldbau","50 - 75 cm",null,2.5,4,2.5,3]
[1581,"ALBUZ AXI 110 04",1.5,4,"g - f",2012,"nein","Saint-Gobain","Flachstrahldüse","Verband - Feldbau","50 cm"]
[1588,"ISO-F-02",1.5,5,"m - f",2011,"nein","Hardi","Flachstrahldüse","Verband - Feldbau","50 cm"]
[1589,"ISO-F-03",1.5,5,"m - f",2016,null,"Hardi","Flachstrahldüse","Verband - Feldbau","50 cm"]
[1590,"ISO-F-04",1.5,5,"m - f",2016,null,"Hardi","Flachstrahldüse","Verband - Feldbau","50 cm"]
[1591,"ISO-F-05",1.5,5,"g - m",2016,null,"Hardi","Flachstrahldüse","Verband - Feldbau","50 cm"]
[1592,"AIRTEC 35 1001",1.5,4,"-",2008,"nein","Cleanacres","Zweistoff-Flachstrahldüse","Verband - Feldbau","50 - 75 cm"]
[1596,"LU 120 04 POM",1.5,5,"m - f",2016,null,"Lechler","Flachstrahldüse","Verband - Feldbau","50 cm"]
[1597,"LU 120 05 C (Keramik)",1.5,5,"m - f",2015,null,"Lechler","Flachstrahldüse","Verband - Feldbau","50 cm"]
[1605,"ALBUZ AVI 110 04",3,7,"sg - g",2018,null,"Agrotop","Injektor-Flachstrahldüse","Verband - Feldbau","50 - 75 cm",null,3,7,3]
[1606,"ALBUZ AVI 110 03",3,7,"sg - g",2018,null,"Agrotop","Injektor-Flachstrahldüse","Verband - Feldbau","50 - 75 cm",null,3,7,3]
[1610,"TD 110 04 Keramik",2.5,10,"sg - g",2006,"nein","Agrotop","Injektor-Flachstrahldüse","Verband - Feldbau","75 cm",null,"gelöscht 10/02/2015"]
[1612,"ID 90 02 C (Keramik)",3,8,"sg - g",2011,"nein","Lechler","Injektor-Flachstrahldüse","Verband - Feldbau","75 cm"]
[1613,"AI 110 05 VS / AIC 110 05 VS",2,8,"sg - g",2018,null,"TeeJet","Injektor-Flachstrahldüse","Verband - Feldbau","50 - 75 cm",null,2,5,2,3,2,2.5]
[1618,"ID 120 05 POM",2,8,"sg - g",2016,null,"Lechler","Injektor-Flachstrahldüse","Verband - Feldbau","50 cm",null,2,8,2,8,2]
[1620,"ALBUZ AVI 110 025",3,7,"g",2017,null,"Saint-Gobain","Injektor-Flachstrahldüse","Verband - Feldbau","50 - 75 cm"]
[1631,"Airmix 110 04 KS",1,6,"sg - g",2019,null,"Agrotop","Injektor-Flachstrahldüse","Verband - Feldbau","50 - 75 cm",null,1,2,1]
[1633,"ID 120 05 C (Keramik)",2,8,"sg - g",2018,null,"Lechler","Injektor-Flachstrahldüse","Verband - Feldbau","50 cm"]
[1637,"Airmix 110 03 KS",1.5,6,"sg - g",2018,null,"Agrotop","Injektor-Flachstrahldüse","Verband - Feldbau","50 - 75 cm",null,1.5,2]
[1638,"Airmix 110 05 KS",1,6,"sg - g",2019,null,"Agrotop","Injektor-Flachstrahldüse","Verband - Feldbau","50 - 75 cm",null,1,6,1,1.5,1]
[1644,"ID 120 015 POM",3,8,"g",2015,null,"Lechler","Injektor-Flachstrahldüse","Verband - Feldbau","50 cm"]
[1645,"S Injet 02",3,8,"g",2014,"nein","Hardi","Injektor-Flachstrahldüse","Verband - Feldbau","50 cm",1548,"gelöscht 29/01/2013"]
[1646,"S Injet 025",3,8,"sg - g",2014,"nein","Hardi","Injektor-Flachstrahldüse","Verband - Feldbau","50 cm",1565,"gelöscht 29/01/2013"]
[1647,"S Injet 03",3,8,"sg - g",2007,"nein","Hardi","Injektor-Flachstrahldüse","Verband - Feldbau","50 cm",null,"gelöscht 13/01/2008"]
[1648,"S Injet 04",3,8,"sg - g",2017,"nein","Hardi","Injektor-Flachstrahldüse","Verband - Feldbau","50 cm",1536,3,5,3]
[1649,"S Injet 05",2,8,"sg - g",2007,"nein","Hardi","Injektor-Flachstrahldüse","Verband - Feldbau","50 cm",null,"gelöscht 13/01/2008"]
[1654,"AIRTEC 40 1001",1.5,4,"-",2008,"nein","Cleanacres","Zweistoff-Flachstrahldüse","Verband - Feldbau","50 - 75 cm"]
[1655,"AIRTEC 50 1001",1.5,4,"-",2008,"nein","Cleanacres","Zweistoff-Flachstrahldüse","Verband - Feldbau","75 cm"]
[1657,"Twin Fluid 35",2,6,"-",2008,"nein","John Deere","Zweistoff-Flachstrahldüse","Verband - Feldbau","50 - 75 cm"]
[1658,"Twin Fluid 42",2,6,"-",2008,"nein","John Deere","Zweistoff-Flachstrahldüse","Verband - Feldbau","50 - 75 cm"]
[1659,"ID 90 03 C (Keramik)",3,8,"sg - g",2018,null,"Lechler","Injektor-Flachstrahldüse","Verband - Feldbau","75 cm"]
[1661,"IDK 120 03 POM",1.5,6,"sg - g",2018,null,"Lechler","Injektor-Flachstrahldüse","Verband - Feldbau","50 - 75 cm",null,1.5,2]
[1662,"IDK 120 04 POM",1,6,"sg - g",2018,null,"Lechler","Injektor-Flachstrahldüse","Verband - Feldbau","50 - 75 cm",null,1,3,1]
[1663,"IDK 120 05 POM",1,6,"sg - g",2018,null,"Lechler","Injektor-Flachstrahldüse","Verband - Feldbau","50 - 75 cm",null,1,4,1,1.5,1]
[1683,"IDK 120 025 POM",1.5,6,"sg - g",2019,null,"Lechler","Injektor-Flachstrahldüse","Verband - Feldbau","50 - 75 cm",null,1.5,2]
[1688,"ISO LD 110 015",2,5,"g - f",2009,"nein","Hardi","Flachstrahldüse","Verband - Feldbau","50 cm"]
[1689,"ISO LD 110 02",2,5,"g - m",2009,"nein","Hardi","Flachstrahldüse","Verband - Feldbau","50 cm"]
[1690,"ISO LD 110 025",2,5,"g - m",2009,"nein","Hardi","Flachstrahldüse","Verband - Feldbau","50 cm"]
[1691,"ISO LD 110 03",2,5,"g - m",2009,"nein","Hardi","Flachstrahldüse","Verband - Feldbau","50 cm"]
[1692,"ISO LD 110 04",2,5,"sg - m",2015,null,"Hardi","Flachstrahldüse","Verband - Feldbau","50 cm"]
[1993,"ISO LD 110 05",1.5,5,"sg - g",2017,null,"Hardi","Flachstrahldüse","Verband - Feldbau","50 cm"]
[1695,"IDN 120 025 POM",2,8,"sg - g",2019,null,"Lechler","Injektor-Flachstrahldüse","Verband - Feldbau","50 cm",null,2,6,2,3,2]
[1696,"XRC 110025 VS",1.5,4,"m - f",2016,null,"TeeJet","Flachstrahldüse","Verband - Feldbau","50 cm"]
[1705,"AirMix 110-025 NoDrift",2.5,8,"sg - g",2017,null,"Agrotop","Injektor-Flachstrahldüse","Verband - Feldbau","50 cm",null,2.5,6]
[1706,"AirMix 110-03 NoDrift",3,8,"sg - g",2017,null,"Agrotop","Injektor-Flachstrahldüse","Verband - Feldbau","50 cm",null,3,4]
[1707,"AirMix 110-04 NoDrift",2,8,"sg - g",2015,null,"Agrotop","Injektor-Flachstrahldüse","Verband - Feldbau","50 cm",null,2,8,2,2.5]
[1710,"ISO Minidrift MD-025-110",1.5,6,"sg - g",2009,"nein","Hardi","Injektor-Flachstrahldüse","Verband - Feldbau","50 - 75 cm",null,1.5,2]
[1711,"ISO Minidrift MD-03-110",1.5,6,"sg - g",2009,"nein","Hardi","Injektor-Flachstrahldüse","Verband - Feldbau","50 - 75 cm",null,1.5,2]
[1712,"ISO Minidrift MD-04-110",1,6,"sg - g",2009,"nein","Hardi","Injektor-Flachstrahldüse","Verband - Feldbau","50 - 75 cm",null,1,3,1]
[1713,"ISO Minidrift MD-05-110",1,6,"sg - g",2009,"nein","Hardi","Injektor-Flachstrahldüse","Verband - Feldbau","50 - 75 cm"]
[1717,"IDN 120 03 POM",2,8,"sg - g",2020,null,"Lechler","Injektor-Flachstrahldüse","Verband - Feldbau","50 cm",null,2,8,2,3.5,2]
[1718,"IDK N 120 04 POM",1,6,"sg - g",2016,null,"Lechler","Injektor-Flachstrahldüse","Verband - Feldbau","50 cm",null,1,3,1,1.5,1]
[1723,"AIC 110 04 VP",2.5,8,"sg - g",2017,null,"TeeJet","Injektor-Flachstrahldüse","Verband - Feldbau","50 - 75 cm"]
[1724,"AIC 110 03 VP",2.5,8,"sg - g",2017,null,"TeeJet","Injektor-Flachstrahldüse","Verband - Feldbau","50 - 75 cm"]
[1725,"AIC 110 05 VP",2,8,"sg - g",2017,null,"TeeJet","Injektor-Flachstrahldüse","Verband - Feldbau","50 - 75 cm"]
[1726,"AIC 110 025 VP",2,8,"sg - g",2014,"???","TeeJet","Injektor-Flachstrahldüse","Verband - Feldbau","50 - 75 cm",null,2,4,2]
[1736,"AirJet 35",2,6,"sg - g",2020,null,"TeeJet","Zweistoff-Flachstrahldüse","Verband - Feldbau","50 - 75 cm","siehe 1867"]
[1737,"TTI 110 025 VP",1.5,7,"sg",2017,null,"TeeJet","Injektor-Flachstrahldüse","Verband - Feldbau","50 - 75 cm",null,1.5,5,1.5,2.5,1.5]
[1738,"TTI 110 03 VP",1.5,7,"sg - g",2017,null,"TeeJet","Injektor-Flachstrahldüse","Verband - Feldbau","50 - 75 cm",null,1.5,5,1.5,2.5,1.5,2]
[1739,"TTI 110 04 VP",1.5,7,"sg",2017,null,"TeeJet","Injektor-Flachstrahldüse","Verband - Feldbau","50 - 75 cm",null,1.5,5,1.5,3,1.5,2]
[1740,"TTI 110 05 VP",1,7,"sehr grob",2017,null,"TeeJet","Injektor-Flachstrahldüse","Verband - Feldbau","50 - 75 cm",null,1,5,1,3,1,2]
[1743,"AirJet 42",2,6,"sg - g",2020,null,"TeeJet","Zweistoff-Flachstrahldüse","Verband - Feldbau","50 - 75 cm"]
[1744,"AirJet 52",1,6,"sg - f",2020,null,"TeeJet","Zweistoff-Flachstrahldüse","Verband - Feldbau","50 - 75 cm"]
[1750,"Albuz AVI Twin 110 04",2,8,"sg - g",2017,null,"Agrotop","Injektor-Doppelflachstrahl","Verband - Feldbau","50 cm",null,2,4,2,2.5]
[1753,"IS 80 025 POM",3,8,"sg - g",2019,null,"Lechler","Injektor-Flachstrahldüse","Verband - Feldbau Randbehandlung","siehe ID 120 025"]
[null,"IS 025 + ID 025",null,null,null,{"$f":"F101","v":2019},null,null,null,null,null,null,2,5]
[null,"IS 025 + IDN 025",null,null,null,2019,null,null,null,null,null,null,2,6,2,3,2]
[null,"IS 025 + ID-120-025 C",null,null,null,2019,null,null,null,null,null,null,2,6,3,4,2,2.5]
[null,"IS 025 + ID-120-025 POM",null,null,null,2019,null,null,null,null,null,null,2,7,3,4,2,2.5]
[1754,"IS 80 03 POM",3,8,"sg - g",2019,null,"Lechler","Injektor-Flachstrahldüse","Verband - Feldbau Randbehandlung","siehe ID 120 03"]
[null,"IS 03 + ID 03",null,null,null,{"$f":"F106","v":2019},null,null,null,null,null,null,3,8,3]
[null,"IS 03 + IDN 03",null,null,null,2019,null,null,null,null,null,null,3,8,3,3.5,2]
[null,"IS 03 + ID-120-03 C",null,null,null,2019,null,null,null,null,null,null,3,8,3,4,2,2.5]
[null,"IS 03 + ID-120-03 POM",null,null,null,2019,null,null,null,null,null,null,3,8,3,4,2,3]
[1755,"IS 80 04 POM",3,8,"sg - g",2019,null,"Lechler","Injektor-Flachstrahldüse","Verband - Feldbau Randbehandlung","siehe ID 120 04"]
[null,"IS 04 + ID 04",null,null,null,{"$f":"F111","v":2019},null,null,null,null,null,null,2,5,2,3]
[null,"IS 04 + ID-120-04 C",null,null,null,2019,null,null,null,null,null,null,2,8,2,6,2,2.5]
[null,"IS 04 + ID-120-04POM",null,null,null,2019,null,null,null,null,null,null,2,8,2,6,2,3]
[1756,"AIUB 85 025 VS",2.5,8,"sg - g",2017,null,"TeeJet","Injektor-Flachstrahldüse","Verband - Feldbau Randbehandlung","siehe AI/AIC 110 03"]
[null,"AIUB 85 025 + AI/AIC 03",null,null,null,{"$f":"F115","v":2017},null,null,null,null,null,null,2.5,8,2.5]
[1757,"AIUB 85 03 VS",2.5,8,"sg - g",2017,null,"TeeJet","Injektor-Flachstrahldüse","Verband - Feldbau Randbehandlung","siehe AI/AIC 110 04"]
[null,"AIUB 85 03 + AI/AIC 04",null,null,null,{"$f":"F117","v":2017},null,null,null,null,null,null,2.5,4,2.5,3]
[1758,"AIUB 85 04 VS",2,8,"sg - g",2017,null,"TeeJet","Injektor-Flachstrahldüse","Verband - Feldbau Randbehandlung","siehe AI/AIC 110 05"]
[null,"AIUB 85 04 + 1/4 TTJ 06-VP",null,null,null,{"$f":"F119","v":2017}]
[null,"AIUB 85 04 + AI/AIC 05",null,null,null,{"$f":"F119","v":2017},null,null,null,null,null,null,2,5,2,3,2,2.5]
[1762,"Minidrift MD 02",2,6,"sg - g",2017,null,"Hardi","Injektor-Flachstrahldüse","Verband - Feldbau","50 cm"]
[1767,"TTI 110 02 VP",2,7,"sg",2018,null,"TeeJet","Injektor-Flachstrahldüse","Verband - Feldbau","50 - 75 cm",null,2,5,2,2.5]
[1768,"AIXR 110 03",1.5,6,"sg - g",2019,null,"TeeJet","Injektor-Flachstrahldüse","Verband - Feldbau","50 - 75 cm",null,1.5,2]
[1769,"AIXR 110 04",1.5,6,"sg - g",2019,null,"TeeJet","Injektor-Flachstrahldüse","Verband - Feldbau","50 - 75 cm",null,1.5,3,1.5]
[1770,"TTJ 60 - 110 03 VP",1.5,6,"sg - m",2018,null,"TeeJet","Doppelflachstrahldüse","Verband - Feldbau","50 cm"]
[1771,"TTJ 60 - 110 04 VP",1,6,"sg - m",2018,null,"TeeJet","Doppelflachstrahldüse","Verband - Feldbau","50 cm"]
[1778,"ULD 03\n PSULDQ2003A",2.5,8,"sg - m",2020,null,"Hypro","Flachstrahldüse","Verband - Feldbau","50 cm",null,2.5,8]
[1779,"ULD 04\nPSULDQ2004A",2.5,8,"sg - g",2020,null,"Hypro","Flachstrahldüse","Verband - Feldbau","50 cm",null,2.5,8,2.5,8,2.5]
[1780,"ULD 05",2.5,8,"sg - g",2012,"nein","Hypro","Flachstrahldüse","Verband - Feldbau","50 cm",null,2.5,8,2.5,8,2.5,8]
[1781,"Minidrift MD 025",1.5,6,"sg - g",2017,null,"Hardi","Injektor-Flachstrahldüse","Verband - Feldbau","50 cm",null,1.5,2]
[1782,"Minidrift MD 03",1,6,"sg - g",2017,null,"Hardi","Injektor-Flachstrahldüse","Verband - Feldbau","50 cm",null,1,2,1]
[1783,"Minidrift MD 04",1,6,"sg - g",2017,null,"Hardi","Injektor-Flachstrahldüse","Verband - Feldbau","50 cm",null,1,3,1,null,1]
[1784,"Minidrift MD 05",1,6,"sg - g",2018,null,"Hardi","Injektor-Flachstrahldüse","Verband - Feldbau","50 cm",null,1,6,1,1.5,1]
[1786,"IDK-S 80-025 POM",1.5,6,"sg - g",2017,null,"Lechler","Injektor-Flachstrahldüse","Verband - Feldbau Randbehandlung","siehe siehe IDK 120 025"]
[null,"IDKS 025 + IDK 025",null,null,null,{"$f":"F135","v":2017},null,null,null,null,null,null,1.5,2]
[null,"IDKS 025 + IDKT 025",null,null,null,{"$f":"F135","v":2017},null,null,null,null,null,null,1.5,3]
[1787,"IDK-S 80-03 POM",1.5,6,"sg - g",2017,null,"Lechler","Injektor-Flachstrahldüse","Verband - Feldbau Randbehandlung","siehe siehe IDK 120 03"]
[null,"IDKS 03 + IDK 03",null,null,null,{"$f":"F138","v":2017},null,null,null,null,null,null,1.5,2]
[null,"IDKS 03 + IDKN 03",null,null,null,{"$f":"F138","v":2017},null,null,null,null,null,null,1.5,3,1.5,null,1]
[null,"IDKS 03 + IDKT 03",null,null,null,{"$f":"F138","v":2017},null,null,null,null,null,null,1.5,4,1.5,2,1.5]
[1788,"IDK-S 80-04 POM",1,6,"sg - g",2017,null,"Lechler","Injektor-Flachstrahldüse","Verband - Feldbau Randbehandlung","siehe siehe IDK 120 04"]
[null,"IDKS 04 + IDK 04",null,null,null,{"$f":"F142","v":2017},null,null,null,null,null,null,1,3,1]
[null,"IDKS 04 + IDKN 04",null,null,null,{"$f":"F142","v":2017},null,null,null,null,null,null,1,3,1,1.5,1]
[null,"IDKS 04 + IDKT 04",null,null,null,{"$f":"F142","v":2017},null,null,null,null,null,null,1,2,1,1.5,1]
[1789,"IDK-S 80-05 POM",1,6,"sg - g",2017,null,"Lechler","Injektor-Flachstrahldüse","Verband - Feldbau Randbehandlung","siehe siehe IDK 120 05"]
[null,"IDKS 05 + IDK 05",null,null,null,{"$f":"F146","v":2017},null,null,null,null,null,null,1,4,1,1.5,1]
[null,"IDKS 05 + IDKT 05",null,null,null,{"$f":"F146","v":2017},null,null,null,null,null,null,1,3,1,1.5,1]
[1791,"AIUB 85 02 VS",2,8,"sg - g",2018,null,"TeeJet","Injektor-Flachstrahldüse","Verband - Feldbau Randbehandlung","siehe AI/AIC 110 025"]
[null,"AIUB 85 02 VS + AI/AIC 110 025",null,null,null,{"$f":"F149","v":2018},null,null,null,null,null,null,2,4,2]
[1795,"AIXR 110 05",1,6,"sg - g",2019,null,"TeeJet","Injektor-Flachstrahldüse","Verband - Feldbau","50 - 75 cm",null,1,6,1,2.5,1,1.5]
[1799,"IDK N 120 03 POM",1,6,"sg - g",2018,null,"Lechler","Injektor-Flachstrahldüse","Verband - Feldbau",null,null,1,3,1,1.5,1]
[1800,"IDK 120 03 C",2,6,"sg - g",2018,null,"Lechler","Injektor-Flachstrahldüse","Verband - Feldbau"]
[1801,"IDK 120 04 C",1.5,6,"sg - g",2018,null,"Lechler","Injektor-Flachstrahldüse","Verband - Feldbau",null,null,1.5,3,1.5,2,1.5]
[1802,"IDK 120 05 C",1.5,6,"sg - g",2018,null,"Lechler","Injektor-Flachstrahldüse","Verband - Feldbau",null,null,1.5,4,1.5]
[1811,"Guardian Air 035\nPSLDAQ10035",1,6,"sg - g",2020,null,"Hypro","Injektor Flachstrahl","Verband-Feldbau","50 cm"]
[1812,"Guardian Air 02",1,6,"sg - m",2018,null,"Hypro","Injektor Flachstrahl","Verband-Feldbau","50 cm",null,1,2]
[1813,"Guardian Air 03\nPSLDAQ1003",1.5,6,"sg-g",2020,null,"Hypro","Injektor Flachstrahl","Verband-Feldbau","50 cm",null,1.5,2.5,1.5]
[1814,"Guardian Air 04\nPSLDAQ 1004",1,6,"sg - g",2021,null,"Hypro","Injektor-Flachstrahldüse","Verband-Feldbau","50 cm",null,1,2.5,1,1.5]
[1815,"Guardian Air 05\nPSLDAQ 1005",1,6,"sg - g",2021,null,"Hypro","Injektor-Flachstrahldüse","Verband-Feldbau","50 cm",null,1,2.5,1,1.5]
[1817,"Guardian Air 025\nPSLDAQ10025",1,6,"sg - g",2020,null,"Hypro","Injektor-Flachstrahldüse","Verband-Feldbau","50 cm",null,1,2.5]
[1819,"Hispeed 02",2,8,"sg - g",2014,null,"Agrotop","Injektor-Doppelflachstrahldüe","Verband - Feldbau","50 cm",null,2,5,2,3]
[1820,"Hispeed 03",2.5,8,"sg - g",2020,null,"Agrotop","Injektor-Doppelflachstrahl","Verband - Feldbau","50 cm",null,2.5,4,2.5]
[1821,"Hispeed 04",2,8,"sg - g",2021,null,"Agrotop","Injektor-Doppelflachstrahl","Verband - Feldbau","50 cm",null,2,6,2,3,2]
[1822,"HiSpeed 05",2,8,"sg - g",2022,null,"Agrotop","Injektor-Doppelflachstrahldüse","Verband-Feldbau","50 cm",null,2,8,2,3]
[1832,"Guardian GRD 120 08",1.5,8,"sg - m",2014,null,"Hypro","Flachstrahldüse","Verband - Feldbau","50 cm"]
[1836,"IDKT 120-05 C",1,6,"sg - g",2019,null,"Lechler","Injektor-Doppelflachstrahl","Verband - Feldbau","50 cm",null,1,4,1,1.5,1]
[1837,"IDKT 120-04 C",1,6,"sg - g",2019,null,"Lechler","Injektor-Doppelflachstrahl","Verband - Feldbau","50 cm",null,1,3,1,1.5,1]
[1847,"AITTJ 60 - 110 03 VP",2,8,"sg - g",2016,null,"TeeJet","Injektor-Doppelflachstrahl","Verband - Feldbau","50 cm",null,2,5,2,2.5]
[1848,"AITTJ 60 - 110 04 VP",1.5,8,"sg - g",2016,null,"TeeJet","Injektor-Doppelflachstrahl","Verband - Feldbau","50 cm",null,1.5,4,1.5,2,1.5,2]
[1852,"VP 110 03",2,5,null,2021,null,"Hypro","Flachstrahldüse","Verband - Feldbau","50 cm"]
[1853,"VP 110 04",2,5,null,2021,null,"Hypro","Flachstrahldüse","Verband - Feldbau","50 cm"]
[1854,"VP 110 05",2,5,null,2021,null,"Hypro","Flachstrahldüse","Verband - Feldbau","50 cm"]
[1860,"LD 04 F 110",1,5,null,2015,null,"Hypro","Flachstrahldüse","Verband - Feldbau","50 cm"]
[1861,"LD 05 F 110",1,5,null,2015,null,"Hypro","Flachstrahldüse","Verband - Feldbau","50 cm"]
[1862,"LD 06 F 110",1.5,5,null,2015,null,"Hypro","Flachstrahldüse","Verband - Feldbau","50 cm"]
[1865,"IDKT 120-03 C",1.5,6,"sg - g",2021,null,"Lechler","Injektor-Doppelflachstrahl","Verband - Feldbau","50 cm",null,1.5,3,1.5]
[1867,"Twin Fluid TK 10/35",2,6,null,2020,null,"John Deere","Zweistoff Flachstrahl","Verband - Feldbau","50 - 75 cm",1736]
[1868,"Twin Fluid TK 10/42",2,6,null,2020,null,"John Deere","Zweistoff Flachstrahl","Verband - Feldbau","75 cm",1743]
[1872,"Guardian Air Twin 110 025\nPSGAT10025A",2,6,null,2017,null,null,null,null,null,null,2,2.5]
[1874,"Guardian Air Twin 110 03\nPSGAT1003A",2,6,null,2017,null,null,null,null,null,null,2,3]
[1875,"Guardian Air Twin 110 04\n PSGAT1004A",2,6,null,2017,null,null,null,null,null,null,2,2.5]
[1876,"Guardian Air Twin 110 05\n PSGAT1005A",2,6,null,2017,null,null,null,null,null,null,2,3]
[1877,"Guardian Air Twin 110 06\n PSGAT1006A",2,6,null,2017,null,null,null,null,null,null,2,4]
[1878,"Guardian Air Twin 110 08\n PSGAT1008A",2,6,null,2017]
[1882,"IDKT 120-03 POM",1,6,"sg",2016,null,"Lechler","Injektor-Doppelflachstrahl","Verband - Feldbau","50 cm",null,1,4,1,2,1,1.5]
[1883,"IDKT 120-04 POM",1,6,"sg - g",2016,null,"Lechler","Injektor-Doppelflachstrahl","Verband - Feldbau","50 cm",null,1,2,1,1.5,1]
[1884,"IDKT 120-05 POM",1,6,"sg - g",2016,null,"Lechler","Injektor-Doppelflachstrahl","Verband - Feldbau","50 cm",null,1,3,1,1.5,1]
[1891,"Airmix OC 80-025 + Airmix 110 03",1.5,8,"sg - g",2016,null,"Agrotop",null,null,null,null,1.5,2]
[null,"Airmix OC 025 + CVI Twin  03",null,null,null,2020,null,null,null,null,null,null,1.5,6,1.5,2,1.5,1.5]
[null,"OC 025 + Avi 03",null,null,null,2020,null,null,null,null,null,null,3,7,3,3]
[null,"OC 025 + HiSpeed 03",null,null,null,2020,null,null,null,null,null,null,2.5,4,2.5,2.5]
[1892,"Airmix OC 80-03 + Airmix 110 04",1,8,"sg - g",2016,null,"Agrotop",null,null,null,null,1,2,1]
[null,"Airmix OC 80-03 + AVI Twin 110 04",2,8,null,2020,null,null,null,null,null,null,2,4,2.5,2.5]
[null,"OC 03 + CVI Twin 04",null,null,null,2020,null,null,null,null,null,null,1.5,6,1.5,6,1.5,1.5]
[null,"OC 03 + AVI 110 04",null,null,null,2020,null,null,null,null,null,null,2.5,7,2.5,3]
[null,"OC 03 + HiSpeed 04",null,null,null,2020,null,null,null,null,null,null,2,6,2,3,2,2]
[1893,"Airmix OC 80-04 + Airmix 110 05",1,6,"sg - g",2016,null,"Agrotop",null,null,null,null,1,6,1,1.5,1]
[null,"OC 04 + HiSpeed 05",null,null,null,2020,null,null,null,null,null,null,2,8,2,3]
[null,"OC 04 + CVI Twin 05",null,null,null,2020,null,null,null,null,null,null,1.5,6,1.5,6]
[1896,"TurboDrop HiSpeed 110-025",2.5,8,"sg",2016,null,"Agrotop","Injektor-Doppelflachstrahl","Verband - Feldbau","50 cm",null,2.5,5,2.5,3.5,2.5]
[1903,"ALBUZ CVI Twin 110-03",1.5,6,"sg - g",2017,null,"Agrotop","Injektor-Doppelflachstrahl","Verband - Feldbau","50 cm",null,1.5,6,1.5,2,1.5]
[1904,"ALBUZ CVI Twin 110-025",1.5,6,"sg - g",2018,null,"Agrotop","Injektor-Doppelflachstrahl","Verband - Feldbau","50 cm",null,1.5,3,1.5,2]
[1905,"ALBUZ CVI Twin 110-04",1.5,6,"sg - g",2017,null,"Agrotop","Injektor-Doppelflachstrahl","Verband - Feldbau","50 cm",null,1.5,6,1.5,6,1.5]
[1907,"Minidrift Duo 110-03",1,6,"sg",2016,null,"Lechler","Injektor-Doppelflachstrahl","Verband - Feldbau","50 cm",null,1,4,1,2,1,1.5]
[1908,"Minidrift Duo 110-04",1,6,"sg - g",2016,null,"Lechler","Injektor-Doppelflachstrahl","Verband - Feldbau","50 cm",null,1,2,1,1.5,1]
[1909,"Minidrift Duo 110-05",1,6,"sg - g",2016,null,"Lechler","Injektor-Doppelflachstrahl","Verband - Feldbau","50 cm",null,1,3,1,1.5,1]
[1911,"IDKT 120-02 POM",1.5,6,"sg - g",2017,null,"Lechler","Injektor-Doppelflachstrahl","Verband - Feldbau","50 cm",null,1.5,5,1.5,3,1.5]
[1912,"IDKT 120-025 POM",1.5,6,"sg - g",2017,null,"Lechler","Injektor-Doppelflachstrahl","Verband - Feldbau","50 cm",null,1.5,3,1.5,2,1.5]
[1927,"ALBUZ CVI Twin 110-02",1.5,6,"sg - g",2018,null,"Agrotop","Injektor-Doppelflachstrahl","Verband - Feldbau","50 cm",null,1.5,3]
[1928,"ALBUZ CVI Twin 110-05",1.5,6,"sg - g",2018,null,"Agrotop","Injektor-Doppelflachstrahl","Verband - Feldbau","50 cm",null,1.5,6,1.5,6]
[1929,"Turbodrop TD 80 015",4,8,null,2020,null,"Agrotop","Injektor Flachstrahl","Verband-Feldbau","40 cm (25 cm i.G.)"]
[1932,"Mischbestückung IDKT 120-03\nPOM + IDKN 120-03 POM",1,6,"sg",2017,null,"Lechler","Doppelflachstrahldüse + 6 x\nInjektor Flachstrahl","Verband - Feldbau","50 cm",null,1,3,1,1.5,1]
[1933,"Mischbestückung IDKT 120-04\nPOM + IDKN 120-04 POM",1,6,"sg - g",2017,null,"Lechler","Doppelflachstrahldüse + 6 x\nInjektor Flachstrahl","Verband - Feldbau","50 cm",null,1,2,1,1.5,1]
[1934,"Mischbestückung IDKT 120-05\nPOM + IDK 120-05 POM",1,6,"sg - g",2017,null,"Lechler","Doppelflachstrahldüse + 6 x\nInjektor Flachstrahl","Verband - Feldbau","50 cm",null,1,3,1,1.5,1]
[1935,"IDKT 120-06 POM",1,6,"sg",2018,null,"Lechler","Injektor-Doppelflachstrahl","Verband - Feldbau","50 cm",null,1,6,1,2,1]
[1936,"IDK 120-06 POM",1,6,"sg",2018,null,"Lechler","Injektor Flachstrahl","Verband - Feldbau","50 cm",null,1,6,1,3,1]
[1937,"Mischbestückung IDKT 120-06\nPOM + IDKN 120-06 POM",1,6,"sg - g",2018,null,"Lechler","Doppelflachstrahldüse + 6 x\nInjektor Flachstrahl","Verband - Feldbau","50 cm",null,1,6,1,2,1]
[1945,"Syngenta 130-05 POM",1.5,8,"sg",2018,null,"Lechler","Flachstrahldüse","Verband - Feldbau (Vorauflauf)","50 cm",null,1.5,8,1.5,8,1.5,6,1.5,5]
[1947,"TTI 110 06 VP",1,7,"sg - g",2018,null,"TeeJet","Injektor-Flachstrahldüse","Verband - Feldbau","50 cm",null,1,7,1,4,1,3]
[1948,"1/4 TTJ 06-VP mit QJ 4676-90",1,6,"sg",2018,null,"TeeJet","Flachstrahldüse","Verband - Feldbau","50 cm",null,1,6,1,4,1,2]
[1951,"AITTJ60 110 03 + AI/AIC 110 03",2,8,"sg - g",2019,null,"TeeJet","Doppelflachstrahldüse + 6 x\nInjektor Flachstrahl","Verband - Feldbau","50 cm",null,2,5,2.5]
[1953,"AITTJ60 110 04 + AI/AIC 110 04",2,8,"sg - g",2019,null,"TeeJet","Doppelflachstrahldüse + 6 x\nInjektor Flachstrahl","Verband - Feldbau","50 cm",null,2,5,2]
[1964,"ALBUZ CVI 80-02",3,8,null,2019,null,"Agrotop","Injektor Flachstrahl","Verband - Feldbau","40 cm",null,3,8,3,8,3,8]
[1965,"ID-120-025 POM (\"ID3\")",2,8,"sg - g",2019,null,"Lechler","Injektor Flachstrahl","Verband - Feldbau","50 cm",null,2,7,2,4,2,2.5]
[1966,"ID-120-05 POM (\"ID3\")",2,8,null,2019,null,"Lechler","Injektor Flachstrahl","Verband - Feldbau","50 cm",null,2,8,2,6,2,3]
[1968,"ID-120-03 POM (\"ID3\")",2,8,"sg",2019,null,"Lechler","Injektor Flachstrahl","Verband - Feldbau","50 cm",null,2,8,2,4,2,3]
[1969,"ID-120-02 POM (\"ID3\")",2.5,8,null,2020,null,"Lechler","Injektor Flachstrahl","Verband - Feldbau","50 cm",null,2.5,6]
[1970,"ID-120-03 C (Keramik) (\"ID3\")",2,8,"sg - g",2019,null,"Lechler","Injektor Flachstrahl","Verband - Feldbau","50 cm",null,2,8,2,4,2,2.5]
[1971,"ID-120-04 C (Keramik) (\"ID3\")",2,8,"sg - g",2019,null,"Lechler","Injektor Flachstrahl","Verband - Feldbau","50 cm",null,2,8,2,6,2,2.5]
[1972,"ID-120-04 POM (\"ID3\")",2,8,null,2019,null,"Lechler","Injektor Flachstrahl","Verband - Feldbau","50 cm",null,2,8,2,6,2,3]
[1973,"ID-120-05 C (Keramik) (\"ID3\")",2,8,null,2019,null,"Lechler","Injektor Flachstrahl","Verband - Feldbau","50 cm",null,2,8,2,8,2,4]
[1974,"ID-120-025 C (Keramik) (\"ID3\")",2,8,"sg - g",2019,null,"Lechler","Injektor Flachstrahl","Verband - Feldbau","50 cm",null,2,6,2,4,2.5]
[1981,"PRE 130 05-POM",1.5,8,"sg",2018,null,"Lechler","Flachstrahldüse","Verband - Feldbau (Vorauflauf)","50 cm","G 1945",1.5,8,1.5,8,1.5,6,1.5,5]
[1988,"Guardian Air Twin 035\nPSGAT10035A ",1.5,6,null,2020,null,"HYPRO","Injektor-Doppelflachstrahl","Verband - Feldbau","50 cm",null,1.5,3,1.5,2]
[1996,"Mischbestückung Airmix OC 80-02\nmit CVI Twin 025",null,null,null,2020,null,null,null,null,null,null,1.5,3,1.5,2]
[1996,"Mischbestückung Airmix OC 80-02\nmit HiSpeed 025",null,null,null,2020,null,null,null,null,null,null,2.5,6,2.5,3.5]
[1998,"IDK/IDKT 120 06 + IDKS 80 06",null,null,null,2020,null,null,null,null,null,null,1,6,1,3,1,1]
[1999,"ID 02 + IS 02",null,null,null,2020,null,null,null,null,null,null,3,3.5]
[null,"ID-02 + IS 02 (ID3)",null,null,null,2020,null,null,null,null,null,null,3,6]
[2000,"ID-120-05 + IS 80-05",null,null,null,2020,null,null,null,null,null,null,2,8,2,6,2,3]
[null,"ID-120-05 C + IS 05",null,null,null,2020,null,null,null,null,null,null,2,8,2,8,2,4]
[null,"ID 120 05 + IS 05",null,null,null,2020,null,null,null,null,null,null,2,8,2,8,2,2]
[]
[2015,"IDTA 120-025 C",2,8,null,2021,null,"Lechler","Injektor-Doppelflachstrahl","Verband - Feldbau","50 cm"]
[2016,"IDTA 120-03 C",2,8,null,2021,null,"Lechler","Injektor-Doppelflachstrahl","Verband - Feldbau","50 cm"]
[2017,"IDTA 120-04 C",2,8,null,2021,null,"Lechler","Injektor-Doppelflachstrahl","Verband - Feldbau","50 cm"]
[2018,"IDTA 120-05 C",2,8,null,2021,null,"Lechler","Injektor-Doppelflachstrahl","Verband - Feldbau","50 cm"]
[2019,"IDTA 120-025 C \n+ ID-120-025 POM oder ID-120-025 C",2,8,null,2021,null,"Lechler","Doppelflachstrahldüse + 6 x\nInjektor Flachstrahl","Verband - Feldbau","50 cm"]
[2020,"IDTA 120-03 C \n+ ID-120-03 POM oder ID-120-03 C ",2,8,null,2021,null,"Lechler","Doppelflachstrahldüse + 6 x\nInjektor Flachstrahl","Verband - Feldbau","50 cm"]
[2021,"IDTA 120-04 C \n+ ID-120-04 POM oder ID-120-04 C",2,8,null,2021,null,"Lechler","Doppelflachstrahldüse + 6 x\nInjektor Flachstrahl","Verband - Feldbau","50 cm"]
[2022,"IDTA 120-05 C \n+ ID-120-05 POM oder ID-120-05 C ",2,8,null,2021,null,"Lechler","Doppelflachstrahldüse + 6 x\nInjektor Flachstrahl","Verband - Feldbau","50 cm"]

{"sheet":"Randdüsen","index":2,"n_rows":32,"n_cols":16,"rows_kept":32,"cut":false,"hidden":false,"merged":[[32,2,35,3],[6,1,6,3],[6,4,6,6],[6,7,6,9],[6,10,6,12],[7,1,7,3],[7,4,7,6],[7,7,7,9],[7,10,7,12],[19,1,19,3],[19,4,19,6],[19,7,19,9],[19,10,19,12],[31,0,31,15],[1,6,1,7],[8,1,8,15],[6,13,6,15],[7,13,7,15]]}
[]
[200,"gewünschte Wasseraufwandmenge in l/ha",null,null,null,null,"zurück zur\nÜbersicht"]
["Daten in die gelben Felder eintragen"]
[8,"Fahrgeschwindigkeit in km/hWasseraufwandmenge in l/ha"]
[]
[]
["Düsengröße/-farbe",{"$f":"\"025\"","v":"025"},null,null,{"$f":"\"03\"","v":"03"},null,null,{"$f":"\"04\"","v":"04"},null,null,{"$f":"\"05\"","v":"05"},null,null,{"$f":"\"06\"","v":"06"}]
["Spritzdruck",{"$f":"IF(POWER((($A$2*0.5*$A$4)/600)*SQRT(3)/1,2)<1,\"\",POWER((($A$2*0.5*$A$4)/600)*SQRT(3)/1,2))","v":5.333333333333333},{"$f":"IF(POWER((($D$6*0.5*$H$6)/600)*SQRT(3)/1,2)<1,\"\",POWER((($D$6*0.5*$H$6)/600)*SQRT(3)/1,2))","v":""},{"$f":"IF(POWER((($D$6*0.5*$H$6)/600)*SQRT(3)/1,2)<1,\"\",POWER((($D$6*0.5*$H$6)/600)*SQRT(3)/1,2))","v":""},{"$f":"IF(POWER((($A$2*0.5*$A$4)/600)*SQRT(3)/1.2,2)<1,\"\",POWER((($A$2*0.5*$A$4)/600)*SQRT(3)/1.2,2))","v":3.7037037037037037},{"$f":"IF(POWER((($D$6*0.5*$H$6)/600)*SQRT(3)/1,2)<1,\"\",POWER((($D$6*0.5*$H$6)/600)*SQRT(3)/1,2))","v":""},{"$f":"IF(POWER((($D$6*0.5*$H$6)/600)*SQRT(3)/1,2)<1,\"\",POWER((($D$6*0.5*$H$6)/600)*SQRT(3)/1,2))","v":""},{"$f":"IF(POWER((($A$2*0.5*$A$4)/600)*SQRT(3)/1.6,2)<1,\"\",POWER((($A$2*0.5*$A$4)/600)*SQRT(3)/1.6,2))","v":2.083333333333333},{"$f":"IF(POWER((($D$6*0.5*$H$6)/600)*SQRT(3)/1,2)<1,\"\",POWER((($D$6*0.5*$H$6)/600)*SQRT(3)/1,2))","v":""},{"$f":"IF(POWER((($D$6*0.5*$H$6)/600)*SQRT(3)/1,2)<1,\"\",POWER((($D$6*0.5*$H$6)/600)*SQRT(3)/1,2))","v":""},{"$f":"IF(POWER((($A$2*0.5*$A$4)/600)*SQRT(3)/2,2)<1,\"\",POWER((($A$2*0.5*$A$4)/600)*SQRT(3)/2,2))","v":1.3333333333333333},{"$f":"IF(POWER((($D$6*0.5*$H$6)/600)*SQRT(3)/1,2)<1,\"\",POWER((($D$6*0.5*$H$6)/600)*SQRT(3)/1,2))","v":""},{"$f":"IF(POWER((($D$6*0.5*$H$6)/600)*SQRT(3)/1,2)<1,\"\",POWER((($D$6*0.5*$H$6)/600)*SQRT(3)/1,2))","v":""},{"$f":"IF(POWER((($A$2*0.5*$A$4)/600)*SQRT(3)/2.4,2)<1,\"\",POWER((($A$2*0.5*$A$4)/600)*SQRT(3)/2.4,2))","v":""},{"$f":"IF(POWER((($D$6*0.5*$H$6)/600)*SQRT(3)/1,2)<1,\"\",POWER((($D$6*0.5*$H$6)/600)*SQRT(3)/1,2))","v":""},{"$f":"IF(POWER((($D$6*0.5*$H$6)/600)*SQRT(3)/1,2)<1,\"\",POWER((($D$6*0.5*$H$6)/600)*SQRT(3)/1,2))","v":""}]
["Volumenstrom/Düse",{"$f":"(1*SQRT(B8)/SQRT(3))","v":1.3333333333333333}]
["Abdriftminderungs-\nklasse*",50,75,90,50,75,90,50,75,90,50,75,90,50,75,90]
["Randdüsen (im Volumenstrom angepasst)"]
["IDK 120° (im Gestänge - Normal)\n+ IDKS 80° (Randdüse)",{"$f":"IF($E$8>6,\"\",Abdriftminderungsklasse!E55)","v":"1,5 - 2 bar"},null,null,{"$f":"IF($E$8>6,\"\",Abdriftminderungsklasse!H55)","v":"1,5 - 2 bar"},null,null,{"$f":"IF($E$8>6,\"\",Abdriftminderungsklasse!K55)","v":"1 - 3 bar"},{"$f":"IF($E$8>6,\"\",Abdriftminderungsklasse!L55)","v":"1 bar"},null,{"$f":"IF($E$8>6,\"\",Abdriftminderungsklasse!N55)","v":"1 - 4 bar"},{"$f":"IF($E$8>6,\"\",Abdriftminderungsklasse!O55)","v":"1 - 1,5 bar"},{"$f":"IF($E$8>6,\"\",Abdriftminderungsklasse!P55)","v":"1 bar"},{"$f":"Abdriftminderungsklasse!Q55","v":"1 - 6 bar"},{"$f":"Abdriftminderungsklasse!R55","v":"1 - 3 bar"},{"$f":"Abdriftminderungsklasse!S55","v":"1 bar"}]
["IDKN 120° (im Gestänge - Normal)\n+ IDKS 80° (Randdüse)",null,null,null,{"$f":"IF($E$8>6,\"\",Abdriftminderungsklasse!H56)","v":"1,5 - 3 bar"},{"$f":"IF($E$8>6,\"\",Abdriftminderungsklasse!I56)","v":"1,5 bar"},{"$f":"IF($E$8>6,\"\",Abdriftminderungsklasse!J56)","v":"1 bar"},{"$f":"IF($E$8>6,\"\",Abdriftminderungsklasse!K56)","v":"1 - 3 bar"},{"$f":"IF($E$8>6,\"\",Abdriftminderungsklasse!L56)","v":"1 - 1,5 bar"},{"$f":"IF($E$8>6,\"\",Abdriftminderungsklasse!M56)","v":"1 bar"}]
["IDKT 120° (im Gestänge - Normal)\n+ IDKS 80° (Randdüse)",{"$f":"IF($E$8>6,\"\",Abdriftminderungsklasse!E57)","v":"1,5 - 3 bar"},null,null,{"$f":"IF($E$8>6,\"\",Abdriftminderungsklasse!H57)","v":"1,5 - 4 bar"},{"$f":"IF($E$8>6,\"\",Abdriftminderungsklasse!I57)","v":"1,5 - 2 bar"},{"$f":"IF($E$8>6,\"\",Abdriftminderungsklasse!J57)","v":"1,5 bar"},{"$f":"IF($E$8>6,\"\",Abdriftminderungsklasse!K57)","v":"1 - 2 bar"},{"$f":"IF($E$8>6,\"\",Abdriftminderungsklasse!L57)","v":"1 - 1,5 bar"},{"$f":"IF($E$8>6,\"\",Abdriftminderungsklasse!M57)","v":"1 bar"},{"$f":"IF($E$8>6,\"\",Abdriftminderungsklasse!N57)","v":"1 - 3 bar"},{"$f":"IF($E$8>6,\"\",Abdriftminderungsklasse!O57)","v":"1 - 1,5 bar"},{"$f":"IF($E$8>6,\"\",Abdriftminderungsklasse!P57)","v":"1 bar"},{"$f":"Abdriftminderungsklasse!Q57","v":"1 - 6 bar"},{"$f":"Abdriftminderungsklasse!R57","v":"1 - 3 bar"},{"$f":"Abdriftminderungsklasse!S57","v":"1 bar"}]
[]
["ID 120°(im Gestänge - Normal)\n+ IS 80° (Randdüse)",{"$f":"IF($E$8>6,\"\",Abdriftminderungsklasse!E51)","v":"2 - 5 bar"},null,null,{"$f":"IF($E$8>6,\"\",Abdriftminderungsklasse!H51)","v":"3 - 8 bar"},{"$f":"IF($E$8>6,\"\",Abdriftminderungsklasse!I51)","v":"3 bar"},null,{"$f":"IF($E$8>6,\"\",Abdriftminderungsklasse!K51)","v":"2 - 5 bar"},{"$f":"IF($E$8>6,\"\",Abdriftminderungsklasse!L51)","v":"2 bar"},null,{"$f":"Abdriftminderungsklasse!N51","v":"2 - 8 bar"},{"$f":"Abdriftminderungsklasse!O51","v":"2 - 8 bar"}]
["ID3 120°(im Gestänge - Normal)\n+ IS 80° (Randdüse)",{"$f":"IF($E$8>6,\"\",Abdriftminderungsklasse!E52)","v":"2 - 7 bar"},{"$f":"IF($E$8>6,\"\",Abdriftminderungsklasse!F52)","v":"3 - 4 bar"},{"$f":"IF($E$8>6,\"\",Abdriftminderungsklasse!G52)","v":"2 - 2,5 bar"},{"$f":"IF($E$8>6,\"\",Abdriftminderungsklasse!H52)","v":"3 - 8 bar"},{"$f":"IF($E$8>6,\"\",Abdriftminderungsklasse!I52)","v":"3 - 4 bar"},{"$f":"IF($E$8>6,\"\",Abdriftminderungsklasse!J52)","v":"2 - 3 bar"},{"$f":"IF($E$8>6,\"\",Abdriftminderungsklasse!K52)","v":"2 - 8 bar"},{"$f":"IF($E$8>6,\"\",Abdriftminderungsklasse!L52)","v":"2 - 6 bar"},{"$f":"IF($E$8>6,\"\",Abdriftminderungsklasse!M52)","v":"2 - 3 bar"},{"$f":"Abdriftminderungsklasse!N52","v":"2 - 8 bar"},{"$f":"Abdriftminderungsklasse!O52","v":"2 - 6 bar"},{"$f":"Abdriftminderungsklasse!P52","v":"2 - 3 bar"}]
[]
[]
["Düsengröße/-farbe","Randdüse - Normal\n02          -   025",null,null,"Randdüse - Normal\n025       -   03",null,null,"Randdüse - Normal\n03           -   04",null,null,"Randdüse - Normal\n04           -   05"]
["Randdüsen (Volumenstrom nach ISO)"]
["Airmix 110° (im Gestänge - Normal)\n+Airmix OC 80° (Randdüse)",null,null,null,{"$f":"IF($E$8>6,\"\",Abdriftminderungsklasse!E68)","v":"1,5 - 2 bar"},null,null,{"$f":"IF($E$8>6,\"\",Abdriftminderungsklasse!H68)","v":"1 - 2 bar"},null,null,{"$f":"IF($E$8>6,\"\",Abdriftminderungsklasse!K68)","v":"1 - 6 bar"},{"$f":"IF($E$8>6,\"\",Abdriftminderungsklasse!L68)","v":"1 - 1,5 bar"},{"$f":"IF($E$8>6,\"\",Abdriftminderungsklasse!M68)","v":"1 bar"}]
["Airmix NoDrift 110° (im Gestänge - Normal)\n+ Airmix OC 80° (Randdüse)",null,null,null,{"$f":"IF($E$8>6,\"\",Abdriftminderungsklasse!E68)","v":"1,5 - 2 bar"},null,null,{"$f":"IF($E$8>6,\"\",Abdriftminderungsklasse!H68)","v":"1 - 2 bar"},{"$f":"IF($E$8>6,\"\",Abdriftminderungsklasse!I68)","v":"1 bar"}]
["AVI 110° (im Gestänge - Normal)\n+ Airmix OC 80° (Randdüse)",null,null,null,{"$f":"IF($E$8>6,\"\",Abdriftminderungsklasse!E65)","v":"2 - 4 bar"},null,null,{"$f":"IF($E$8>6,\"\",Abdriftminderungsklasse!H65)","v":"2 - 4 bar"},{"$f":"IF($E$8>6,\"\",Abdriftminderungsklasse!I65)","v":"2,5 bar"}]
["HiSpeed 110° (im Gestänge - Normal)\n+ Airmix OC 80° (Randdüse)",{"$f":"Abdriftminderungsklasse!B66","v":"2,5 - 6 bar"},{"$f":"Abdriftminderungsklasse!C66","v":"2,5 - 3,5 bar"},null,{"$f":"Abdriftminderungsklasse!E66","v":"2,5 - 7 bar"},{"$f":"Abdriftminderungsklasse!F66","v":"2,5 bar"},null,{"$f":"Abdriftminderungsklasse!H66","v":"2 - 6 bar"},{"$f":"Abdriftminderungsklasse!I66","v":"2 - 3 bar"},{"$f":"Abdriftminderungsklasse!J66","v":"2  bar"},{"$f":"Abdriftminderungsklasse!K66","v":"2 - 8 bar"},{"$f":"Abdriftminderungsklasse!L66","v":"2 - 3 bar"}]
["CVI Twin 110° (im Gestänge) - Normal\n+ Airmix OC 80° (Randdüse)",{"$f":"Abdriftminderungsklasse!B69","v":"1,5 - 3 bar"},{"$f":"Abdriftminderungsklasse!C69","v":"1,5 - 2 bar"},null,{"$f":"Abdriftminderungsklasse!E69","v":"1,5 - 6 bar"},{"$f":"Abdriftminderungsklasse!F69","v":"1,5 - 2 bar"},{"$f":"Abdriftminderungsklasse!G69","v":"1,5 bar"},{"$f":"Abdriftminderungsklasse!H69","v":"1,5 - 6 bar"},{"$f":"Abdriftminderungsklasse!I69","v":"1,5 - 6 bar"},{"$f":"Abdriftminderungsklasse!J69","v":"1,5 bar"},{"$f":"Abdriftminderungsklasse!K69","v":"1,5 - 6 bar"},{"$f":"Abdriftminderungsklasse!L69","v":"1,5 - 6 bar"}]
[]
["AI 110°(im Gestänge - Normal)\n+ AIUB 80° (Randdüse",{"$f":"IF($E$8>6,\"\",Abdriftminderungsklasse!B63)","v":"2 - 4 bar"},{"$f":"IF($E$8>6,\"\",Abdriftminderungsklasse!C63)","v":"2 bar"},null,{"$f":"IF($E$8>6,\"\",Abdriftminderungsklasse!E63)","v":"2,5 - 8 bar"},{"$f":"IF($E$8>6,\"\",Abdriftminderungsklasse!F63)","v":"2,5 bar"},null,{"$f":"IF($E$8>6,\"\",Abdriftminderungsklasse!H63)","v":"2,5 - 4 bar"},{"$f":"IF($E$8>6,\"\",Abdriftminderungsklasse!I63)","v":"2,5 - 3 bar"},null,{"$f":"IF($E$8>6,\"\",Abdriftminderungsklasse!K63)","v":"2 - 5 bar"},{"$f":"IF($E$8>6,\"\",Abdriftminderungsklasse!L63)","v":"2 - 3 bar"},{"$f":"IF($E$8>6,\"\",Abdriftminderungsklasse!M63)","v":"2 - 2,5 bar"}]
["AIC 110°(im Gestänge - Normal)\n+ AIUB 80° (Randdüse",{"$f":"IF($E$8>6,\"\",Abdriftminderungsklasse!B63)","v":"2 - 4 bar"},{"$f":"IF($E$8>6,\"\",Abdriftminderungsklasse!C63)","v":"2 bar"},null,{"$f":"IF($E$8>6,\"\",Abdriftminderungsklasse!E63)","v":"2,5 - 8 bar"},{"$f":"IF($E$8>6,\"\",Abdriftminderungsklasse!F63)","v":"2,5 bar"},null,{"$f":"IF($E$8>6,\"\",Abdriftminderungsklasse!H63)","v":"2,5 - 4 bar"},{"$f":"IF($E$8>6,\"\",Abdriftminderungsklasse!I63)","v":"2,5 - 3 bar"},null,{"$f":"IF($E$8>6,\"\",Abdriftminderungsklasse!K63)","v":"2 - 5 bar"},{"$f":"IF($E$8>6,\"\",Abdriftminderungsklasse!L63)","v":"2 - 3 bar"},{"$f":"IF($E$8>6,\"\",Abdriftminderungsklasse!M63)","v":"2 - 2,5 bar"}]
[]
[]
["*Der angegebene Druck ist ein tabellarischer Wert, da in jedem  Pflanzenschutzgerät Druckverluste auftreten, muss das Gerät vor Inbetriebnahme ausgelitert werden\nGültig nur für ISO 10625 genormte Düsen bei einem Düsenabstand von 50 cm! Für Vollständigkeit und Richtigkeit wird keine Gewähr übernommen"]

{"sheet":"Abdriftminderungsklasse","index":3,"n_rows":107,"n_cols":19,"rows_kept":107,"cut":false,"hidden":false,"merged":[[72,13,72,15],[72,16,72,18],[61,1,61,3],[61,4,61,6],[61,7,61,9],[61,10,61,12],[72,1,72,3],[72,4,72,6],[72,7,72,9],[72,10,72,12],[1,16,1,18],[1,1,1,3],[1,4,1,6],[1,7,1,9],[1,10,1,12],[1,13,1,15]]}
[]
[null,"02",null,null,"025",null,null,"03",null,null,"04",null,null,"05",null,null,"06"]
["kompakte",50,75,90,50,75,90,50,75,90,50,75,90,50,75,90,50,75,90]
["AirMix",null,null,null,null,null,null,{"$f":"'Anerkannte Düsen (2)'!M55&\" - \"&'Anerkannte Düsen (2)'!N55&\" bar\"","v":"1,5 - 2 bar"},null,null,{"$f":"'Anerkannte Düsen (2)'!M53&\" - \"&'Anerkannte Düsen (2)'!N53&\" bar\"","v":"1 - 2 bar"},{"$f":"'Anerkannte Düsen (2)'!O53&\" bar\"","v":"1 bar"},null,{"$f":"'Anerkannte Düsen (2)'!M56&\" - \"&'Anerkannte Düsen (2)'!N56&\" bar\"","v":"1 - 6 bar"},{"$f":"'Anerkannte Düsen (2)'!O56&\" - \"&'Anerkannte Düsen (2)'!P56&\" bar\"","v":"1 - 1,5 bar"},{"$f":"'Anerkannte Düsen (2)'!Q56&\" bar\"","v":"1 bar"}]
["AirMix NoDrift",null,null,null,{"$f":"'Anerkannte Düsen (2)'!M80&\" - \"&'Anerkannte Düsen (2)'!N80&\" bar\"","v":"2,5 - 6 bar"},null,null,{"$f":"'Anerkannte Düsen (2)'!M81&\" - \"&'Anerkannte Düsen (2)'!N81&\" bar\"","v":"3 - 4 bar"},null,null,{"$f":"'Anerkannte Düsen (2)'!M82&\" - \"&'Anerkannte Düsen (2)'!N82&\" bar\"","v":"2 - 8 bar"},{"$f":"'Anerkannte Düsen (2)'!O82&\" - \"&'Anerkannte Düsen (2)'!P82&\" bar\"","v":"2 - 2,5 bar"}]
["IDK POM",null,null,null,{"$f":"'Anerkannte Düsen (2)'!M71&\" - \"&'Anerkannte Düsen (2)'!N71&\" bar\"","v":"1,5 - 2 bar"},null,null,{"$f":"'Anerkannte Düsen (2)'!M68&\" - \"&'Anerkannte Düsen (2)'!N68&\" bar\"","v":"1,5 - 2 bar"},null,null,{"$f":"'Anerkannte Düsen (2)'!M69&\" - \"&'Anerkannte Düsen (2)'!N69&\" bar\"","v":"1 - 3 bar"},{"$f":"'Anerkannte Düsen (2)'!O69&\" bar\"","v":"1 bar"},null,{"$f":"'Anerkannte Düsen (2)'!M70&\" - \"&'Anerkannte Düsen (2)'!N70&\" bar\"","v":"1 - 4 bar"},{"$f":"'Anerkannte Düsen (2)'!O70&\" - \"&'Anerkannte Düsen (2)'!P70&\" bar\"","v":"1 - 1,5 bar"},{"$f":"'Anerkannte Düsen (2)'!Q70&\" bar\"","v":"1 bar"},{"$f":"'Anerkannte Düsen (2)'!M217&\" - \"&'Anerkannte Düsen (2)'!N217&\" bar\"","v":"1 - 6 bar"},{"$f":"'Anerkannte Düsen (2)'!O217&\" - \"&'Anerkannte Düsen (2)'!P217&\" bar\"","v":"1 - 3 bar"},{"$f":"'Anerkannte Düsen (2)'!Q217&\" bar\"","v":"1 bar"}]
["IDK C",null,null,null,null,null,null,null,null,null,{"$f":"'Anerkannte Düsen (2)'!M154&\" - \"&'Anerkannte Düsen (2)'!N154&\" bar\"","v":"1,5 - 3 bar"},{"$f":"'Anerkannte Düsen (2)'!O154&\" - \"&'Anerkannte Düsen (2)'!P154&\" bar\"","v":"1,5 - 2 bar"},{"$f":"'Anerkannte Düsen (2)'!Q154&\" bar\"","v":"1,5 bar"},{"$f":"'Anerkannte Düsen (2)'!M155&\" - \"&'Anerkannte Düsen (2)'!N155&\" bar\"","v":"1,5 - 4 bar"},{"$f":"'Anerkannte Düsen (2)'!O155&\" bar\"","v":"1,5 bar"}]
["Minidrift (MD)",null,null,null,{"$f":"'Anerkannte Düsen (2)'!M131&\" - \"&'Anerkannte Düsen (2)'!N131&\" bar\"","v":"1,5 - 2 bar"},null,null,{"$f":"'Anerkannte Düsen (2)'!M132&\" - \"&'Anerkannte Düsen (2)'!N132&\" bar\"","v":"1 - 2 bar"},{"$f":"'Anerkannte Düsen (2)'!O132&\" bar\"","v":"1 bar"},null,{"$f":"'Anerkannte Düsen (2)'!M133&\" - \"&'Anerkannte Düsen (2)'!N133&\" bar\"","v":"1 - 3 bar"},{"$f":"'Anerkannte Düsen (2)'!O133& \" bar\"","v":"1 bar"},{"$f":"'Anerkannte Düsen (2)'!Q133&\" bar\"","v":"1 bar"},{"$f":"'Anerkannte Düsen (2)'!M134&\" - \"&'Anerkannte Düsen (2)'!N134&\" bar\"","v":"1 - 6 bar"},{"$f":"'Anerkannte Düsen (2)'!O134&\" - \"&'Anerkannte Düsen (2)'!P134&\" bar\"","v":"1 - 1,5 bar"},{"$f":"'Anerkannte Düsen (2)'!Q134&\" bar\"","v":"1 bar"}]
["AIXR",null,null,null,null,null,null,{"$f":"'Anerkannte Düsen (2)'!M124&\" - \"&'Anerkannte Düsen (2)'!N124&\" bar\"","v":"1,5 - 2 bar"},null,null,{"$f":"'Anerkannte Düsen (2)'!M125&\" - \"&'Anerkannte Düsen (2)'!N125&\" bar\"","v":"1,5 - 3 bar"},{"$f":"'Anerkannte Düsen (2)'!O125&\" bar\"","v":"1,5 bar"},null,{"$f":"'Anerkannte Düsen (2)'!M151&\" - \"&'Anerkannte Düsen (2)'!N151&\" bar\"","v":"1 - 6 bar"},{"$f":"'Anerkannte Düsen (2)'!O151&\" - \"&'Anerkannte Düsen (2)'!P151&\" bar\"","v":"1 - 2,5 bar"},{"$f":"'Anerkannte Düsen (2)'!Q151&\" - \"&'Anerkannte Düsen (2)'!R151&\" bar\"","v":"1 - 1,5 bar"}]
["ULD / PSULD",null,null,null,null,null,null,{"$f":"'Anerkannte Düsen (2)'!M128&\" - \"&'Anerkannte Düsen (2)'!N128&\" bar\"","v":"2,5 - 8 bar"},null,null,{"$f":"'Anerkannte Düsen (2)'!M129&\" - \"&'Anerkannte Düsen (2)'!N129&\" bar\"","v":"2,5 - 8 bar"},{"$f":"'Anerkannte Düsen (2)'!O129&\" - \"&'Anerkannte Düsen (2)'!P129&\" bar\"","v":"2,5 - 8 bar"},{"$f":"'Anerkannte Düsen (2)'!Q129&\" bar\"","v":"2,5 bar"},{"$f":"'Anerkannte Düsen (2)'!M130&\" - \"&'Anerkannte Düsen (2)'!N130&\" bar\"","v":"2,5 - 8 bar"},{"$f":"'Anerkannte Düsen (2)'!O130&\" - \"&'Anerkannte Düsen (2)'!P130&\" bar\"","v":"2,5 - 8 bar"},{"$f":"'Anerkannte Düsen (2)'!Q130&\" - \"&'Anerkannte Düsen (2)'!R130&\" bar\"","v":"2,5 - 8 bar"}]
["TT",null,null,null,null,null,null,{"$f":"'Anerkannte Düsen (2)'!M24&\" - \"&'Anerkannte Düsen (2)'!N24&\" bar\"","v":"1 - 1,5 bar"},null,null,{"$f":"'Anerkannte Düsen (2)'!M25&\" - \"&'Anerkannte Düsen (2)'!N25&\" bar\"","v":"1 - 1,5 bar"}]
["Guardian Air",{"$f":"'Anerkannte Düsen (2)'!M157&\" - \"&'Anerkannte Düsen (2)'!N157&\" bar\"","v":"1 - 2 bar"},null,null,{"$f":"'Anerkannte Düsen (2)'!M161&\" - \"&'Anerkannte Düsen (2)'!N161&\" bar\"","v":"1 - 2,5 bar"},null,null,{"$f":"'Anerkannte Düsen (2)'!M158&\" - \"&'Anerkannte Düsen (2)'!N158&\" bar\"","v":"1,5 - 2,5 bar"},{"$f":"'Anerkannte Düsen (2)'!O158&\" bar\"","v":"1,5 bar"},null,{"$f":"'Anerkannte Düsen (2)'!M159&\" - \"&'Anerkannte Düsen (2)'!N159&\" bar\"","v":"1 - 2,5 bar"},{"$f":"'Anerkannte Düsen (2)'!O159&\" - \"&'Anerkannte Düsen (2)'!P159&\" bar\"","v":"1 - 1,5 bar"},null,{"$f":"'Anerkannte Düsen (2)'!M160&\" - \"&'Anerkannte Düsen (2)'!N160&\" bar\"","v":"1 - 2,5 bar"},{"$f":"'Anerkannte Düsen (2)'!O160&\" - \"&'Anerkannte Düsen (2)'!P160&\" bar\"","v":"1 - 1,5 bar"}]
["1/4 TTJ mit QJ4676-90",null,null,null,null,null,null,null,null,null,null,null,null,null,null,null,{"$f":"'Anerkannte Düsen (2)'!M221&\" - \"&'Anerkannte Düsen (2)'!N221&\" bar\"","v":"1 - 6 bar"},{"$f":"'Anerkannte Düsen (2)'!O221&\" - \"&'Anerkannte Düsen (2)'!P221&\" bar\"","v":"1 - 4 bar"},{"$f":"'Anerkannte Düsen (2)'!Q221&\" - \"&'Anerkannte Düsen (2)'!R221&\" bar\"","v":"1 - 2 bar"}]
[]
["CVI 80 02 (25 cm)",{"$f":"'Anerkannte Düsen (2)'!M224&\" - \"&'Anerkannte Düsen (2)'!N224&\" bar\"","v":"3 - 8 bar"},{"$f":"'Anerkannte Düsen (2)'!O224&\" - \"&'Anerkannte Düsen (2)'!P224&\" bar\"","v":"3 - 8 bar"},{"$f":"'Anerkannte Düsen (2)'!Q224&\" - \"&'Anerkannte Düsen (2)'!R224&\" bar\"","v":"3 - 8 bar"}]
[]
[]
["lange"]
["ID",{"$f":"'Anerkannte Düsen (2)'!M32&\" - \"&'Anerkannte Düsen (2)'!N32&\" bar\"","v":"3 - 3,5 bar"},null,null,{"$f":"'Anerkannte Düsen (2)'!M33&\" - \"&'Anerkannte Düsen (2)'!N33&\" bar\"","v":"3 - 5 bar"},null,null,{"$f":"'Anerkannte Düsen (2)'!M27&\" - \"&'Anerkannte Düsen (2)'!N27&\" bar\"","v":"3 - 8 bar"},{"$f":"'Anerkannte Düsen (2)'!O27&\" bar\"","v":"3 bar"},null,{"$f":"'Anerkannte Düsen (2)'!M28&\" - \"&'Anerkannte Düsen (2)'!N28&\" bar\"","v":"3 - 5 bar"},{"$f":"'Anerkannte Düsen (2)'!O28&\" bar\"","v":"3 bar"},null,{"$f":"'Anerkannte Düsen (2)'!M51&\" - \"&'Anerkannte Düsen (2)'!N51&\" bar\"","v":"2 - 8 bar"},{"$f":"'Anerkannte Düsen (2)'!O51&\" - \"&'Anerkannte Düsen (2)'!P51&\" bar\"","v":"2 - 8 bar"},{"$f":"'Anerkannte Düsen (2)'!Q51&\" bar\"","v":"2 bar"}]
["S-Injet",null,null,null,null,null,null,null,null,null,{"$f":"'Anerkannte Düsen (2)'!M61&\" - \"&'Anerkannte Düsen (2)'!N61&\" bar\"","v":"3 - 5 bar"},{"$f":"'Anerkannte Düsen (2)'!O61&\" bar\"","v":"3 bar"}]
[]
["AVI",null,null,null,null,null,null,{"$f":"'Anerkannte Düsen (2)'!M47&\" - \"&'Anerkannte Düsen (2)'!N47&\" bar\"","v":"3 - 7 bar"},{"$f":"'Anerkannte Düsen (2)'!O47&\" bar\"","v":"3 bar"},null,{"$f":"'Anerkannte Düsen (2)'!M46&\" - \"&'Anerkannte Düsen (2)'!N46&\" bar\"","v":"3 - 7 bar"},{"$f":"'Anerkannte Düsen (2)'!O46&\" bar\"","v":"3 bar"}]
["AI / AIC",null,null,null,{"$f":"'Anerkannte Düsen (2)'!M35&\" - \"&'Anerkannte Düsen (2)'!N35&\" bar\"","v":"2 - 4 bar"},{"$f":"'Anerkannte Düsen (2)'!O35&\" bar\"","v":"2 bar"},null,{"$f":"'Anerkannte Düsen (2)'!M36&\" - \"&'Anerkannte Düsen (2)'!N36&\" bar\"","v":"2,5 - 8 bar"},{"$f":"'Anerkannte Düsen (2)'!O36&\" bar\"","v":"2,5 bar"},null,{"$f":"'Anerkannte Düsen (2)'!M37&\" - \"&'Anerkannte Düsen (2)'!N37&\" bar\"","v":"2,5 - 4 bar"},{"$f":"'Anerkannte Düsen (2)'!O37&\" - \"&'Anerkannte Düsen (2)'!P37&\" bar\"","v":"2,5 - 3 bar"},null,{"$f":"'Anerkannte Düsen (2)'!M50&\" - \"&'Anerkannte Düsen (2)'!N50&\" bar\"","v":"2 - 5 bar"},{"$f":"'Anerkannte Düsen (2)'!O50&\" - \"&'Anerkannte Düsen (2)'!P50&\" bar\"","v":"2 - 3 bar"},{"$f":"'Anerkannte Düsen (2)'!Q50&\" - \"&'Anerkannte Düsen (2)'!R50&\" bar\"","v":"2 - 2,5 bar"}]
[]
[]
[]
["50 - 90 %"]
["IDN",null,null,null,{"$f":"'Anerkannte Düsen (2)'!M78&\" - \"&'Anerkannte Düsen (2)'!N78&\" bar\"","v":"2 - 6 bar"},{"$f":"'Anerkannte Düsen (2)'!O78&\" - \"&'Anerkannte Düsen (2)'!P78&\" bar\"","v":"2 - 3 bar"},{"$f":"'Anerkannte Düsen (2)'!Q78&\" bar\"","v":"2 bar"},{"$f":"'Anerkannte Düsen (2)'!M87&\" - \"&'Anerkannte Düsen (2)'!N87&\" bar\"","v":"2 - 8 bar"},{"$f":"'Anerkannte Düsen (2)'!O87&\" - \"&'Anerkannte Düsen (2)'!P87&\" bar\"","v":"2 - 3,5 bar"},{"$f":"'Anerkannte Düsen (2)'!Q87&\" bar\"","v":"2 bar"}]
["ID3-C",null,null,null,{"$f":"'Anerkannte Düsen (2)'!M233&\" - \"&'Anerkannte Düsen (2)'!N233&\" bar\"","v":"2 - 6 bar"},{"$f":"'Anerkannte Düsen (2)'!O233&\" - \"&'Anerkannte Düsen (2)'!P233&\" bar\"","v":"2 - 4 bar"},{"$f":"'Anerkannte Düsen (2)'!Q233&\" bar\"","v":"2,5 bar"},{"$f":"'Anerkannte Düsen (2)'!M229&\" - \"&'Anerkannte Düsen (2)'!N229&\" bar\"","v":"2 - 8 bar"},{"$f":"'Anerkannte Düsen (2)'!O229&\" - \"&'Anerkannte Düsen (2)'!P229&\" bar\"","v":"2 - 4 bar"},{"$f":"'Anerkannte Düsen (2)'!Q229&\" - \"&'Anerkannte Düsen (2)'!R229&\" bar\"","v":"2 - 2,5 bar"},{"$f":"'Anerkannte Düsen (2)'!M230&\" - \"&'Anerkannte Düsen (2)'!N230&\" bar\"","v":"2 - 8 bar"},{"$f":"'Anerkannte Düsen (2)'!O230&\" - \"&'Anerkannte Düsen (2)'!P230&\" bar\"","v":"2 - 6 bar"},{"$f":"'Anerkannte Düsen (2)'!Q230&\" - \"&'Anerkannte Düsen (2)'!R230&\" bar\"","v":"2 - 2,5 bar"},{"$f":"'Anerkannte Düsen (2)'!M232&\" - \"&'Anerkannte Düsen (2)'!N232&\" bar\"","v":"2 - 8 bar"},{"$f":"'Anerkannte Düsen (2)'!O232&\" - \"&'Anerkannte Düsen (2)'!P232&\" bar\"","v":"2 - 8 bar"},{"$f":"'Anerkannte Düsen (2)'!Q232&\" - \"&'Anerkannte Düsen (2)'!R232&\" bar\"","v":"2 - 4 bar"}]
["ID3-POM",{"$f":"'Anerkannte Düsen (2)'!M228&\" - \"&'Anerkannte Düsen (2)'!N228&\" bar\"","v":"2,5 - 6 bar"},null,null,{"$f":"'Anerkannte Düsen (2)'!M225&\" - \"&'Anerkannte Düsen (2)'!N225&\" bar\"","v":"2 - 7 bar"},{"$f":"'Anerkannte Düsen (2)'!O225&\" - \"&'Anerkannte Düsen (2)'!P225&\" bar\"","v":"2 - 4 bar"},{"$f":"'Anerkannte Düsen (2)'!Q225&\" - \"&'Anerkannte Düsen (2)'!R225&\" bar\"","v":"2 - 2,5 bar"},{"$f":"'Anerkannte Düsen (2)'!M227&\" - \"&'Anerkannte Düsen (2)'!N227&\" bar\"","v":"2 - 8 bar"},{"$f":"'Anerkannte Düsen (2)'!O227&\" - \"&'Anerkannte Düsen (2)'!P227&\" bar\"","v":"2 - 4 bar"},{"$f":"'Anerkannte Düsen (2)'!Q227&\" - \"&'Anerkannte Düsen (2)'!R227&\" bar\"","v":"2 - 3 bar"},{"$f":"'Anerkannte Düsen (2)'!M231&\" - \"&'Anerkannte Düsen (2)'!N231&\" bar\"","v":"2 - 8 bar"},{"$f":"'Anerkannte Düsen (2)'!O231&\" - \"&'Anerkannte Düsen (2)'!P231&\" bar\"","v":"2 - 6 bar"},{"$f":"'Anerkannte Düsen (2)'!Q231&\" - \"&'Anerkannte Düsen (2)'!R231&\" bar\"","v":"2 - 3 bar"},{"$f":"'Anerkannte Düsen (2)'!M226&\" - \"&'Anerkannte Düsen (2)'!N226&\" bar\"","v":"2 - 8 bar"},{"$f":"'Anerkannte Düsen (2)'!O226&\" - \"&'Anerkannte Düsen (2)'!P226&\" bar\"","v":"2 - 6 bar"},{"$f":"'Anerkannte Düsen (2)'!Q226&\" - \"&'Anerkannte Düsen (2)'!R226&\" bar\"","v":"2 - 3 bar"}]
["TTI",{"$f":"'Anerkannte Düsen (2)'!M123&\" - \"&'Anerkannte Düsen (2)'!N123&\" bar\"","v":"2 - 5 bar"},{"$f":"'Anerkannte Düsen (2)'!O123&\" - \"&'Anerkannte Düsen (2)'!P123&\" bar\"","v":"2 - 2,5 bar"},null,{"$f":"'Anerkannte Düsen (2)'!M94&\" - \"&'Anerkannte Düsen (2)'!N94&\" bar\"","v":"1,5 - 5 bar"},{"$f":"'Anerkannte Düsen (2)'!O94&\" - \"&'Anerkannte Düsen (2)'!P94&\" bar\"","v":"1,5 - 2,5 bar"},{"$f":"'Anerkannte Düsen (2)'!Q94&\" bar\"","v":"1,5 bar"},{"$f":"'Anerkannte Düsen (2)'!M95&\" - \"&'Anerkannte Düsen (2)'!N95&\" bar\"","v":"1,5 - 5 bar"},{"$f":"'Anerkannte Düsen (2)'!O95&\" - \"&'Anerkannte Düsen (2)'!P95&\" bar\"","v":"1,5 - 2,5 bar"},{"$f":"'Anerkannte Düsen (2)'!Q95&\" bar\"","v":"1,5 bar"},{"$f":"'Anerkannte Düsen (2)'!M96&\" - \"&'Anerkannte Düsen (2)'!N96&\" bar\"","v":"1,5 - 5 bar"},{"$f":"'Anerkannte Düsen (2)'!O96&\" - \"&'Anerkannte Düsen (2)'!P96&\" bar\"","v":"1,5 - 3 bar"},{"$f":"'Anerkannte Düsen (2)'!Q96&\" - \"&'Anerkannte Düsen (2)'!R96&\" bar\"","v":"1,5 - 2 bar"},{"$f":"'Anerkannte Düsen (2)'!M97&\" - \"&'Anerkannte Düsen (2)'!N97&\" bar\"","v":"1 - 5 bar"},{"$f":"'Anerkannte Düsen (2)'!O97&\" - \"&'Anerkannte Düsen (2)'!P97&\" bar\"","v":"1 - 3 bar"},{"$f":"'Anerkannte Düsen (2)'!Q97&\" - \"&'Anerkannte Düsen (2)'!R97&\" bar\"","v":"1 - 2 bar"},{"$f":"'Anerkannte Düsen (2)'!M220&\" - \"&'Anerkannte Düsen (2)'!N220&\" bar\"","v":"1 - 7 bar"},{"$f":"'Anerkannte Düsen (2)'!O220&\" - \"&'Anerkannte Düsen (2)'!P220&\" bar\"","v":"1 - 4 bar"},{"$f":"'Anerkannte Düsen (2)'!Q220&\" - \"&'Anerkannte Düsen (2)'!R220&\" bar\"","v":"1 - 3 bar"}]
["IDKN",null,null,null,null,null,null,{"$f":"'Anerkannte Düsen (2)'!M152&\" - \"&'Anerkannte Düsen (2)'!N152&\" bar\"","v":"1 - 3 bar"},{"$f":"'Anerkannte Düsen (2)'!O152&\" - \"&'Anerkannte Düsen (2)'!P152&\" bar\"","v":"1 - 1,5 bar"},{"$f":"'Anerkannte Düsen (2)'!Q152&\" bar\"","v":"1 bar"},{"$f":"'Anerkannte Düsen (2)'!M88&\" - \"&'Anerkannte Düsen (2)'!N88&\" bar\"","v":"1 - 3 bar"},{"$f":"'Anerkannte Düsen (2)'!O88&\" - \"&'Anerkannte Düsen (2)'!P88&\" bar\"","v":"1 - 1,5 bar"},{"$f":"'Anerkannte Düsen (2)'!Q88&\" bar\"","v":"1 bar"}]
[]
[]
[]
[]
["Doppelflachstrahl"]
["HiSpeed",{"$f":"'Anerkannte Düsen (2)'!M162&\" - \"&'Anerkannte Düsen (2)'!N162&\" bar\"","v":"2 - 5 bar"},{"$f":"'Anerkannte Düsen (2)'!O162&\" - \"&'Anerkannte Düsen (2)'!P162&\" bar\"","v":"2 - 3 bar"},null,{"$f":"'Anerkannte Düsen (2)'!M201&\" - \"&'Anerkannte Düsen (2)'!N201&\" bar\"","v":"2,5 - 5 bar"},{"$f":"'Anerkannte Düsen (2)'!O201&\" - \"&'Anerkannte Düsen (2)'!P201&\" bar\"","v":"2,5 - 3,5 bar"},{"$f":"'Anerkannte Düsen (2)'!Q201&\" bar\"","v":"2,5 bar"},{"$f":"'Anerkannte Düsen (2)'!M163&\" - \"&'Anerkannte Düsen (2)'!N163&\" bar\"","v":"2,5 - 4 bar"},{"$f":"'Anerkannte Düsen (2)'!O163&\" bar\"","v":"2,5 bar"},null,{"$f":"'Anerkannte Düsen (2)'!M164&\" - \"&'Anerkannte Düsen (2)'!N164&\" bar\"","v":"2 - 6 bar"},{"$f":"'Anerkannte Düsen (2)'!O164&\" - \"&'Anerkannte Düsen (2)'!P164&\" bar\"","v":"2 - 3 bar"},{"$f":"'Anerkannte Düsen (2)'!Q164&\" bar\"","v":"2 bar"},{"$f":"'Anerkannte Düsen (2)'!M165&\" - \"&'Anerkannte Düsen (2)'!N165&\" bar\"","v":"2 - 8 bar"},{"$f":"'Anerkannte Düsen (2)'!O165&\" - \"&'Anerkannte Düsen (2)'!P165&\" bar\"","v":"2 - 3 bar"}]
["AVI Twin",null,null,null,null,null,null,null,null,null,{"$f":"'Anerkannte Düsen (2)'!M100&\" - \"&'Anerkannte Düsen (2)'!N100&\" bar\"","v":"2 - 4 bar"},{"$f":"'Anerkannte Düsen (2)'!O100&\" - \"&'Anerkannte Düsen (2)'!P100&\" bar\"","v":"2 - 2,5 bar"}]
["IDKT C",null,null,null,null,null,null,{"$f":"'Anerkannte Düsen (2)'!M177&\" - \"&'Anerkannte Düsen (2)'!N177&\" bar\"","v":"1,5 - 3 bar"},{"$f":"'Anerkannte Düsen (2)'!O177&\" bar\"","v":"1,5 bar"},null,{"$f":"'Anerkannte Düsen (2)'!M168&\" - \"&'Anerkannte Düsen (2)'!N168&\" bar\"","v":"1 - 3 bar"},{"$f":"'Anerkannte Düsen (2)'!O168&\" - \"&'Anerkannte Düsen (2)'!P168&\" bar\"","v":"1 - 1,5 bar"},{"$f":"'Anerkannte Düsen (2)'!Q168&\" bar\"","v":"1 bar"},{"$f":"'Anerkannte Düsen (2)'!M167&\" - \"&'Anerkannte Düsen (2)'!N167&\" bar\"","v":"1 - 4 bar"},{"$f":"'Anerkannte Düsen (2)'!O167&\" - \"&'Anerkannte Düsen (2)'!P167&\" bar\"","v":"1 - 1,5 bar"},{"$f":"'Anerkannte Düsen (2)'!Q167&\" bar\"","v":"1 bar"}]
["IDKT POM",{"$f":"'Anerkannte Düsen (2)'!M208&\" - \"&'Anerkannte Düsen (2)'!N208&\" bar\"","v":"1,5 - 5 bar"},{"$f":"'Anerkannte Düsen (2)'!O208&\" - \"&'Anerkannte Düsen (2)'!P208&\" bar\"","v":"1,5 - 3 bar"},{"$f":"'Anerkannte Düsen (2)'!Q208&\" bar\"","v":"1,5 bar"},{"$f":"'Anerkannte Düsen (2)'!M209&\" - \"&'Anerkannte Düsen (2)'!N209&\" bar\"","v":"1,5 - 3 bar"},{"$f":"'Anerkannte Düsen (2)'!O209&\" - \"&'Anerkannte Düsen (2)'!P209&\" bar\"","v":"1,5 - 2 bar"},{"$f":"'Anerkannte Düsen (2)'!Q209&\" bar\"","v":"1,5 bar"},{"$f":"'Anerkannte Düsen (2)'!M186&\" - \"&'Anerkannte Düsen (2)'!N186&\" bar\"","v":"1 - 4 bar"},{"$f":"'Anerkannte Düsen (2)'!O186&\" - \"&'Anerkannte Düsen (2)'!P186&\" bar\"","v":"1 - 2 bar"},{"$f":"'Anerkannte Düsen (2)'!Q186&\" - \"&'Anerkannte Düsen (2)'!R186&\" bar\"","v":"1 - 1,5 bar"},{"$f":"'Anerkannte Düsen (2)'!M187&\" - \"&'Anerkannte Düsen (2)'!N187&\" bar\"","v":"1 - 2 bar"},{"$f":"'Anerkannte Düsen (2)'!O187&\" - \"&'Anerkannte Düsen (2)'!P187&\" bar\"","v":"1 - 1,5 bar"},{"$f":"'Anerkannte Düsen (2)'!Q187&\" bar\"","v":"1 bar"},{"$f":"'Anerkannte Düsen (2)'!M188&\" - \"&'Anerkannte Düsen (2)'!N188&\" bar\"","v":"1 - 3 bar"},{"$f":"'Anerkannte Düsen (2)'!O188&\" - \"&'Anerkannte Düsen (2)'!P188&\" bar\"","v":"1 - 1,5 bar"},{"$f":"'Anerkannte Düsen (2)'!Q188&\" bar\"","v":"1 bar"},{"$f":"'Anerkannte Düsen (2)'!M216&\" - \"&'Anerkannte Düsen (2)'!N216&\" bar\"","v":"1 - 6 bar"},{"$f":"'Anerkannte Düsen (2)'!O216&\" - \"&'Anerkannte Düsen (2)'!P216&\" bar\"","v":"1 - 2 bar"},{"$f":"'Anerkannte Düsen (2)'!Q216&\" bar\"","v":"1 bar"}]
["AITTJ 60",null,null,null,null,null,null,{"$f":"'Anerkannte Düsen (2)'!M169&\" - \"&'Anerkannte Düsen (2)'!N169&\" bar\"","v":"2 - 5 bar"},{"$f":"'Anerkannte Düsen (2)'!O169&\" - \"&'Anerkannte Düsen (2)'!P169&\" bar\"","v":"2 - 2,5 bar"},null,{"$f":"'Anerkannte Düsen (2)'!M170&\" - \"&'Anerkannte Düsen (2)'!N170&\" bar\"","v":"1,5 - 4 bar"},{"$f":"'Anerkannte Düsen (2)'!O170&\" - \"&'Anerkannte Düsen (2)'!P170&\" bar\"","v":"1,5 - 2 bar"},{"$f":"'Anerkannte Düsen (2)'!Q170&\"  bar\"","v":"1,5  bar"}]
["MinidriftDuo",null,null,null,null,null,null,{"$f":"'Anerkannte Düsen (2)'!M205&\" - \"&'Anerkannte Düsen (2)'!N205&\" bar\"","v":"1 - 4 bar"},{"$f":"'Anerkannte Düsen (2)'!O205&\" - \"&'Anerkannte Düsen (2)'!P205&\" bar\"","v":"1 - 2 bar"},{"$f":"'Anerkannte Düsen (2)'!Q205&\" - \"&'Anerkannte Düsen (2)'!R205&\" bar\"","v":"1 - 1,5 bar"},{"$f":"'Anerkannte Düsen (2)'!M206&\" - \"&'Anerkannte Düsen (2)'!N206&\" bar\"","v":"1 - 2 bar"},{"$f":"'Anerkannte Düsen (2)'!O206&\" - \"&'Anerkannte Düsen (2)'!P206&\" bar\"","v":"1 - 1,5 bar"},{"$f":"'Anerkannte Düsen (2)'!Q206&\" bar\"","v":"1 bar"},{"$f":"'Anerkannte Düsen (2)'!M207&\" - \"&'Anerkannte Düsen (2)'!N207&\" bar\"","v":"1 - 3 bar"},{"$f":"'Anerkannte Düsen (2)'!O207&\" - \"&'Anerkannte Düsen (2)'!P207&\" bar\"","v":"1 - 1,5 bar"},{"$f":"'Anerkannte Düsen (2)'!Q207&\" bar\"","v":"1 bar"}]
["CVI Twin",{"$f":"'Anerkannte Düsen (2)'!M210&\" - \"&'Anerkannte Düsen (2)'!N210&\" bar\"","v":"1,5 - 3 bar"},null,null,{"$f":"'Anerkannte Düsen (2)'!M203&\" - \"&'Anerkannte Düsen (2)'!N203&\" bar\"","v":"1,5 - 3 bar"},{"$f":"'Anerkannte Düsen (2)'!O203&\" - \"&'Anerkannte Düsen (2)'!P203&\" bar\"","v":"1,5 - 2 bar"},null,{"$f":"'Anerkannte Düsen (2)'!M202&\" - \"&'Anerkannte Düsen (2)'!N202&\" bar\"","v":"1,5 - 6 bar"},{"$f":"'Anerkannte Düsen (2)'!O202&\" - \"&'Anerkannte Düsen (2)'!P202&\" bar\"","v":"1,5 - 2 bar"},{"$f":"'Anerkannte Düsen (2)'!Q202&\" bar\"","v":"1,5 bar"},{"$f":"'Anerkannte Düsen (2)'!M204&\" - \"&'Anerkannte Düsen (2)'!N204&\" bar\"","v":"1,5 - 6 bar"},{"$f":"'Anerkannte Düsen (2)'!O204&\" - \"&'Anerkannte Düsen (2)'!P204&\" bar\"","v":"1,5 - 6 bar"},{"$f":"'Anerkannte Düsen (2)'!Q204&\" bar\"","v":"1,5 bar"},{"$f":"'Anerkannte Düsen (2)'!M211&\" - \"&'Anerkannte Düsen (2)'!N211&\" bar\"","v":"1,5 - 6 bar"},{"$f":"'Anerkannte Düsen (2)'!O211&\" - \"&'Anerkannte Düsen (2)'!P211&\" bar\"","v":"1,5 - 6 bar"}]
["Guardian Air Twin",null,null,null,{"$f":"'Anerkannte Düsen (2)'!M180&\" - \"&'Anerkannte Düsen (2)'!N180&\" bar\"","v":"2 - 2,5 bar"},null,null,{"$f":"'Anerkannte Düsen (2)'!M181&\" - \"&'Anerkannte Düsen (2)'!N181&\" bar\"","v":"2 - 3 bar"},null,null,{"$f":"'Anerkannte Düsen (2)'!M182&\" - \"&'Anerkannte Düsen (2)'!N182&\" bar\"","v":"2 - 2,5 bar"},null,null,{"$f":"'Anerkannte Düsen (2)'!M183&\" - \"&'Anerkannte Düsen (2)'!N183&\" bar\"","v":"2 - 3 bar"},null,null,{"$f":"'Anerkannte Düsen (2)'!M184&\" - \"&'Anerkannte Düsen (2)'!N184&\" bar\"","v":"2 - 4 bar"}]
["JohnDeere PSGAT",null,null,null,{"$f":"'Anerkannte Düsen (2)'!M180&\" - \"&'Anerkannte Düsen (2)'!N180&\" bar\"","v":"2 - 2,5 bar"},null,null,{"$f":"'Anerkannte Düsen (2)'!M181&\" - \"&'Anerkannte Düsen (2)'!N181&\" bar\"","v":"2 - 3 bar"},null,null,{"$f":"'Anerkannte Düsen (2)'!M182&\" - \"&'Anerkannte Düsen (2)'!N182&\" bar\"","v":"2 - 2,5 bar"},null,null,{"$f":"'Anerkannte Düsen (2)'!M183&\" - \"&'Anerkannte Düsen (2)'!N183&\" bar\"","v":"2 - 3 bar"},null,null,{"$f":"'Anerkannte Düsen (2)'!M184&\" - \"&'Anerkannte Düsen (2)'!N184&\" bar\"","v":"2 - 4 bar"}]
[]
[]
[]
["Randdüsen"]
["ID 120° + IS 80°",{"$f":"'Anerkannte Düsen (2)'!M239&\" - \"&'Anerkannte Düsen (2)'!N239&\" bar\"","v":"3 - 3,5 bar"},null,null,{"$f":"'Anerkannte Düsen (2)'!M102&\" - \"&'Anerkannte Düsen (2)'!N102&\" bar\"","v":"2 - 5 bar"},null,null,{"$f":"'Anerkannte Düsen (2)'!M107&\" - \"&'Anerkannte Düsen (2)'!N107&\" bar\"","v":"3 - 8 bar"},{"$f":"'Anerkannte Düsen (2)'!O107&\" bar\"","v":"3 bar"},null,{"$f":"'Anerkannte Düsen (2)'!M112&\" - \"&'Anerkannte Düsen (2)'!N112&\" bar\"","v":"2 - 5 bar"},{"$f":"'Anerkannte Düsen (2)'!O112&\" bar\"","v":"2 bar"},null,{"$f":"'Anerkannte Düsen (2)'!M243&\" - \"&'Anerkannte Düsen (2)'!N243&\" bar\"","v":"2 - 8 bar"},{"$f":"'Anerkannte Düsen (2)'!O243&\" - \"&'Anerkannte Düsen (2)'!P243&\" bar\"","v":"2 - 8 bar"}]
["ID3 120° POM+ IS 80°",{"$f":"'Anerkannte Düsen (2)'!M240&\" - \"&'Anerkannte Düsen (2)'!N240&\" bar\"","v":"3 - 6 bar"},null,null,{"$f":"'Anerkannte Düsen (2)'!M105&\" - \"&'Anerkannte Düsen (2)'!N105&\" bar\"","v":"2 - 7 bar"},{"$f":"'Anerkannte Düsen (2)'!O105&\" - \"&'Anerkannte Düsen (2)'!P105&\" bar\"","v":"3 - 4 bar"},{"$f":"'Anerkannte Düsen (2)'!Q105&\" - \"&'Anerkannte Düsen (2)'!R105&\" bar\"","v":"2 - 2,5 bar"},{"$f":"'Anerkannte Düsen (2)'!M110&\" - \"&'Anerkannte Düsen (2)'!N110&\" bar\"","v":"3 - 8 bar"},{"$f":"'Anerkannte Düsen (2)'!O110&\" - \"&'Anerkannte Düsen (2)'!P110&\" bar\"","v":"3 - 4 bar"},{"$f":"'Anerkannte Düsen (2)'!Q110&\" - \"&'Anerkannte Düsen (2)'!R110&\" bar\"","v":"2 - 3 bar"},{"$f":"'Anerkannte Düsen (2)'!M114&\" - \"&'Anerkannte Düsen (2)'!N114&\" bar\"","v":"2 - 8 bar"},{"$f":"'Anerkannte Düsen (2)'!O114&\" - \"&'Anerkannte Düsen (2)'!P114&\" bar\"","v":"2 - 6 bar"},{"$f":"'Anerkannte Düsen (2)'!Q114&\" - \"&'Anerkannte Düsen (2)'!R114&\" bar\"","v":"2 - 3 bar"},{"$f":"'Anerkannte Düsen (2)'!M241&\" - \"&'Anerkannte Düsen (2)'!N241&\" bar\"","v":"2 - 8 bar"},{"$f":"'Anerkannte Düsen (2)'!O241&\" - \"&'Anerkannte Düsen (2)'!P241&\" bar\"","v":"2 - 6 bar"},{"$f":"'Anerkannte Düsen (2)'!Q241&\" - \"&'Anerkannte Düsen (2)'!R241&\" bar\"","v":"2 - 3 bar"}]
["ID 120°-C + IS 80°",null,null,null,null,null,null,null,null,null,{"$f":"'Anerkannte Düsen (2)'!M112&\" - \"&'Anerkannte Düsen (2)'!N112&\" bar\"","v":"2 - 5 bar"},null,null,{"$f":"'Anerkannte Düsen (2)'!M243&\" - \"&'Anerkannte Düsen (2)'!N243&\" bar\"","v":"2 - 8 bar"},{"$f":"'Anerkannte Düsen (2)'!O243&\" - \"&'Anerkannte Düsen (2)'!P243&\" bar\"","v":"2 - 8 bar"},{"$f":"'Anerkannte Düsen (2)'!Q243&\"bar\"","v":"2bar"}]
[]
["IDK 120° + IDKS 80°",null,null,null,{"$f":"'Anerkannte Düsen (2)'!M136&\" - \"&'Anerkannte Düsen (2)'!N136&\" bar\"","v":"1,5 - 2 bar"},null,null,{"$f":"'Anerkannte Düsen (2)'!M139&\" - \"&'Anerkannte Düsen (2)'!N139&\" bar\"","v":"1,5 - 2 bar"},null,null,{"$f":"'Anerkannte Düsen (2)'!M143&\" - \"&'Anerkannte Düsen (2)'!N143&\" bar\"","v":"1 - 3 bar"},{"$f":"'Anerkannte Düsen (2)'!O143&\" bar\"","v":"1 bar"},null,{"$f":"'Anerkannte Düsen (2)'!M147&\" - \"&'Anerkannte Düsen (2)'!N147&\" bar\"","v":"1 - 4 bar"},{"$f":"'Anerkannte Düsen (2)'!O147&\" - \"&'Anerkannte Düsen (2)'!P147&\" bar\"","v":"1 - 1,5 bar"},{"$f":"'Anerkannte Düsen (2)'!Q147&\" bar\"","v":"1 bar"},{"$f":"'Anerkannte Düsen (2)'!M238&\" - \"&'Anerkannte Düsen (2)'!N238&\" bar\"","v":"1 - 6 bar"},{"$f":"'Anerkannte Düsen (2)'!O238&\" - \"&'Anerkannte Düsen (2)'!P238&\" bar\"","v":"1 - 3 bar"},{"$f":"'Anerkannte Düsen (2)'!Q238&\" bar\"","v":"1 bar"}]
["IDKN 120° + IDKS 80°",null,null,null,null,null,null,{"$f":"'Anerkannte Düsen (2)'!M140&\" - \"&'Anerkannte Düsen (2)'!N140&\" bar\"","v":"1,5 - 3 bar"},{"$f":"'Anerkannte Düsen (2)'!O140&\" bar\"","v":"1,5 bar"},{"$f":"'Anerkannte Düsen (2)'!Q140&\" bar\"","v":"1 bar"},{"$f":"'Anerkannte Düsen (2)'!M144&\" - \"&'Anerkannte Düsen (2)'!N144&\" bar\"","v":"1 - 3 bar"},{"$f":"'Anerkannte Düsen (2)'!O144&\" - \"&'Anerkannte Düsen (2)'!P144&\" bar\"","v":"1 - 1,5 bar"},{"$f":"'Anerkannte Düsen (2)'!Q144&\" bar\"","v":"1 bar"}]
["IDKT 120° + IDKS 80°",null,null,null,{"$f":"'Anerkannte Düsen (2)'!M137&\" - \"&'Anerkannte Düsen (2)'!N137&\" bar\"","v":"1,5 - 3 bar"},null,null,{"$f":"'Anerkannte Düsen (2)'!M141&\" - \"&'Anerkannte Düsen (2)'!N141&\" bar\"","v":"1,5 - 4 bar"},{"$f":"'Anerkannte Düsen (2)'!O141&\" - \"&'Anerkannte Düsen (2)'!P141&\" bar\"","v":"1,5 - 2 bar"},{"$f":"'Anerkannte Düsen (2)'!Q141&\" bar\"","v":"1,5 bar"},{"$f":"'Anerkannte Düsen (2)'!M145&\" - \"&'Anerkannte Düsen (2)'!N145&\" bar\"","v":"1 - 2 bar"},{"$f":"'Anerkannte Düsen (2)'!O145&\" - \"&'Anerkannte Düsen (2)'!P145&\" bar\"","v":"1 - 1,5 bar"},{"$f":"'Anerkannte Düsen (2)'!Q145&\" bar\"","v":"1 bar"},{"$f":"'Anerkannte Düsen (2)'!M148&\" - \"&'Anerkannte Düsen (2)'!N148&\" bar\"","v":"1 - 3 bar"},{"$f":"'Anerkannte Düsen (2)'!O148&\" - \"&'Anerkannte Düsen (2)'!P148&\" bar\"","v":"1 - 1,5 bar"},{"$f":"'Anerkannte Düsen (2)'!Q148&\" bar\"","v":"1 bar"},{"$f":"'Anerkannte Düsen (2)'!M238&\" - \"&'Anerkannte Düsen (2)'!N238&\" bar\"","v":"1 - 6 bar"},{"$f":"'Anerkannte Düsen (2)'!O238&\" - \"&'Anerkannte Düsen (2)'!P238&\" bar\"","v":"1 - 3 bar"},{"$f":"'Anerkannte Düsen (2)'!Q238&\" bar\"","v":"1 bar"}]
[]
[]
[]
[]
[null,"Randdüse - Normal\n02          -   025",null,null,"Randdüse - Normal\n025       -   03",null,null,"Randdüse - Normal\n03           -   04",null,null,"Randdüse - Normal\n04           -   05"]
["AI/AIC 110° + AIUB 85°",{"$f":"'Anerkannte Düsen (2)'!M150&\" - \"&'Anerkannte Düsen (2)'!N150&\" bar\"","v":"2 - 4 bar"},{"$f":"'Anerkannte Düsen (2)'!O150&\" bar\"","v":"2 bar"},null,{"$f":"'Anerkannte Düsen (2)'!M116&\" - \"&'Anerkannte Düsen (2)'!N116&\" bar\"","v":"2,5 - 8 bar"},{"$f":"'Anerkannte Düsen (2)'!O116&\" bar\"","v":"2,5 bar"},null,{"$f":"'Anerkannte Düsen (2)'!M118&\" - \"&'Anerkannte Düsen (2)'!N118&\" bar\"","v":"2,5 - 4 bar"},{"$f":"'Anerkannte Düsen (2)'!O118&\" - \"&'Anerkannte Düsen (2)'!P118&\" bar\"","v":"2,5 - 3 bar"},null,{"$f":"'Anerkannte Düsen (2)'!M121&\" - \"&'Anerkannte Düsen (2)'!N121&\" bar\"","v":"2 - 5 bar"},{"$f":"'Anerkannte Düsen (2)'!O121&\" - \"&'Anerkannte Düsen (2)'!P121&\" bar\"","v":"2 - 3 bar"},{"$f":"'Anerkannte Düsen (2)'!Q121&\" - \"&'Anerkannte Düsen (2)'!R121&\" bar\"","v":"2 - 2,5 bar"}]
["AVI + Airmix OC",null,null,null,{"$f":"'Anerkannte Düsen (2)'!M191&\" - \"&'Anerkannte Düsen (2)'!N191&\" bar\"","v":"3 - 7 bar"},{"$f":"'Anerkannte Düsen (2)'!O191&\" bar\"","v":"3 bar"},null,{"$f":"'Anerkannte Düsen (2)'!M196&\" - \"&'Anerkannte Düsen (2)'!N196&\" bar\"","v":"2,5 - 7 bar"},{"$f":"'Anerkannte Düsen (2)'!O196&\" bar\"","v":"2,5 bar"}]
["AVI Twin 110° + Airmix OC",null,null,null,{"$f":"'Anerkannte Düsen (2)'!M194&\" - \"&'Anerkannte Düsen (2)'!N194&\" bar\"","v":"2 - 4 bar"},null,null,{"$f":"'Anerkannte Düsen (2)'!M194&\" - \"&'Anerkannte Düsen (2)'!N194&\" bar\"","v":"2 - 4 bar"},{"$f":"'Anerkannte Düsen (2)'!O194&\" bar\"","v":"2,5 bar"}]
["HiSpeed 110° + Airmix OC",{"$f":"'Anerkannte Düsen (2)'!M237&\" - \"&'Anerkannte Düsen (2)'!N237&\" bar\"","v":"2,5 - 6 bar"},{"$f":"'Anerkannte Düsen (2)'!O237&\" - \"&'Anerkannte Düsen (2)'!P237&\" bar\"","v":"2,5 - 3,5 bar"},null,{"$f":"'Anerkannte Düsen (2)'!M196&\" - \"&'Anerkannte Düsen (2)'!N196&\" bar\"","v":"2,5 - 7 bar"},{"$f":"'Anerkannte Düsen (2)'!O196&\" bar\"","v":"2,5 bar"},null,{"$f":"'Anerkannte Düsen (2)'!M197&\" - \"&'Anerkannte Düsen (2)'!N197&\" bar\"","v":"2 - 6 bar"},{"$f":"'Anerkannte Düsen (2)'!O197&\" - \"&'Anerkannte Düsen (2)'!P197&\" bar\"","v":"2 - 3 bar"},{"$f":"'Anerkannte Düsen (2)'!Q197&\"  bar\"","v":"2  bar"},{"$f":"'Anerkannte Düsen (2)'!M199&\" - \"&'Anerkannte Düsen (2)'!N199&\" bar\"","v":"2 - 8 bar"},{"$f":"'Anerkannte Düsen (2)'!O199&\" - \"&'Anerkannte Düsen (2)'!P199&\" bar\"","v":"2 - 3 bar"}]
[]
["Airmix 110°/Nodrift + Airmix OC 80°",null,null,null,{"$f":"'Anerkannte Düsen (2)'!M189&\" - \"&'Anerkannte Düsen (2)'!N189&\" bar\"","v":"1,5 - 2 bar"},null,null,{"$f":"'Anerkannte Düsen (2)'!M193&\" - \"&'Anerkannte Düsen (2)'!N193&\" bar\"","v":"1 - 2 bar"},{"$f":"'Anerkannte Düsen (2)'!O193&\" bar\"","v":"1 bar"},null,{"$f":"'Anerkannte Düsen (2)'!M198&\" - \"&'Anerkannte Düsen (2)'!N198&\" bar\"","v":"1 - 6 bar"},{"$f":"'Anerkannte Düsen (2)'!O198&\" - \"&'Anerkannte Düsen (2)'!P198&\" bar\"","v":"1 - 1,5 bar"},{"$f":"'Anerkannte Düsen (2)'!Q198&\" bar\"","v":"1 bar"}]
["CVI Twin 110° / Airmix OC 80°",{"$f":"'Anerkannte Düsen (2)'!M236&\" - \"&'Anerkannte Düsen (2)'!N236&\" bar\"","v":"1,5 - 3 bar"},{"$f":"'Anerkannte Düsen (2)'!O236&\" - \"&'Anerkannte Düsen (2)'!P236&\" bar\"","v":"1,5 - 2 bar"},null,{"$f":"'Anerkannte Düsen (2)'!M190&\" - \"&'Anerkannte Düsen (2)'!N190&\" bar\"","v":"1,5 - 6 bar"},{"$f":"'Anerkannte Düsen (2)'!O190&\" - \"&'Anerkannte Düsen (2)'!P190&\" bar\"","v":"1,5 - 2 bar"},{"$f":"'Anerkannte Düsen (2)'!Q190&\" bar\"","v":"1,5 bar"},{"$f":"'Anerkannte Düsen (2)'!M195&\" - \"&'Anerkannte Düsen (2)'!N195&\" bar\"","v":"1,5 - 6 bar"},{"$f":"'Anerkannte Düsen (2)'!O195&\" - \"&'Anerkannte Düsen (2)'!P195&\" bar\"","v":"1,5 - 6 bar"},{"$f":"'Anerkannte Düsen (2)'!Q195&\" bar\"","v":"1,5 bar"},{"$f":"'Anerkannte Düsen (2)'!M200&\" - \"&'Anerkannte Düsen (2)'!N200&\" bar\"","v":"1,5 - 6 bar"},{"$f":"'Anerkannte Düsen (2)'!O200&\" - \"&'Anerkannte Düsen (2)'!P200&\" bar\"","v":"1,5 - 6 bar"}]
[]
[]
[]
["Mischbestückung","02",null,null,"025",null,null,"03",null,null,"04",null,null,"05",null,null,"06"]
[]
["IDKT + 6x IDKN zum Einbau \nhinter der Spritze (Mittelteil)",null,null,null,null,null,null,{"$f":"'Anerkannte Düsen (2)'!M213&\" - \"&'Anerkannte Düsen (2)'!N213&\" bar\"","v":"1 - 3 bar"},{"$f":"'Anerkannte Düsen (2)'!O213&\" - \"&'Anerkannte Düsen (2)'!P213&\" bar\"","v":"1 - 1,5 bar"},{"$f":"'Anerkannte Düsen (2)'!Q213&\" bar\"","v":"1 bar"},{"$f":"'Anerkannte Düsen (2)'!M214&\" - \"&'Anerkannte Düsen (2)'!N214&\" bar\"","v":"1 - 2 bar"},{"$f":"'Anerkannte Düsen (2)'!O214&\" - \"&'Anerkannte Düsen (2)'!P214&\" bar\"","v":"1 - 1,5 bar"},{"$f":"'Anerkannte Düsen (2)'!Q214&\" bar\"","v":"1 bar"},{"$f":"'Anerkannte Düsen (2)'!M215&\" - \"&'Anerkannte Düsen (2)'!N215&\" bar\"","v":"1 - 3 bar"},{"$f":"'Anerkannte Düsen (2)'!O215&\" - \"&'Anerkannte Düsen (2)'!P215&\" bar\"","v":"1 - 1,5 bar"},{"$f":"'Anerkannte Düsen (2)'!Q215&\" bar\"","v":"1 bar"},{"$f":"'Anerkannte Düsen (2)'!M218&\" - \"&'Anerkannte Düsen (2)'!N218&\" bar\"","v":"1 - 6 bar"},{"$f":"'Anerkannte Düsen (2)'!O218&\" - \"&'Anerkannte Düsen (2)'!P218&\" bar\"","v":"1 - 2 bar"},{"$f":"'Anerkannte Düsen (2)'!Q218&\" bar\"","v":"1 bar"}]
[]
["AITTJ60 + 6x AI/AIC zum Einbau \nhinter der Spritze (Mittelteil)",null,null,null,null,null,null,{"$f":"'Anerkannte Düsen (2)'!M222&\" - \"&'Anerkannte Düsen (2)'!N222&\" bar\"","v":"2 - 5 bar"},{"$f":"'Anerkannte Düsen (2)'!O222&\" bar\"","v":"2,5 bar"},null,{"$f":"'Anerkannte Düsen (2)'!M223&\" - \"&'Anerkannte Düsen (2)'!N223&\" bar\"","v":"2 - 5 bar"},{"$f":"'Anerkannte Düsen (2)'!O223&\" bar\"","v":"2 bar"}]
[]
[]
[null,null,null,null,null,null,null,null,null,null,null,null,null,50,75,90,95]
["Vorauflauf"]
["Syngenta 130-05",null,null,null,null,null,null,null,null,null,null,null,null,{"$f":"'Anerkannte Düsen (2)'!M219&\" - \"&'Anerkannte Düsen (2)'!N219&\" bar\"","v":"1,5 - 8 bar"},{"$f":"'Anerkannte Düsen (2)'!O219&\" - \"&'Anerkannte Düsen (2)'!P219&\" bar\"","v":"1,5 - 8 bar"},{"$f":"'Anerkannte Düsen (2)'!Q219&\" - \"&'Anerkannte Düsen (2)'!R219&\" bar\"","v":"1,5 - 6 bar"},{"$f":"'Anerkannte Düsen (2)'!S219&\" - \"&'Anerkannte Düsen (2)'!T219&\" bar\"","v":"1,5 - 5 bar"}]
["Lechler PRE 130-05",null,null,null,null,null,null,null,null,null,null,null,null,{"$f":"'Anerkannte Düsen (2)'!M234&\" - \"&'Anerkannte Düsen (2)'!N234&\" bar\"","v":"1,5 - 8 bar"},{"$f":"'Anerkannte Düsen (2)'!O234&\" - \"&'Anerkannte Düsen (2)'!P234&\" bar\"","v":"1,5 - 8 bar"},{"$f":"'Anerkannte Düsen (2)'!Q234&\" - \"&'Anerkannte Düsen (2)'!R234&\" bar\"","v":"1,5 - 6 bar"},{"$f":"'Anerkannte Düsen (2)'!S234&\" - \"&'Anerkannte Düsen (2)'!T234&\" bar\"","v":"1,5 - 5 bar"}]
[]
[]
[]
["80° Düsen / 25 cm Düsenabstand"]
[]
["CVI 80 02",{"$f":"'Anerkannte Düsen (2)'!M224&\" - \"&'Anerkannte Düsen (2)'!N224&\" bar\"","v":"3 - 8 bar"},{"$f":"'Anerkannte Düsen (2)'!O224&\" - \"&'Anerkannte Düsen (2)'!P224&\" bar\"","v":"3 - 8 bar"},{"$f":"'Anerkannte Düsen (2)'!Q224&\" - \"&'Anerkannte Düsen (2)'!R224&\" bar\"","v":"3 - 8 bar"}]
[]
[]
[]
[]
[]
[]
[]
[]
[]
["letzte Änderung","2016-03-18"]
[]
[]
[]
[null,"von","bis","max"]
["kompakte",2,3,6]
["lange",4,6,8]
["kompakte 90",2,3,6]
["lange 90",4,6,8]

{"sheet":"Doppelkompakt mit 90","index":4,"n_rows":17,"n_cols":19,"rows_kept":17,"cut":false,"hidden":false,"merged":[[16,0,16,18],[1,6,1,7],[6,16,6,18],[6,1,6,3],[6,4,6,6],[6,7,6,9],[6,10,6,12],[6,13,6,15],[8,1,8,18],[7,1,7,3],[7,4,7,6],[7,7,7,9],[7,10,7,12],[7,13,7,15],[7,16,7,18]]}
[]
[200,"gewünschte Wasseraufwandmenge in l/ha",null,null,null,null,"zurück zur\nÜbersicht"]
["Daten in die gelben Felder eintragen"]
[6,"Fahrgeschwindigkeit in km/hWasseraufwandmenge in l/ha"]
[]
[]
["Düsengröße/-farbe",{"$f":"\"02\"","v":"02"},null,null,{"$f":"\"025\"","v":"025"},null,null,{"$f":"\"03\"","v":"03"},null,null,{"$f":"\"04\"","v":"04"},null,null,{"$f":"\"05\"","v":"05"},null,null,{"$f":"\"06\"","v":"06"}]
["Spritzdruck*",{"$f":"IF(POWER((($A$2*0.5*$A$4)/600)*SQRT(3)/0.8,2)<1,\"\",POWER((($A$2*0.5*$A$4)/600)*SQRT(3)/0.8,2))","v":4.6874999999999991},{"$f":"IF(POWER((($D$6*0.5*$H$6)/600)*SQRT(3)/1,2)<1,\"\",POWER((($D$6*0.5*$H$6)/600)*SQRT(3)/1,2))","v":""},{"$f":"IF(POWER((($D$6*0.5*$H$6)/600)*SQRT(3)/1,2)<1,\"\",POWER((($D$6*0.5*$H$6)/600)*SQRT(3)/1,2))","v":""},{"$f":"IF(POWER((($A$2*0.5*$A$4)/600)*SQRT(3)/1,2)<1,\"\",POWER((($A$2*0.5*$A$4)/600)*SQRT(3)/1,2))","v":2.9999999999999996},{"$f":"IF(POWER((($D$6*0.5*$H$6)/600)*SQRT(3)/1,2)<1,\"\",POWER((($D$6*0.5*$H$6)/600)*SQRT(3)/1,2))","v":""},{"$f":"IF(POWER((($D$6*0.5*$H$6)/600)*SQRT(3)/1,2)<1,\"\",POWER((($D$6*0.5*$H$6)/600)*SQRT(3)/1,2))","v":""},{"$f":"IF(POWER((($A$2*0.5*$A$4)/600)*SQRT(3)/1.2,2)<1,\"\",POWER((($A$2*0.5*$A$4)/600)*SQRT(3)/1.2,2))","v":2.083333333333333},{"$f":"IF(POWER((($D$6*0.5*$H$6)/600)*SQRT(3)/1,2)<1,\"\",POWER((($D$6*0.5*$H$6)/600)*SQRT(3)/1,2))","v":""},"",{"$f":"IF(POWER((($A$2*0.5*$A$4)/600)*SQRT(3)/1.6,2)<1,\"\",POWER((($A$2*0.5*$A$4)/600)*SQRT(3)/1.6,2))","v":1.1718749999999998},{"$f":"IF(POWER((($D$6*0.5*$H$6)/600)*SQRT(3)/1,2)<1,\"\",POWER((($D$6*0.5*$H$6)/600)*SQRT(3)/1,2))","v":""},"",{"$f":"IF(POWER((($A$2*0.5*$A$4)/600)*SQRT(3)/2,2)<1,\"\",POWER((($A$2*0.5*$A$4)/600)*SQRT(3)/2,2))","v":""},{"$f":"IF(POWER((($D$6*0.5*$H$6)/600)*SQRT(3)/1,2)<1,\"\",POWER((($D$6*0.5*$H$6)/600)*SQRT(3)/1,2))","v":""},"",{"$f":"IF(POWER((($A$2*0.5*$A$4)/600)*SQRT(3)/2.4,2)<1,\"\",POWER((($A$2*0.5*$A$4)/600)*SQRT(3)/2.4,2))","v":""},{"$f":"IF(POWER((($D$6*0.5*$H$6)/600)*SQRT(3)/1,2)<1,\"\",POWER((($D$6*0.5*$H$6)/600)*SQRT(3)/1,2))","v":""},""]
["Volumenstrom/Düse",{"$f":"(0.8*SQRT(B8)/SQRT(3))","v":1}]
["Abdriftminderungsklasse",50,75,90,50,75,90,50,75,90,50,75,90,50,75,90,50,75,90]
[]
["IDKT C\nwww.lechler.de",null,null,null,null,null,null,{"$f":"IF($H$8<6,Abdriftminderungsklasse!H40,\"\")","v":"1,5 - 3 bar"},{"$f":"IF($H$8<6,Abdriftminderungsklasse!I40,\"\")","v":"1,5 bar"},null,{"$f":"IF($K$8<6,Abdriftminderungsklasse!K40,\"\")","v":"1 - 3 bar"},{"$f":"IF($K$8<6,Abdriftminderungsklasse!L40,\"\")","v":"1 - 1,5 bar"},{"$f":"IF($K$8<6,Abdriftminderungsklasse!M40,\"\")","v":"1 bar"},{"$f":"IF($N$8<6,Abdriftminderungsklasse!N40,\"\")","v":""},{"$f":"IF($N$8<6,Abdriftminderungsklasse!O40,\"\")","v":""},{"$f":"IF($N$8<6,Abdriftminderungsklasse!P40,\"\")","v":""}]
["IDKT POM\nwww.lechler.de",{"$f":"IF($B$8<6,Abdriftminderungsklasse!B41,\"\")","v":"1,5 - 5 bar"},{"$f":"IF($B$8<6,Abdriftminderungsklasse!C41,\"\")","v":"1,5 - 3 bar"},{"$f":"IF($B$8<6,Abdriftminderungsklasse!D41,\"\")","v":"1,5 bar"},{"$f":"IF($E$8<6,Abdriftminderungsklasse!E41,\"\")","v":"1,5 - 3 bar"},{"$f":"IF($E$8<6,Abdriftminderungsklasse!F41,\"\")","v":"1,5 - 2 bar"},{"$f":"IF($E$8<6,Abdriftminderungsklasse!G41,\"\")","v":"1,5 bar"},{"$f":"IF($H$8<6,Abdriftminderungsklasse!H41,\"\")","v":"1 - 4 bar"},{"$f":"IF($H$8<6,Abdriftminderungsklasse!I41,\"\")","v":"1 - 2 bar"},{"$f":"IF($H$8<6,Abdriftminderungsklasse!J41,\"\")","v":"1 - 1,5 bar"},{"$f":"IF($K$8<6,Abdriftminderungsklasse!K41,\"\")","v":"1 - 2 bar"},{"$f":"IF($K$8<6,Abdriftminderungsklasse!L41,\"\")","v":"1 - 1,5 bar"},{"$f":"IF($K$8<6,Abdriftminderungsklasse!M41,\"\")","v":"1 bar"},{"$f":"IF($N$8<6,Abdriftminderungsklasse!N41,\"\")","v":""},{"$f":"IF($N$8<6,Abdriftminderungsklasse!O41,\"\")","v":""},{"$f":"IF($N$8<6,Abdriftminderungsklasse!P41,\"\")","v":""},{"$f":"IF($Q$8<6,Abdriftminderungsklasse!Q41,\"\")","v":""},{"$f":"IF($Q$8<6,Abdriftminderungsklasse!R41,\"\")","v":""},{"$f":"IF($Q$8<6,Abdriftminderungsklasse!S41,\"\")","v":""}]
["MinidriftDuo\nwww.hardi-gmbh.com/de/Home.aspx",null,null,null,null,null,null,{"$f":"IF($H$8<6,Abdriftminderungsklasse!H43,\"\")","v":"1 - 4 bar"},{"$f":"IF($H$8<6,Abdriftminderungsklasse!I43,\"\")","v":"1 - 2 bar"},{"$f":"IF($H$8<6,Abdriftminderungsklasse!J43,\"\")","v":"1 - 1,5 bar"},{"$f":"IF($K$8<6,Abdriftminderungsklasse!K43,\"\")","v":"1 - 2 bar"},{"$f":"IF($K$8<6,Abdriftminderungsklasse!L43,\"\")","v":"1 - 1,5 bar"},{"$f":"IF($K$8<6,Abdriftminderungsklasse!M43,\"\")","v":"1 bar"},{"$f":"IF($N$8<6,Abdriftminderungsklasse!N43,\"\")","v":""},{"$f":"IF($N$8<6,Abdriftminderungsklasse!O43,\"\")","v":""},{"$f":"IF($N$8<6,Abdriftminderungsklasse!P43,\"\")","v":""}]
["CVI Twin\nwww.agrotop.com",null,null,null,null,null,null,{"$f":"IF($H$8<6,Abdriftminderungsklasse!H44,\"\")","v":"1,5 - 6 bar"},{"$f":"IF($H$8<6,Abdriftminderungsklasse!I44,\"\")","v":"1,5 - 2 bar"},{"$f":"IF($H$8<6,Abdriftminderungsklasse!J44,\"\")","v":"1,5 bar"},{"$f":"IF($K$8<6,Abdriftminderungsklasse!K44,\"\")","v":"1,5 - 6 bar"},{"$f":"IF($K$8<6,Abdriftminderungsklasse!L44,\"\")","v":"1,5 - 6 bar"},{"$f":"IF($K$8<6,Abdriftminderungsklasse!M44,\"\")","v":"1,5 bar"}]
[]
["*Der angegebene Druck ist ein tabellarischer Wert, da in jedem  Pflanzenschutzgerät Druckverluste auftreten, muss das Gerät vor Inbetriebnahme ausgelitert werden\nGültig nur für ISO 10625 genormte Düsen bei einem Düsenabstand von 50 cm! Für Vollständigkeit und Richtigkeit wird keine Gewähr übernommen"]

{"sheet":"25cm Düsenabstand","index":5,"n_rows":17,"n_cols":19,"rows_kept":17,"cut":false,"hidden":false,"merged":[[1,6,1,7],[6,1,6,3],[6,4,6,6],[6,7,6,9],[6,10,6,12],[8,1,8,18],[16,0,16,18],[6,16,6,18],[7,1,7,3],[7,4,7,6],[7,7,7,9],[7,10,7,12],[7,13,7,15],[7,16,7,18],[6,13,6,15]]}
[]
[200,"gewünschte Wasseraufwandmenge in l/ha",null,null,null,null,"zurück zur\nÜbersicht"]
["Daten in die gelben Felder eintragen"]
[10,"Fahrgeschwindigkeit in km/hWasseraufwandmenge in l/ha"]
[]
[]
["Düsengröße/-farbe",{"$f":"\"02\"","v":"02"},null,null,{"$f":"\"025\"","v":"025"},null,null,{"$f":"\"03\"","v":"03"},null,null,{"$f":"\"04\"","v":"04"},null,null,{"$f":"\"05\"","v":"05"},null,null,{"$f":"\"06\"","v":"06"}]
["Spritzdruck*",{"$f":"IF(POWER((($A$2*0.25*$A$4)/600)*SQRT(3)/0.8,2)<1,\"\",POWER((($A$2*0.25*$A$4)/600)*SQRT(3)/0.8,2))","v":3.2552083333333321},{"$f":"IF(POWER((($D$6*0.5*$H$6)/600)*SQRT(3)/1,2)<1,\"\",POWER((($D$6*0.5*$H$6)/600)*SQRT(3)/1,2))","v":""},{"$f":"IF(POWER((($D$6*0.5*$H$6)/600)*SQRT(3)/1,2)<1,\"\",POWER((($D$6*0.5*$H$6)/600)*SQRT(3)/1,2))","v":""},{"$f":"IF(POWER((($A$2*0.25*$A$4)/600)*SQRT(3)/1,2)<1,\"\",POWER((($A$2*0.25*$A$4)/600)*SQRT(3)/1,2))","v":2.083333333333333},{"$f":"IF(POWER((($D$6*0.5*$H$6)/600)*SQRT(3)/1,2)<1,\"\",POWER((($D$6*0.5*$H$6)/600)*SQRT(3)/1,2))","v":""},{"$f":"IF(POWER((($D$6*0.5*$H$6)/600)*SQRT(3)/1,2)<1,\"\",POWER((($D$6*0.5*$H$6)/600)*SQRT(3)/1,2))","v":""},{"$f":"IF(POWER((($A$2*0.25*$A$4)/600)*SQRT(3)/1.2,2)<1,\"\",POWER((($A$2*0.25*$A$4)/600)*SQRT(3)/1.2,2))","v":1.4467592592592591},{"$f":"IF(POWER((($D$6*0.5*$H$6)/600)*SQRT(3)/1,2)<1,\"\",POWER((($D$6*0.5*$H$6)/600)*SQRT(3)/1,2))","v":""},"",{"$f":"IF(POWER((($A$2*0.25*$A$4)/600)*SQRT(3)/1.6,2)<1,\"\",POWER((($A$2*0.255*$A$4)/600)*SQRT(3)/1.6,2))","v":""},{"$f":"IF(POWER((($D$6*0.5*$H$6)/600)*SQRT(3)/1,2)<1,\"\",POWER((($D$6*0.5*$H$6)/600)*SQRT(3)/1,2))","v":""},"",{"$f":"IF(POWER((($A$2*0.25*$A$4)/600)*SQRT(3)/2,2)<1,\"\",POWER((($A$2*0.25*$A$4)/600)*SQRT(3)/2,2))","v":""},{"$f":"IF(POWER((($D$6*0.5*$H$6)/600)*SQRT(3)/1,2)<1,\"\",POWER((($D$6*0.5*$H$6)/600)*SQRT(3)/1,2))","v":""},"",{"$f":"IF(POWER((($A$2*0.25*$A$4)/600)*SQRT(3)/2.4,2)<1,\"\",POWER((($A$2*0.25*$A$4)/600)*SQRT(3)/2.4,2))","v":""},{"$f":"IF(POWER((($D$6*0.5*$H$6)/600)*SQRT(3)/1,2)<1,\"\",POWER((($D$6*0.5*$H$6)/600)*SQRT(3)/1,2))","v":""},""]
["Volumenstrom/Düse",{"$f":"(0.8*SQRT(B8)/SQRT(3))","v":0.83333333333333337}]
["Abdriftminderungsklasse",50,75,90,50,75,90,50,75,90,50,75,90,50,75,90,50,75,90]
[]
[]
["CVI 80°\nwww.agrotop.com",{"$f":"IF($B$8<6,Abdriftminderungsklasse!B15,\"\")","v":"3 - 8 bar"},{"$f":"IF($B$8<6,Abdriftminderungsklasse!C15,\"\")","v":"3 - 8 bar"},{"$f":"IF($B$8<6,Abdriftminderungsklasse!D15,\"\")","v":"3 - 8 bar"}]
[]
[]
[]
["*Der angegebene Druck ist ein tabellarischer Wert, da in jedem  Pflanzenschutzgerät Druckverluste auftreten, muss das Gerät vor Inbetriebnahme ausgelitert werden\nGültig nur für ISO 10625 genormte Düsen bei einem Düsenabstand von 50 cm! Für Vollständigkeit und Richtigkeit wird keine Gewähr übernommen"]

{"sheet":"kompakt<90%","index":6,"n_rows":23,"n_cols":16,"rows_kept":23,"cut":false,"hidden":false,"merged":[[1,6,1,7],[23,2,26,3],[7,1,7,3],[6,1,6,3],[7,4,7,6],[6,4,6,6],[22,0,22,15],[6,13,6,15],[7,13,7,15],[8,1,8,15],[7,7,7,9],[7,10,7,12],[6,7,6,9],[6,10,6,12]]}
[]
[150,"gewünschte Wasseraufwandmenge in l/ha",null,null,null,null,"zurück zur\nÜbersicht"]
["Daten in die gelben Felder eintragen"]
[10,"Fahrgeschwindigkeit in km/hWasseraufwandmenge in l/ha"]
[]
[]
["Düsengröße/-farbe",{"$f":"\"025\"","v":"025"},null,null,{"$f":"\"03\"","v":"03"},null,null,{"$f":"\"04\"","v":"04"},null,null,{"$f":"\"05\"","v":"05"},null,null,{"$f":"\"06\"","v":"06"}]
["Spritzdruck*",{"$f":"IF(POWER((($A$2*0.5*$A$4)/600)*SQRT(3)/1,2)<1,\"\",POWER((($A$2*0.5*$A$4)/600)*SQRT(3)/1,2))","v":4.6874999999999991},{"$f":"IF(POWER((($D$6*0.5*$H$6)/600)*SQRT(3)/1,2)<1,\"\",POWER((($D$6*0.5*$H$6)/600)*SQRT(3)/1,2))","v":""},{"$f":"IF(POWER((($D$6*0.5*$H$6)/600)*SQRT(3)/1,2)<1,\"\",POWER((($D$6*0.5*$H$6)/600)*SQRT(3)/1,2))","v":""},{"$f":"IF(POWER((($A$2*0.5*$A$4)/600)*SQRT(3)/1.2,2)<1,\"\",POWER((($A$2*0.5*$A$4)/600)*SQRT(3)/1.2,2))","v":3.255208333333333},{"$f":"IF(POWER((($D$6*0.5*$H$6)/600)*SQRT(3)/1,2)<1,\"\",POWER((($D$6*0.5*$H$6)/600)*SQRT(3)/1,2))","v":""},{"$f":"IF(POWER((($D$6*0.5*$H$6)/600)*SQRT(3)/1,2)<1,\"\",POWER((($D$6*0.5*$H$6)/600)*SQRT(3)/1,2))","v":""},{"$f":"IF(POWER((($A$2*0.5*$A$4)/600)*SQRT(3)/1.6,2)<1,\"\",POWER((($A$2*0.5*$A$4)/600)*SQRT(3)/1.6,2))","v":1.8310546874999993},{"$f":"IF(POWER((($D$6*0.5*$H$6)/600)*SQRT(3)/1,2)<1,\"\",POWER((($D$6*0.5*$H$6)/600)*SQRT(3)/1,2))","v":""},{"$f":"IF(POWER((($D$6*0.5*$H$6)/600)*SQRT(3)/1,2)<1,\"\",POWER((($D$6*0.5*$H$6)/600)*SQRT(3)/1,2))","v":""},{"$f":"IF(POWER((($A$2*0.5*$A$4)/600)*SQRT(3)/2,2)<1,\"\",POWER((($A$2*0.5*$A$4)/600)*SQRT(3)/2,2))","v":1.1718749999999998},{"$f":"IF(POWER((($D$6*0.5*$H$6)/600)*SQRT(3)/1,2)<1,\"\",POWER((($D$6*0.5*$H$6)/600)*SQRT(3)/1,2))","v":""},{"$f":"IF(POWER((($D$6*0.5*$H$6)/600)*SQRT(3)/1,2)<1,\"\",POWER((($D$6*0.5*$H$6)/600)*SQRT(3)/1,2))","v":""},{"$f":"IF(POWER((($A$2*0.5*$A$4)/600)*SQRT(3)/2.4,2)<1,\"\",POWER((($A$2*0.5*$A$4)/600)*SQRT(3)/2.4,2))","v":""},{"$f":"IF(POWER((($D$6*0.5*$H$6)/600)*SQRT(3)/1,2)<1,\"\",POWER((($D$6*0.5*$H$6)/600)*SQRT(3)/1,2))","v":""},{"$f":"IF(POWER((($D$6*0.5*$H$6)/600)*SQRT(3)/1,2)<1,\"\",POWER((($D$6*0.5*$H$6)/600)*SQRT(3)/1,2))","v":""}]
["Volumenstrom/Düse",{"$f":"(1*SQRT(B8)/SQRT(3))","v":1.25}]
["Abdriftminderungsklasse",50,75,90,50,75,90,50,75,90,50,75,90,50,75,90]
[]
["AirMix\nwww.agrotop.com",null,null,null,{"$f":"IF($E$8<6,Abdriftminderungsklasse!H4,\"\")","v":"1,5 - 2 bar"},null,null,{"$f":"IF($H$8<6,Abdriftminderungsklasse!K4,\"\")","v":"1 - 2 bar"},{"$f":"IF($H$8<6,Abdriftminderungsklasse!L4,\"\")","v":"1 bar"}]
["AirMix NoDrift \nwww.agrotop.com",{"$f":"IF($B$8<6,Abdriftminderungsklasse!E5,\"\")","v":"2,5 - 6 bar"},null,null,{"$f":"IF($E$8<6,Abdriftminderungsklasse!H5,\"\")","v":"3 - 4 bar"},null,null,{"$f":"IF($H$8<6,Abdriftminderungsklasse!K5,\"\")","v":"2 - 8 bar"},{"$f":"IF($H$8<6,Abdriftminderungsklasse!L5,\"\")","v":"2 - 2,5 bar"}]
["IDK POM \nwww.lechler.de",{"$f":"IF($B$8<6,Abdriftminderungsklasse!E6,\"\")","v":"1,5 - 2 bar"},null,null,{"$f":"IF($E$8<6,Abdriftminderungsklasse!H6,\"\")","v":"1,5 - 2 bar"},null,null,{"$f":"IF($H$8<6,Abdriftminderungsklasse!K6,\"\")","v":"1 - 3 bar"},{"$f":"IF($H$8<6,Abdriftminderungsklasse!L6,\"\")","v":"1 bar"}]
["IDK C\nwww.lechler.de",null,null,null,null,null,null,null,null,null,{"$f":"IF($K$8<6,Abdriftminderungsklasse!N7,\"\")","v":"1,5 - 4 bar"},{"$f":"IF($K$8<6,Abdriftminderungsklasse!O7,\"\")","v":"1,5 bar"}]
["Minidrift (MD)\nwww.hardi-gmbh.com/de",{"$f":"IF($B$8<6,Abdriftminderungsklasse!E8,\"\")","v":"1,5 - 2 bar"},null,null,{"$f":"IF($E$8<6,Abdriftminderungsklasse!H8,\"\")","v":"1 - 2 bar"},{"$f":"IF($E$8<6,Abdriftminderungsklasse!I8,\"\")","v":"1 bar"}]
["AIXR\nwww.teejet.de",null,null,null,{"$f":"IF($E$8<6,Abdriftminderungsklasse!H9,\"\")","v":"1,5 - 2 bar"},null,null,{"$f":"IF($H$8<6,Abdriftminderungsklasse!K9,\"\")","v":"1,5 - 3 bar"},{"$f":"IF($H$8<6,Abdriftminderungsklasse!L9,\"\")","v":"1,5 bar"}]
["TurboTeejet (TT)\nwww.teejet.de",null,null,null,{"$f":"IF($E$8<6,Abdriftminderungsklasse!H11,\"\")","v":"1 - 1,5 bar"},null,null,{"$f":"IF($H$8<6,Abdriftminderungsklasse!K11,\"\")","v":"1 - 1,5 bar"}]
["ULD / John Deere PSULDQ20\nwww.ppv-wellbrock.de/duesen",null,null,null,{"$f":"IF($E$8<6,Abdriftminderungsklasse!H10,\"\")","v":"2,5 - 8 bar"}]
["Guardian Air / John Deere PSLDAQ\nwww.ppv-wellbrock.de/duesen",{"$f":"IF(B8<6,Abdriftminderungsklasse!B12,\"\")","v":"1 - 2 bar"},null,null,{"$f":"IF(E8<6,Abdriftminderungsklasse!H12,\"\")","v":"1,5 - 2,5 bar"},{"$f":"IF(E8<6,Abdriftminderungsklasse!I12,\"\")","v":"1,5 bar"},null,{"$f":"IF(H8<6,Abdriftminderungsklasse!K12,\"\")","v":"1 - 2,5 bar"},{"$f":"IF(H8<6,Abdriftminderungsklasse!L12,\"\")","v":"1 - 1,5 bar"},null,{"$f":"IF($K$8<6,Abdriftminderungsklasse!N12,\"\")","v":"1 - 2,5 bar"},{"$f":"IF($K$8<6,Abdriftminderungsklasse!O12,\"\")","v":"1 - 1,5 bar"}]
[]
[]
["*Der angegebene Druck ist ein tabellarischer Wert, da in jedem  Pflanzenschutzgerät Druckverluste auftreten, muss das Gerät vor Inbetriebnahme ausgelitert werden\nGültig nur für ISO 10625 genormte Düsen bei einem Düsenabstand von 50 cm! Für Vollständigkeit und Richtigkeit wird keine Gewähr übernommen"]

{"sheet":"kompakt mit 90%","index":7,"n_rows":22,"n_cols":19,"rows_kept":22,"cut":false,"hidden":false,"merged":[[1,6,1,7],[6,16,6,18],[6,1,6,3],[6,4,6,6],[6,7,6,9],[6,10,6,12],[6,13,6,15],[8,1,8,18],[11,0,11,18],[35,4,35,5],[7,1,7,3],[7,4,7,6],[7,7,7,9],[7,10,7,12],[7,13,7,15],[7,16,7,18],[21,0,21,18]]}
[]
[200,"gewünschte Wasseraufwandmenge in l/ha",null,null,null,null,"zurück zur\nÜbersicht"]
["Daten in die gelben Felder eintragen"]
[10,"Fahrgeschwindigkeit in km/hWasseraufwandmenge in l/ha"]
[]
[]
["Düsengröße/-farbe",{"$f":"\"02\"","v":"02"},null,null,{"$f":"\"025\"","v":"025"},null,null,{"$f":"\"03\"","v":"03"},null,null,{"$f":"\"04\"","v":"04"},null,null,{"$f":"\"05\"","v":"05"},null,null,{"$f":"\"06\"","v":"06"}]
["Spritzdruck*",{"$f":"IF(POWER((($A$2*0.5*$A$4)/600)*SQRT(3)/0.8,2)<1,\"\",POWER((($A$2*0.5*$A$4)/600)*SQRT(3)/0.8,2))","v":13.020833333333329},{"$f":"IF(POWER((($D$6*0.5*$H$6)/600)*SQRT(3)/1,2)<1,\"\",POWER((($D$6*0.5*$H$6)/600)*SQRT(3)/1,2))","v":""},{"$f":"IF(POWER((($D$6*0.5*$H$6)/600)*SQRT(3)/1,2)<1,\"\",POWER((($D$6*0.5*$H$6)/600)*SQRT(3)/1,2))","v":""},{"$f":"IF(POWER((($A$2*0.5*$A$4)/600)*SQRT(3)/1,2)<1,\"\",POWER((($A$2*0.5*$A$4)/600)*SQRT(3)/1,2))","v":8.3333333333333321},{"$f":"IF(POWER((($D$6*0.5*$H$6)/600)*SQRT(3)/1,2)<1,\"\",POWER((($D$6*0.5*$H$6)/600)*SQRT(3)/1,2))","v":""},{"$f":"IF(POWER((($D$6*0.5*$H$6)/600)*SQRT(3)/1,2)<1,\"\",POWER((($D$6*0.5*$H$6)/600)*SQRT(3)/1,2))","v":""},{"$f":"IF(POWER((($A$2*0.5*$A$4)/600)*SQRT(3)/1.2,2)<1,\"\",POWER((($A$2*0.5*$A$4)/600)*SQRT(3)/1.2,2))","v":5.7870370370370363},{"$f":"IF(POWER((($D$6*0.5*$H$6)/600)*SQRT(3)/1,2)<1,\"\",POWER((($D$6*0.5*$H$6)/600)*SQRT(3)/1,2))","v":""},"",{"$f":"IF(POWER((($A$2*0.5*$A$4)/600)*SQRT(3)/1.6,2)<1,\"\",POWER((($A$2*0.5*$A$4)/600)*SQRT(3)/1.6,2))","v":3.2552083333333321},{"$f":"IF(POWER((($D$6*0.5*$H$6)/600)*SQRT(3)/1,2)<1,\"\",POWER((($D$6*0.5*$H$6)/600)*SQRT(3)/1,2))","v":""},"",{"$f":"IF(POWER((($A$2*0.5*$A$4)/600)*SQRT(3)/2,2)<1,\"\",POWER((($A$2*0.5*$A$4)/600)*SQRT(3)/2,2))","v":2.083333333333333},{"$f":"IF(POWER((($D$6*0.5*$H$6)/600)*SQRT(3)/1,2)<1,\"\",POWER((($D$6*0.5*$H$6)/600)*SQRT(3)/1,2))","v":""},"",{"$f":"IF(POWER((($A$2*0.5*$A$4)/600)*SQRT(3)/2.4,2)<1,\"\",POWER((($A$2*0.5*$A$4)/600)*SQRT(3)/2.4,2))","v":1.4467592592592591},{"$f":"IF(POWER((($D$6*0.5*$H$6)/600)*SQRT(3)/1,2)<1,\"\",POWER((($D$6*0.5*$H$6)/600)*SQRT(3)/1,2))","v":""},""]
["Volumenstrom/Düse",{"$f":"(0.8*SQRT(B8)/SQRT(3))","v":1.6666666666666667}]
["Abdriftminderungsklasse",50,75,90,50,75,90,50,75,90,50,75,90,50,75,90,50,75,90]
[]
[]
["IDKN\nwww.lechler.de",null,null,null,null,null,null,{"$f":"IF($H$8<8,Abdriftminderungsklasse!H32,\"\")","v":"1 - 3 bar"},{"$f":"IF($H$8<8,Abdriftminderungsklasse!I32,\"\")","v":"1 - 1,5 bar"},{"$f":"IF($H$8<8,Abdriftminderungsklasse!J32,\"\")","v":"1 bar"},{"$f":"IF($K$8<8,Abdriftminderungsklasse!K32,\"\")","v":"1 - 3 bar"},{"$f":"IF($K$8<8,Abdriftminderungsklasse!L32,\"\")","v":"1 - 1,5 bar"},{"$f":"IF($K$8<8,Abdriftminderungsklasse!M32,\"\")","v":"1 bar"}]
["IDK POM\nwww.lechler.de",null,null,null,null,null,null,null,null,null,null,null,null,{"$f":"IF($N$8<6,Abdriftminderungsklasse!N6,\"\")","v":"1 - 4 bar"},{"$f":"IF($N$8<6,Abdriftminderungsklasse!O6,\"\")","v":"1 - 1,5 bar"},{"$f":"IF($N$8<6,Abdriftminderungsklasse!P6,\"\")","v":"1 bar"},{"$f":"IF($Q$8<6,Abdriftminderungsklasse!Q6,\"\")","v":"1 - 6 bar"},{"$f":"IF($Q$8<6,Abdriftminderungsklasse!R6,\"\")","v":"1 - 3 bar"},{"$f":"IF($Q$8<6,Abdriftminderungsklasse!S6,\"\")","v":"1 bar"}]
["IDK C\nwww.lechler.de",null,null,null,null,null,null,null,null,null,{"$f":"IF($K$8<8,Abdriftminderungsklasse!K7,\"\")","v":"1,5 - 3 bar"},{"$f":"IF($K$8<8,Abdriftminderungsklasse!L7,\"\")","v":"1,5 - 2 bar"},{"$f":"IF($K$8<8,Abdriftminderungsklasse!M7,\"\")","v":"1,5 bar"}]
["AirMix\nwww.agrotop.com",null,null,null,null,null,null,null,null,null,null,null,null,{"$f":"IF($N$8<6,Abdriftminderungsklasse!N4,\"\")","v":"1 - 6 bar"},{"$f":"IF($N$8<6,Abdriftminderungsklasse!O4,\"\")","v":"1 - 1,5 bar"},{"$f":"IF($N$8<6,Abdriftminderungsklasse!P4,\"\")","v":"1 bar"}]
["ULD / John Deere PSULDQ20\nwww.ppv-wellbrock.de/duesen",null,null,null,null,null,null,null,null,null,{"$f":"IF($K$8<6,Abdriftminderungsklasse!K10,\"\")","v":"2,5 - 8 bar"},{"$f":"IF($K$8<6,Abdriftminderungsklasse!L10,\"\")","v":"2,5 - 8 bar"},{"$f":"IF($K$8<6,Abdriftminderungsklasse!M10,\"\")","v":"2,5 bar"},{"$f":"IF($N$8<6,Abdriftminderungsklasse!N10,\"\")","v":"2,5 - 8 bar"},{"$f":"IF($N$8<6,Abdriftminderungsklasse!O10,\"\")","v":"2,5 - 8 bar"},{"$f":"IF($N$8<6,Abdriftminderungsklasse!P10,\"\")","v":"2,5 - 8 bar"}]
["AIXR\nwww.teejet.de",null,null,null,null,null,null,null,null,null,null,null,null,{"$f":"IF($N$8<6,Abdriftminderungsklasse!N9,\"\")","v":"1 - 6 bar"},{"$f":"IF($N$8<6,Abdriftminderungsklasse!O9,\"\")","v":"1 - 2,5 bar"},{"$f":"IF($N$8<6,Abdriftminderungsklasse!P9,\"\")","v":"1 - 1,5 bar"}]
["1/4 TTJ + QJ 4676-90\nwww.teejet.de",null,null,null,null,null,null,null,null,null,null,null,null,null,null,null,{"$f":"IF($N$8<6,Abdriftminderungsklasse!Q13,\"\")","v":"1 - 6 bar"},{"$f":"IF($N$8<6,Abdriftminderungsklasse!R13,\"\")","v":"1 - 4 bar"},{"$f":"IF($N$8<6,Abdriftminderungsklasse!S13,\"\")","v":"1 - 2 bar"}]
["MD\nwww.hardi-gmbh.com",null,null,null,null,null,null,null,null,null,{"$f":"IF($K$8<8,Abdriftminderungsklasse!K8,\"\")","v":"1 - 3 bar"},{"$f":"IF($K$8<8,Abdriftminderungsklasse!L8,\"\")","v":"1 bar"},{"$f":"IF($K$8<8,Abdriftminderungsklasse!M8,\"\")","v":"1 bar"},{"$f":"IF($N$8<8,Abdriftminderungsklasse!N8,\"\")","v":"1 - 6 bar"},{"$f":"IF($N$8<8,Abdriftminderungsklasse!O8,\"\")","v":"1 - 1,5 bar"},{"$f":"IF($N$8<8,Abdriftminderungsklasse!P8,\"\")","v":"1 bar"}]
[]
["*Der angegebene Druck ist ein tabellarischer Wert, da in jedem  Pflanzenschutzgerät Druckverluste auftreten, muss das Gerät vor Inbetriebnahme ausgelitert werden\nGültig nur für ISO 10625 genormte Düsen bei einem Düsenabstand von 50 cm! Für Vollständigkeit und Richtigkeit wird keine Gewähr übernommen"]

{"sheet":"Doppelkompakt<90","index":8,"n_rows":16,"n_cols":19,"rows_kept":16,"cut":false,"hidden":false,"merged":[[6,16,6,18],[7,16,7,18],[8,1,8,18],[15,0,15,18],[1,6,1,7],[6,13,6,15],[6,1,6,3],[6,4,6,6],[6,7,6,9],[6,10,6,12],[7,1,7,3],[7,4,7,6],[7,7,7,9],[7,10,7,12],[7,13,7,15]]}
[]
[200,"gewünschte Wasseraufwandmenge in l/ha",null,null,null,null,"zurück zur\nÜbersicht"]
["Daten in die gelben Felder eintragen"]
[8,"Fahrgeschwindigkeit in km/hWasseraufwandmenge in l/ha"]
[]
[]
["Düsengröße/-farbe",{"$f":"\"02\"","v":"02"},null,null,{"$f":"\"025\"","v":"025"},null,null,{"$f":"\"03\"","v":"03"},null,null,{"$f":"\"04\"","v":"04"},null,null,{"$f":"\"05\"","v":"05"},null,null,{"$f":"\"06\"","v":"06"}]
["Spritzdruck*",{"$f":"IF(POWER((($A$2*0.5*$A$4)/600)*SQRT(3)/0.8,2)<1,\"\",POWER((($A$2*0.5*$A$4)/600)*SQRT(3)/0.8,2))","v":8.3333333333333321},{"$f":"IF(POWER((($D$6*0.5*$H$6)/600)*SQRT(3)/1,2)<1,\"\",POWER((($D$6*0.5*$H$6)/600)*SQRT(3)/1,2))","v":""},{"$f":"IF(POWER((($D$6*0.5*$H$6)/600)*SQRT(3)/1,2)<1,\"\",POWER((($D$6*0.5*$H$6)/600)*SQRT(3)/1,2))","v":""},{"$f":"IF(POWER((($A$2*0.5*$A$4)/600)*SQRT(3)/1,2)<1,\"\",POWER((($A$2*0.5*$A$4)/600)*SQRT(3)/1,2))","v":5.333333333333333},{"$f":"IF(POWER((($D$6*0.5*$H$6)/600)*SQRT(3)/1,2)<1,\"\",POWER((($D$6*0.5*$H$6)/600)*SQRT(3)/1,2))","v":""},{"$f":"IF(POWER((($D$6*0.5*$H$6)/600)*SQRT(3)/1,2)<1,\"\",POWER((($D$6*0.5*$H$6)/600)*SQRT(3)/1,2))","v":""},{"$f":"IF(POWER((($A$2*0.5*$A$4)/600)*SQRT(3)/1.2,2)<1,\"\",POWER((($A$2*0.5*$A$4)/600)*SQRT(3)/1.2,2))","v":3.7037037037037037},{"$f":"IF(POWER((($D$6*0.5*$H$6)/600)*SQRT(3)/1,2)<1,\"\",POWER((($D$6*0.5*$H$6)/600)*SQRT(3)/1,2))","v":""},"",{"$f":"IF(POWER((($A$2*0.5*$A$4)/600)*SQRT(3)/1.6,2)<1,\"\",POWER((($A$2*0.5*$A$4)/600)*SQRT(3)/1.6,2))","v":2.083333333333333},{"$f":"IF(POWER((($D$6*0.5*$H$6)/600)*SQRT(3)/1,2)<1,\"\",POWER((($D$6*0.5*$H$6)/600)*SQRT(3)/1,2))","v":""},"",{"$f":"IF(POWER((($A$2*0.5*$A$4)/600)*SQRT(3)/2,2)<1,\"\",POWER((($A$2*0.5*$A$4)/600)*SQRT(3)/2,2))","v":1.3333333333333333},{"$f":"IF(POWER((($D$6*0.5*$H$6)/600)*SQRT(3)/1,2)<1,\"\",POWER((($D$6*0.5*$H$6)/600)*SQRT(3)/1,2))","v":""},"",{"$f":"IF(POWER((($A$2*0.5*$A$4)/600)*SQRT(3)/2.4,2)<1,\"\",POWER((($A$2*0.5*$A$4)/600)*SQRT(3)/2.4,2))","v":""},{"$f":"IF(POWER((($D$6*0.5*$H$6)/600)*SQRT(3)/1,2)<1,\"\",POWER((($D$6*0.5*$H$6)/600)*SQRT(3)/1,2))","v":""},""]
["Volumenstrom/Düse",{"$f":"(0.8*SQRT(B8)/SQRT(3))","v":1.3333333333333333}]
["Abdriftminderungsklasse",50,75,90,50,75,90,50,75,90,50,75,90,50,75,90,50,75,90]
[]
["IDKT C\nwww.lechler.de",null,null,null,null,null,null,{"$f":"IF($H$8<6,Abdriftminderungsklasse!H40,\"\")","v":"1,5 - 3 bar"},{"$f":"IF($H$8<6,Abdriftminderungsklasse!I40,\"\")","v":"1,5 bar"}]
["CVI Twin\nwww.agrotop.com",{"$f":"IF($E$8<6,Abdriftminderungsklasse!B44,\"\")","v":"1,5 - 3 bar"},null,null,{"$f":"IF($E$8<6,Abdriftminderungsklasse!E44,\"\")","v":"1,5 - 3 bar"},{"$f":"IF($E$8<6,Abdriftminderungsklasse!F44,\"\")","v":"1,5 - 2 bar"},null,null,null,null,{"$f":"IF($K$8<6,Abdriftminderungsklasse!N44,\"\")","v":"1,5 - 6 bar"},{"$f":"IF($K$8<6,Abdriftminderungsklasse!O44,\"\")","v":"1,5 - 6 bar"}]
["Guardian Air Twin / John Deere PSGAT\nwww.hypro-eu.com",null,null,null,{"$f":"IF($E$8<6,Abdriftminderungsklasse!E45,\"\")","v":"2 - 2,5 bar"},null,null,{"$f":"IF($H$8<6,Abdriftminderungsklasse!H45,\"\")","v":"2 - 3 bar"},null,null,{"$f":"IF($K$8<6,Abdriftminderungsklasse!K45,\"\")","v":"2 - 2,5 bar"},null,null,{"$f":"IF($N$8<6,Abdriftminderungsklasse!N45,\"\")","v":"2 - 3 bar"},null,null,{"$f":"IF($Q$8<6,Abdriftminderungsklasse!Q45,\"\")","v":""}]
[]
["*Der angegebene Druck ist ein tabellarischer Wert, da in jedem  Pflanzenschutzgerät Druckverluste auftreten, muss das Gerät vor Inbetriebnahme ausgelitert werden\nGültig nur für ISO 10625 genormte Düsen bei einem Düsenabstand von 50 cm! Für Vollständigkeit und Richtigkeit wird keine Gewähr übernommen"]

{"sheet":"lange < 90","index":9,"n_rows":20,"n_cols":19,"rows_kept":20,"cut":false,"hidden":false,"merged":[[1,6,1,7],[6,13,6,15],[7,1,7,3],[7,4,7,6],[6,1,6,3],[6,4,6,6],[6,7,6,9],[6,10,6,12],[27,10,27,11],[7,7,7,9],[7,10,7,12],[7,13,7,15],[8,1,8,15],[19,0,21,15]]}
[]
[200,"gewünschte Wasseraufwandmenge in l/ha",null,null,null,null,"zurück zur\nÜbersicht"]
["Daten in die gelben Felder eintragen"]
[7,"Fahrgeschwindigkeit in km/hWasseraufwandmenge in l/ha"]
[]
[]
["Düsengröße/-farbe",{"$f":"\"02\"","v":"02"},null,null,{"$f":"\"025\"","v":"025"},null,null,{"$f":"\"03\"","v":"03"},null,null,{"$f":"\"04\"","v":"04"},null,null,{"$f":"\"05\"","v":"05"}]
["Spritzdruck*",{"$f":"IF(POWER((($A$2*0.5*$A$4)/600)*SQRT(3)/0.8,2)<1,\"\",POWER((($A$2*0.5*$A$4)/600)*SQRT(3)/0.8,2))","v":6.380208333333333},{"$f":"IF(POWER((($D$6*0.5*$H$6)/600)*SQRT(3)/1,2)<1,\"\",POWER((($D$6*0.5*$H$6)/600)*SQRT(3)/1,2))","v":""},{"$f":"IF(POWER((($D$6*0.5*$H$6)/600)*SQRT(3)/1,2)<1,\"\",POWER((($D$6*0.5*$H$6)/600)*SQRT(3)/1,2))","v":""},{"$f":"IF(POWER((($A$2*0.5*$A$4)/600)*SQRT(3)/1,2)<1,\"\",POWER((($A$2*0.5*$A$4)/600)*SQRT(3)/1,2))","v":4.0833333333333339},{"$f":"IF(POWER((($D$6*0.5*$H$6)/600)*SQRT(3)/1,2)<1,\"\",POWER((($D$6*0.5*$H$6)/600)*SQRT(3)/1,2))","v":""},{"$f":"IF(POWER((($D$6*0.5*$H$6)/600)*SQRT(3)/1,2)<1,\"\",POWER((($D$6*0.5*$H$6)/600)*SQRT(3)/1,2))","v":""},{"$f":"IF(POWER((($A$2*0.5*$A$4)/600)*SQRT(3)/1.2,2)<1,\"\",POWER((($A$2*0.5*$A$4)/600)*SQRT(3)/1.2,2))","v":2.8356481481481488},{"$f":"IF(POWER((($D$6*0.5*$H$6)/600)*SQRT(3)/1,2)<1,\"\",POWER((($D$6*0.5*$H$6)/600)*SQRT(3)/1,2))","v":""},"",{"$f":"IF(POWER((($A$2*0.5*$A$4)/600)*SQRT(3)/1.6,2)<1,\"\",POWER((($A$2*0.5*$A$4)/600)*SQRT(3)/1.6,2))","v":1.5950520833333333},{"$f":"IF(POWER((($D$6*0.5*$H$6)/600)*SQRT(3)/1,2)<1,\"\",POWER((($D$6*0.5*$H$6)/600)*SQRT(3)/1,2))","v":""},"",{"$f":"IF(POWER((($A$2*0.5*$A$4)/600)*SQRT(3)/2,2)<1,\"\",POWER((($A$2*0.5*$A$4)/600)*SQRT(3)/2,2))","v":1.0208333333333335},{"$f":"IF(POWER((($D$6*0.5*$H$6)/600)*SQRT(3)/1,2)<1,\"\",POWER((($D$6*0.5*$H$6)/600)*SQRT(3)/1,2))","v":""},"",null,{"$f":"IF(POWER((($D$6*0.5*$H$6)/600)*SQRT(3)/1,2)<1,\"\",POWER((($D$6*0.5*$H$6)/600)*SQRT(3)/1,2))","v":""},""]
["Volumenstrom/Düse",{"$f":"(0.8*SQRT(B8)/SQRT(3))","v":1.1666666666666667}]
["Abdriftminderungsklasse",50,75,90,50,75,90,50,75,90,50,75,90,50,75,90]
[]
["ID\nwww.lechler.de",{"$f":"IF($B$8<8,Abdriftminderungsklasse!B19,\"\")","v":"3 - 3,5 bar"},null,null,{"$f":"IF($E$8<8,Abdriftminderungsklasse!E19,\"\")","v":"3 - 5 bar"},null,null,{"$f":"IF($H$8<8,Abdriftminderungsklasse!H19,\"\")","v":"3 - 8 bar"},{"$f":"IF($H$8<8,Abdriftminderungsklasse!I19,\"\")","v":"3 bar"},null,{"$f":"IF($K$8<8,Abdriftminderungsklasse!K19,\"\")","v":"3 - 5 bar"},{"$f":"IF($K$8<8,Abdriftminderungsklasse!L19,\"\")","v":"3 bar"}]
["ID3 - POM (ID-120-XX-)\nwww.lechler.de",{"$f":"IF($B$8<8,Abdriftminderungsklasse!B30,\"\")","v":"2,5 - 6 bar"}]
["S Injet\nwww.hardi-gmbh.com/de",null,null,null,null,null,null,null,null,null,{"$f":"IF($K$8<8,Abdriftminderungsklasse!K20,\"\")","v":"3 - 5 bar"},{"$f":"IF($K$8<8,Abdriftminderungsklasse!L20,\"\")","v":"3 bar"}]
["AVI \nwww.agrotop.com",null,null,null,null,null,null,{"$f":"IF($H$8<8,Abdriftminderungsklasse!H22,\"\")","v":"3 - 7 bar"},{"$f":"IF($H$8<8,Abdriftminderungsklasse!I22,\"\")","v":"3 bar"},null,{"$f":"IF($K$8<8,Abdriftminderungsklasse!K22,\"\")","v":"3 - 7 bar"},{"$f":"IF($K$8<8,Abdriftminderungsklasse!L22,\"\")","v":"3 bar"}]
["AI / AIC \nwww.teejet.de",null,null,null,{"$f":"IF($E$8<8,Abdriftminderungsklasse!E23,\"\")","v":"2 - 4 bar"},{"$f":"IF($E$8<8,Abdriftminderungsklasse!F23,\"\")","v":"2 bar"},null,{"$f":"IF($H$8<8,Abdriftminderungsklasse!H23,\"\")","v":"2,5 - 8 bar"},{"$f":"IF($H$8<8,Abdriftminderungsklasse!I23,\"\")","v":"2,5 bar"},null,{"$f":"IF($K$8<8,Abdriftminderungsklasse!K23,\"\")","v":"2,5 - 4 bar"},{"$f":"IF($K$8<8,Abdriftminderungsklasse!L23,\"\")","v":"2,5 - 3 bar"}]
["TTI \nwww.teejet.de",{"$f":"IF($B$8<8,Abdriftminderungsklasse!B31,\"\")","v":"2 - 5 bar"},{"$f":"IF($B$8<8,Abdriftminderungsklasse!C31,\"\")","v":"2 - 2,5 bar"}]
[]
[]
["*Der angegebene Druck ist ein tabellarischer Wert, da in jedem  Pflanzenschutzgerät Druckverluste auftreten, muss das Gerät vor Inbetriebnahme ausgelitert werden\nGültig nur für ISO 10625 genormte Düsen bei einem Düsenabstand von 50 cm! Für Vollständigkeit und Richtigkeit wird keine Gewähr übernommen"]

{"sheet":"lang mit 90","index":10,"n_rows":21,"n_cols":19,"rows_kept":21,"cut":false,"hidden":false,"merged":[[1,6,1,7],[6,16,6,18],[7,16,7,18],[6,13,6,15],[6,1,6,3],[6,4,6,6],[6,7,6,9],[6,10,6,12],[34,4,34,5],[8,1,8,18],[11,0,11,18],[7,13,7,15],[7,10,7,12],[7,7,7,9],[7,4,7,6],[20,0,20,18],[7,1,7,3]]}
[]
[200,"gewünschte Wasseraufwandmenge in l/ha",null,null,null,null,"zurück zur\nÜbersicht"]
["Daten in die gelben Felder eintragen"]
[8,"Fahrgeschwindigkeit in km/hWasseraufwandmenge in l/ha"]
[]
[]
["Düsengröße/-farbe",{"$f":"\"02\"","v":"02"},null,null,{"$f":"\"025\"","v":"025"},null,null,{"$f":"\"03\"","v":"03"},null,null,{"$f":"\"04\"","v":"04"},null,null,{"$f":"\"05\"","v":"05"},null,null,{"$f":"\"06\"","v":"06"}]
["Spritzdruck*",{"$f":"IF(POWER((($A$2*0.5*$A$4)/600)*SQRT(3)/0.8,2)<1,\"\",POWER((($A$2*0.5*$A$4)/600)*SQRT(3)/0.8,2))","v":8.3333333333333321},{"$f":"IF(POWER((($D$6*0.5*$H$6)/600)*SQRT(3)/1,2)<1,\"\",POWER((($D$6*0.5*$H$6)/600)*SQRT(3)/1,2))","v":""},{"$f":"IF(POWER((($D$6*0.5*$H$6)/600)*SQRT(3)/1,2)<1,\"\",POWER((($D$6*0.5*$H$6)/600)*SQRT(3)/1,2))","v":""},{"$f":"IF(POWER((($A$2*0.5*$A$4)/600)*SQRT(3)/1,2)<1,\"\",POWER((($A$2*0.5*$A$4)/600)*SQRT(3)/1,2))","v":5.333333333333333},{"$f":"IF(POWER((($D$6*0.5*$H$6)/600)*SQRT(3)/1,2)<1,\"\",POWER((($D$6*0.5*$H$6)/600)*SQRT(3)/1,2))","v":""},{"$f":"IF(POWER((($D$6*0.5*$H$6)/600)*SQRT(3)/1,2)<1,\"\",POWER((($D$6*0.5*$H$6)/600)*SQRT(3)/1,2))","v":""},{"$f":"IF(POWER((($A$2*0.5*$A$4)/600)*SQRT(3)/1.2,2)<1,\"\",POWER((($A$2*0.5*$A$4)/600)*SQRT(3)/1.2,2))","v":3.7037037037037037},{"$f":"IF(POWER((($D$6*0.5*$H$6)/600)*SQRT(3)/1,2)<1,\"\",POWER((($D$6*0.5*$H$6)/600)*SQRT(3)/1,2))","v":""},"",{"$f":"IF(POWER((($A$2*0.5*$A$4)/600)*SQRT(3)/1.6,2)<1,\"\",POWER((($A$2*0.5*$A$4)/600)*SQRT(3)/1.6,2))","v":2.083333333333333},{"$f":"IF(POWER((($D$6*0.5*$H$6)/600)*SQRT(3)/1,2)<1,\"\",POWER((($D$6*0.5*$H$6)/600)*SQRT(3)/1,2))","v":""},"",{"$f":"IF(POWER((($A$2*0.5*$A$4)/600)*SQRT(3)/2,2)<1,\"\",POWER((($A$2*0.5*$A$4)/600)*SQRT(3)/2,2))","v":1.3333333333333333},{"$f":"IF(POWER((($D$6*0.5*$H$6)/600)*SQRT(3)/1,2)<1,\"\",POWER((($D$6*0.5*$H$6)/600)*SQRT(3)/1,2))","v":""},"",{"$f":"IF(POWER((($A$2*0.5*$A$4)/600)*SQRT(3)/2.4,2)<1,\"\",POWER((($A$2*0.5*$A$4)/600)*SQRT(3)/2.4,2))","v":""},{"$f":"IF(POWER((($D$6*0.5*$H$6)/600)*SQRT(3)/1,2)<1,\"\",POWER((($D$6*0.5*$H$6)/600)*SQRT(3)/1,2))","v":""},""]
["Volumenstrom/Düse",{"$f":"(0.8*SQRT(B8)/SQRT(3))","v":1.3333333333333333}]
["Abdriftminderungsklasse",50,75,90,50,75,90,50,75,90,50,75,90,50,75,90,50,75,90]
[]
[]
["IDN\nwww.lechler.de",null,null,null,{"$f":"IF($E$8<8,Abdriftminderungsklasse!E28,\"\")","v":"2 - 6 bar"},{"$f":"IF($E$8<8,Abdriftminderungsklasse!F28,\"\")","v":"2 - 3 bar"},{"$f":"IF($E$8<8,Abdriftminderungsklasse!G28,\"\")","v":"2 bar"},{"$f":"IF($H$8<8,Abdriftminderungsklasse!H28,\"\")","v":"2 - 8 bar"},{"$f":"IF($H$8<8,Abdriftminderungsklasse!I28,\"\")","v":"2 - 3,5 bar"},{"$f":"IF($H$8<8,Abdriftminderungsklasse!J28,\"\")","v":"2 bar"}]
["ID\nwww.lechler.de",null,null,null,null,null,null,null,null,null,null,null,null,{"$f":"IF($N$8<8,Abdriftminderungsklasse!N19,\"\")","v":"2 - 8 bar"},{"$f":"IF($N$8<8,Abdriftminderungsklasse!O19,\"\")","v":"2 - 8 bar"},{"$f":"IF($N$8<8,Abdriftminderungsklasse!P19,\"\")","v":"2 bar"}]
["ID3 - C (ID-120-XX-)\nwww.lechler.de",null,null,null,{"$f":"IF($E$8<8,Abdriftminderungsklasse!E29,\"\")","v":"2 - 6 bar"},{"$f":"IF($E$8<8,Abdriftminderungsklasse!F29,\"\")","v":"2 - 4 bar"},{"$f":"IF($E$8<8,Abdriftminderungsklasse!G29,\"\")","v":"2,5 bar"},{"$f":"IF($E$8<8,Abdriftminderungsklasse!H29,\"\")","v":"2 - 8 bar"},{"$f":"IF($E$8<8,Abdriftminderungsklasse!I29,\"\")","v":"2 - 4 bar"},{"$f":"IF($E$8<8,Abdriftminderungsklasse!J29,\"\")","v":"2 - 2,5 bar"},{"$f":"IF($E$8<8,Abdriftminderungsklasse!K29,\"\")","v":"2 - 8 bar"},{"$f":"IF($E$8<8,Abdriftminderungsklasse!L29,\"\")","v":"2 - 6 bar"},{"$f":"IF($E$8<8,Abdriftminderungsklasse!M29,\"\")","v":"2 - 2,5 bar"},{"$f":"IF($E$8<8,Abdriftminderungsklasse!N29,\"\")","v":"2 - 8 bar"},{"$f":"IF($E$8<8,Abdriftminderungsklasse!O29,\"\")","v":"2 - 8 bar"},{"$f":"IF($E$8<8,Abdriftminderungsklasse!P29,\"\")","v":"2 - 4 bar"}]
["ID3 - POM (ID-120-XX-)\nwww.lechler.de",null,null,null,{"$f":"IF($E$8<8,Abdriftminderungsklasse!E30,\"\")","v":"2 - 7 bar"},{"$f":"IF($E$8<8,Abdriftminderungsklasse!F30,\"\")","v":"2 - 4 bar"},{"$f":"IF($E$8<8,Abdriftminderungsklasse!G30,\"\")","v":"2 - 2,5 bar"},{"$f":"IF($H$8<8,Abdriftminderungsklasse!H30,\"\")","v":"2 - 8 bar"},{"$f":"IF($H$8<8,Abdriftminderungsklasse!I30,\"\")","v":"2 - 4 bar"},{"$f":"IF($H$8<8,Abdriftminderungsklasse!J30,\"\")","v":"2 - 3 bar"},{"$f":"IF($H$8<8,Abdriftminderungsklasse!K30,\"\")","v":"2 - 8 bar"},{"$f":"IF($H$8<8,Abdriftminderungsklasse!L30,\"\")","v":"2 - 6 bar"},{"$f":"IF($H$8<8,Abdriftminderungsklasse!M30,\"\")","v":"2 - 3 bar"},{"$f":"IF($H$8<8,Abdriftminderungsklasse!N30,\"\")","v":"2 - 8 bar"},{"$f":"IF($H$8<8,Abdriftminderungsklasse!O30,\"\")","v":"2 - 6 bar"},{"$f":"IF($H$8<8,Abdriftminderungsklasse!P30,\"\")","v":"2 - 3 bar"}]
["TTI \nwww.teejet.de",null,null,null,{"$f":"IF($E$8<8,Abdriftminderungsklasse!E31,\"\")","v":"1,5 - 5 bar"},{"$f":"IF($E$8<8,Abdriftminderungsklasse!F31,\"\")","v":"1,5 - 2,5 bar"},{"$f":"IF($E$8<8,Abdriftminderungsklasse!G31,\"\")","v":"1,5 bar"},{"$f":"IF($H$8<8,Abdriftminderungsklasse!H31,\"\")","v":"1,5 - 5 bar"},{"$f":"IF($H$8<8,Abdriftminderungsklasse!I31,\"\")","v":"1,5 - 2,5 bar"},{"$f":"IF($H$8<8,Abdriftminderungsklasse!J31,\"\")","v":"1,5 bar"},{"$f":"IF($K$8<8,Abdriftminderungsklasse!K31,\"\")","v":"1,5 - 5 bar"},{"$f":"IF($K$8<8,Abdriftminderungsklasse!L31,\"\")","v":"1,5 - 3 bar"},{"$f":"IF($K$8<8,Abdriftminderungsklasse!M31,\"\")","v":"1,5 - 2 bar"},{"$f":"IF($N$8<8,Abdriftminderungsklasse!N31,\"\")","v":"1 - 5 bar"},{"$f":"IF($N$8<8,Abdriftminderungsklasse!O31,\"\")","v":"1 - 3 bar"},{"$f":"IF($N$8<8,Abdriftminderungsklasse!P31,\"\")","v":"1 - 2 bar"},{"$f":"IF($Q$8<6,Abdriftminderungsklasse!Q31,\"\")","v":""},{"$f":"IF($Q$8<6,Abdriftminderungsklasse!R31,\"\")","v":""},{"$f":"IF($Q$8<6,Abdriftminderungsklasse!S31,\"\")","v":""}]
["AI/AIC\nwww.teejet.de",null,null,null,null,null,null,null,null,null,null,null,null,{"$f":"IF($N$8<8,Abdriftminderungsklasse!N23,\"\")","v":"2 - 5 bar"},{"$f":"IF($N$8<8,Abdriftminderungsklasse!O23,\"\")","v":"2 - 3 bar"},{"$f":"IF($N$8<8,Abdriftminderungsklasse!P23,\"\")","v":"2 - 2,5 bar"}]
[]
[]
["*Der angegebene Druck ist ein tabellarischer Wert, da in jedem  Pflanzenschutzgerät Druckverluste auftreten, muss das Gerät vor Inbetriebnahme ausgelitert werden\nGültig nur für ISO 10625 genormte Düsen bei einem Düsenabstand von 50 cm! Für Vollständigkeit und Richtigkeit wird keine Gewähr übernommen"]

{"sheet":"Doppellang <90","index":11,"n_rows":19,"n_cols":19,"rows_kept":19,"cut":false,"hidden":false,"merged":[[18,0,18,18],[1,6,1,7],[12,0,12,18],[6,10,6,12],[6,13,6,15],[7,13,7,15],[6,1,6,3],[6,4,6,6],[6,7,6,9],[7,1,7,3],[7,4,7,6],[7,7,7,9],[7,10,7,12],[7,16,7,18],[6,16,6,18],[8,1,8,18]]}
[]
[200,"gewünschte Wasseraufwandmenge in l/ha",null,null,null,null,"zurück zur\nÜbersicht"]
["Daten in die gelben Felder eintragen"]
[9,"Fahrgeschwindigkeit in km/hWasseraufwandmenge in l/ha"]
[]
[]
["Düsengröße/-farbe",{"$f":"\"02\"","v":"02"},null,null,{"$f":"\"025\"","v":"025"},null,null,{"$f":"\"03\"","v":"03"},null,null,{"$f":"\"04\"","v":"04"},null,null,{"$f":"\"05\"","v":"05"},null,null,{"$f":"\"06\"","v":"06"}]
["Spritzdruck*",{"$f":"IF(POWER((($A$2*0.5*$A$4)/600)*SQRT(3)/0.8,2)<1,\"\",POWER((($A$2*0.5*$A$4)/600)*SQRT(3)/0.8,2))","v":10.546875},{"$f":"IF(POWER((($D$6*0.5*$H$6)/600)*SQRT(3)/1,2)<1,\"\",POWER((($D$6*0.5*$H$6)/600)*SQRT(3)/1,2))","v":""},{"$f":"IF(POWER((($D$6*0.5*$H$6)/600)*SQRT(3)/1,2)<1,\"\",POWER((($D$6*0.5*$H$6)/600)*SQRT(3)/1,2))","v":""},{"$f":"IF(POWER((($A$2*0.5*$A$4)/600)*SQRT(3)/1,2)<1,\"\",POWER((($A$2*0.5*$A$4)/600)*SQRT(3)/1,2))","v":6.75},{"$f":"IF(POWER((($D$6*0.5*$H$6)/600)*SQRT(3)/1,2)<1,\"\",POWER((($D$6*0.5*$H$6)/600)*SQRT(3)/1,2))","v":""},{"$f":"IF(POWER((($D$6*0.5*$H$6)/600)*SQRT(3)/1,2)<1,\"\",POWER((($D$6*0.5*$H$6)/600)*SQRT(3)/1,2))","v":""},{"$f":"IF(POWER((($A$2*0.5*$A$4)/600)*SQRT(3)/1.2,2)<1,\"\",POWER((($A$2*0.5*$A$4)/600)*SQRT(3)/1.2,2))","v":4.6875000000000009},{"$f":"IF(POWER((($D$6*0.5*$H$6)/600)*SQRT(3)/1,2)<1,\"\",POWER((($D$6*0.5*$H$6)/600)*SQRT(3)/1,2))","v":""},"",{"$f":"IF(POWER((($A$2*0.5*$A$4)/600)*SQRT(3)/1.6,2)<1,\"\",POWER((($A$2*0.5*$A$4)/600)*SQRT(3)/1.6,2))","v":2.63671875},{"$f":"IF(POWER((($D$6*0.5*$H$6)/600)*SQRT(3)/1,2)<1,\"\",POWER((($D$6*0.5*$H$6)/600)*SQRT(3)/1,2))","v":""},"",{"$f":"IF(POWER((($A$2*0.5*$A$4)/600)*SQRT(3)/2,2)<1,\"\",POWER((($A$2*0.5*$A$4)/600)*SQRT(3)/2,2))","v":1.6875},{"$f":"IF(POWER((($D$6*0.5*$H$6)/600)*SQRT(3)/1,2)<1,\"\",POWER((($D$6*0.5*$H$6)/600)*SQRT(3)/1,2))","v":""},"",{"$f":"IF(POWER((($A$2*0.5*$A$4)/600)*SQRT(3)/2.4,2)<1,\"\",POWER((($A$2*0.5*$A$4)/600)*SQRT(3)/2.4,2))","v":1.1718750000000002},{"$f":"IF(POWER((($D$6*0.5*$H$6)/600)*SQRT(3)/1,2)<1,\"\",POWER((($D$6*0.5*$H$6)/600)*SQRT(3)/1,2))","v":""},""]
["Volumenstrom/Düse",{"$f":"(0.8*SQRT(B8)/SQRT(3))","v":1.5000000000000002}]
["Abdriftminderungsklasse",50,75,90,50,75,90,50,75,90,50,75,90,50,75,90,50,75,90]
[]
[]
[]
["HiSpeed\nwww.agrotop.com",{"$f":"IF($B$8<8,Abdriftminderungsklasse!B38,\"\")","v":""},{"$f":"IF($B$8<8,Abdriftminderungsklasse!C38,\"\")","v":""},null,null,null,null,{"$f":"IF($H$8<8,Abdriftminderungsklasse!H38,\"\")","v":"2,5 - 4 bar"},{"$f":"IF($H$8<8,Abdriftminderungsklasse!I38,\"\")","v":"2,5 bar"},null,null,null,null,{"$f":"IF($N$8<8,Abdriftminderungsklasse!N38,\"\")","v":"2 - 8 bar"},{"$f":"IF($N$8<8,Abdriftminderungsklasse!O38,\"\")","v":"2 - 3 bar"}]
["AVI Twin\nwww.agrotop.com",null,null,null,null,null,null,null,null,null,{"$f":"IF($K$8<8,Abdriftminderungsklasse!K39,\"\")","v":"2 - 4 bar"},{"$f":"IF($K$8<8,Abdriftminderungsklasse!L39,\"\")","v":"2 - 2,5 bar"}]
["AITTJ\nwww.teejet.de",null,null,null,null,null,null,{"$f":"IF($H$8<8,Abdriftminderungsklasse!H42,\"\")","v":"2 - 5 bar"},{"$f":"IF($H$8<8,Abdriftminderungsklasse!I42,\"\")","v":"2 - 2,5 bar"}]
[]
[]
["*Der angegebene Druck ist ein tabellarischer Wert, da in jedem  Pflanzenschutzgerät Druckverluste auftreten, muss das Gerät vor Inbetriebnahme ausgelitert werden\nGültig nur für ISO 10625 genormte Düsen bei einem Düsenabstand von 50 cm! Für Vollständigkeit und Richtigkeit wird keine Gewähr übernommen"]

{"sheet":"Doppellang mit 90","index":12,"n_rows":16,"n_cols":19,"rows_kept":16,"cut":false,"hidden":false,"merged":[[15,0,16,18],[1,6,1,7],[8,1,8,18],[7,1,7,3],[7,4,7,6],[7,7,7,9],[7,10,7,12],[7,13,7,15],[7,16,7,18],[6,16,6,18],[6,1,6,3],[6,4,6,6],[6,7,6,9],[6,10,6,12],[6,13,6,15]]}
[]
[200,"gewünschte Wasseraufwandmenge in l/ha",null,null,null,null,"zurück zur\nÜbersicht"]
["Daten in die gelben Felder eintragen"]
[5,"Fahrgeschwindigkeit in km/hWasseraufwandmenge in l/ha"]
[]
[]
["Düsengröße/-farbe",{"$f":"\"02\"","v":"02"},null,null,{"$f":"\"025\"","v":"025"},null,null,{"$f":"\"03\"","v":"03"},null,null,{"$f":"\"04\"","v":"04"},null,null,{"$f":"\"05\"","v":"05"},null,null,{"$f":"\"06\"","v":"06"}]
["Spritzdruck*",{"$f":"IF(POWER((($A$2*0.5*$A$4)/600)*SQRT(3)/0.8,2)<1,\"\",POWER((($A$2*0.5*$A$4)/600)*SQRT(3)/0.8,2))","v":3.2552083333333321},{"$f":"IF(POWER((($D$6*0.5*$H$6)/600)*SQRT(3)/1,2)<1,\"\",POWER((($D$6*0.5*$H$6)/600)*SQRT(3)/1,2))","v":""},{"$f":"IF(POWER((($D$6*0.5*$H$6)/600)*SQRT(3)/1,2)<1,\"\",POWER((($D$6*0.5*$H$6)/600)*SQRT(3)/1,2))","v":""},{"$f":"IF(POWER((($A$2*0.5*$A$4)/600)*SQRT(3)/1,2)<1,\"\",POWER((($A$2*0.5*$A$4)/600)*SQRT(3)/1,2))","v":2.083333333333333},{"$f":"IF(POWER((($D$6*0.5*$H$6)/600)*SQRT(3)/1,2)<1,\"\",POWER((($D$6*0.5*$H$6)/600)*SQRT(3)/1,2))","v":""},{"$f":"IF(POWER((($D$6*0.5*$H$6)/600)*SQRT(3)/1,2)<1,\"\",POWER((($D$6*0.5*$H$6)/600)*SQRT(3)/1,2))","v":""},{"$f":"IF(POWER((($A$2*0.5*$A$4)/600)*SQRT(3)/1.2,2)<1,\"\",POWER((($A$2*0.5*$A$4)/600)*SQRT(3)/1.2,2))","v":1.4467592592592591},{"$f":"IF(POWER((($D$6*0.5*$H$6)/600)*SQRT(3)/1,2)<1,\"\",POWER((($D$6*0.5*$H$6)/600)*SQRT(3)/1,2))","v":""},"",{"$f":"IF(POWER((($A$2*0.5*$A$4)/600)*SQRT(3)/1.6,2)<1,\"\",POWER((($A$2*0.5*$A$4)/600)*SQRT(3)/1.6,2))","v":""},{"$f":"IF(POWER((($D$6*0.5*$H$6)/600)*SQRT(3)/1,2)<1,\"\",POWER((($D$6*0.5*$H$6)/600)*SQRT(3)/1,2))","v":""},"",{"$f":"IF(POWER((($A$2*0.5*$A$4)/600)*SQRT(3)/2,2)<1,\"\",POWER((($A$2*0.5*$A$4)/600)*SQRT(3)/2,2))","v":""},{"$f":"IF(POWER((($D$6*0.5*$H$6)/600)*SQRT(3)/1,2)<1,\"\",POWER((($D$6*0.5*$H$6)/600)*SQRT(3)/1,2))","v":""},"",{"$f":"IF(POWER((($A$2*0.5*$A$4)/600)*SQRT(3)/2.4,2)<1,\"\",POWER((($A$2*0.5*$A$4)/600)*SQRT(3)/2.4,2))","v":""},{"$f":"IF(POWER((($D$6*0.5*$H$6)/600)*SQRT(3)/1,2)<1,\"\",POWER((($D$6*0.5*$H$6)/600)*SQRT(3)/1,2))","v":""},""]
["Volumenstrom/Düse",{"$f":"(0.8*SQRT(B8)/SQRT(3))","v":0.83333333333333337}]
["Abdriftminderungsklasse",50,75,90,50,75,90,50,75,90,50,75,90,50,75,90,50,75,90]
[]
["HiSpeed \nwww.agrotop.com",null,null,null,{"$f":"IF($E$8<8,Abdriftminderungsklasse!E38,\"\")","v":"2,5 - 5 bar"},{"$f":"IF($E$8<8,Abdriftminderungsklasse!F38,\"\")","v":"2,5 - 3,5 bar"},{"$f":"IF($E$8<8,Abdriftminderungsklasse!G38,\"\")","v":"2,5 bar"},null,null,null,{"$f":"IF($K$8<8,Abdriftminderungsklasse!K38,\"\")","v":""},{"$f":"IF($K$8<8,Abdriftminderungsklasse!L38,\"\")","v":""},{"$f":"IF($K$8<8,Abdriftminderungsklasse!M38,\"\")","v":""}]
["AITTJ\nwww.teejet.de",null,null,null,null,null,null,null,null,null,{"$f":"IF($K$8<8,Abdriftminderungsklasse!K42,\"\")","v":""},{"$f":"IF($K$8<8,Abdriftminderungsklasse!L42,\"\")","v":""},{"$f":"IF($K$8<8,Abdriftminderungsklasse!M42,\"\")","v":""}]
[]
[]
["*Der angegebene Druck ist ein tabellarischer Wert, da in jedem  Pflanzenschutzgerät Druckverluste auftreten, muss das Gerät vor Inbetriebnahme ausgelitert werden\nGültig nur für ISO 10625 genormte Düsen bei einem Düsenabstand von 50 cm! Für Vollständigkeit und Richtigkeit wird keine Gewähr übernommen"]

{"sheet":"Doppelflachstrahlvarianten","index":13,"n_rows":28,"n_cols":19,"rows_kept":28,"cut":false,"hidden":false,"merged":[[1,6,1,7],[11,0,11,18],[16,0,16,18],[6,7,6,9],[7,1,7,3],[7,4,7,6],[6,16,6,18],[7,16,7,18],[8,1,8,18],[7,7,7,9],[7,10,7,12],[6,10,6,12],[6,13,6,15],[27,0,27,18],[7,13,7,15],[6,1,6,3],[6,4,6,6]]}
[]
[200,"gewünschte Wasseraufwandmenge in l/ha",null,null,null,null,"zurück zur\nÜbersicht"]
["Daten in die gelben Felder eintragen"]
[8,"Fahrgeschwindigkeit in km/hWasseraufwandmenge in l/ha"]
[]
[]
["Düsengröße/-farbe",{"$f":"\"02\"","v":"02"},null,null,{"$f":"\"025\"","v":"025"},null,null,{"$f":"\"03\"","v":"03"},null,null,{"$f":"\"04\"","v":"04"},null,null,{"$f":"\"05\"","v":"05"},null,null,{"$f":"\"06\"","v":"06"}]
["Spritzdruck*",{"$f":"IF(POWER((($A$2*0.5*$A$4)/600)*SQRT(3)/0.8,2)<1,\"\",POWER((($A$2*0.5*$A$4)/600)*SQRT(3)/0.8,2))","v":8.3333333333333321},{"$f":"IF(POWER((($D$6*0.5*$H$6)/600)*SQRT(3)/1,2)<1,\"\",POWER((($D$6*0.5*$H$6)/600)*SQRT(3)/1,2))","v":""},{"$f":"IF(POWER((($D$6*0.5*$H$6)/600)*SQRT(3)/1,2)<1,\"\",POWER((($D$6*0.5*$H$6)/600)*SQRT(3)/1,2))","v":""},{"$f":"IF(POWER((($A$2*0.5*$A$4)/600)*SQRT(3)/1,2)<1,\"\",POWER((($A$2*0.5*$A$4)/600)*SQRT(3)/1,2))","v":5.333333333333333},{"$f":"IF(POWER((($D$6*0.5*$H$6)/600)*SQRT(3)/1,2)<1,\"\",POWER((($D$6*0.5*$H$6)/600)*SQRT(3)/1,2))","v":""},{"$f":"IF(POWER((($D$6*0.5*$H$6)/600)*SQRT(3)/1,2)<1,\"\",POWER((($D$6*0.5*$H$6)/600)*SQRT(3)/1,2))","v":""},{"$f":"IF(POWER((($A$2*0.5*$A$4)/600)*SQRT(3)/1.2,2)<1,\"\",POWER((($A$2*0.5*$A$4)/600)*SQRT(3)/1.2,2))","v":3.7037037037037037},{"$f":"IF(POWER((($D$6*0.5*$H$6)/600)*SQRT(3)/1,2)<1,\"\",POWER((($D$6*0.5*$H$6)/600)*SQRT(3)/1,2))","v":""},"",{"$f":"IF(POWER((($A$2*0.5*$A$4)/600)*SQRT(3)/1.6,2)<1,\"\",POWER((($A$2*0.5*$A$4)/600)*SQRT(3)/1.6,2))","v":2.083333333333333},{"$f":"IF(POWER((($D$6*0.5*$H$6)/600)*SQRT(3)/1,2)<1,\"\",POWER((($D$6*0.5*$H$6)/600)*SQRT(3)/1,2))","v":""},"",{"$f":"IF(POWER((($A$2*0.5*$A$4)/600)*SQRT(3)/2,2)<1,\"\",POWER((($A$2*0.5*$A$4)/600)*SQRT(3)/2,2))","v":1.3333333333333333},{"$f":"IF(POWER((($D$6*0.5*$H$6)/600)*SQRT(3)/1,2)<1,\"\",POWER((($D$6*0.5*$H$6)/600)*SQRT(3)/1,2))","v":""},"",{"$f":"IF(POWER((($A$2*0.5*$A$4)/600)*SQRT(3)/2.4,2)<1,\"\",POWER((($A$2*0.5*$A$4)/600)*SQRT(3)/2.4,2))","v":""},{"$f":"IF(POWER((($D$6*0.5*$H$6)/600)*SQRT(3)/1,2)<1,\"\",POWER((($D$6*0.5*$H$6)/600)*SQRT(3)/1,2))","v":""},""]
["Volumenstrom/Düse",{"$f":"(0.8*SQRT(B8)/SQRT(3))","v":1.3333333333333333}]
["Abdriftminderungsklasse",50,75,90,50,75,90,50,75,90,50,75,90,50,75,90,50,75,90]
[]
["kompakte Injektor-Doppelflachstrahldüsen kombiniert mit kompakten Injektordüsen (hinterm Schlepper)"]
["IDKT POM + IDKN\nwww.lechler.de",null,null,null,null,null,null,{"$f":"IF($H$8<6,Abdriftminderungsklasse!H75,\"\")","v":"1 - 3 bar"},{"$f":"IF($H$8<6,Abdriftminderungsklasse!I75,\"\")","v":"1 - 1,5 bar"},{"$f":"IF($H$8<6,Abdriftminderungsklasse!J75,\"\")","v":"1 bar"},{"$f":"IF($K$8<6,Abdriftminderungsklasse!K75,\"\")","v":"1 - 2 bar"},{"$f":"IF($K$8<6,Abdriftminderungsklasse!L75,\"\")","v":"1 - 1,5 bar"},{"$f":"IF($K$8<6,Abdriftminderungsklasse!M75,\"\")","v":"1 bar"}]
["IDKT POM + IDK\nwww.lechler.de",null,null,null,null,null,null,null,null,null,null,null,null,{"$f":"IF($N$8<6,Abdriftminderungsklasse!N75,\"\")","v":"1 - 3 bar"},{"$f":"IF($N$8<6,Abdriftminderungsklasse!O75,\"\")","v":"1 - 1,5 bar"},{"$f":"IF($N$8<6,Abdriftminderungsklasse!P75,\"\")","v":"1 bar"},{"$f":"IF($N$8<6,Abdriftminderungsklasse!Q75,\"\")","v":"1 - 6 bar"},{"$f":"IF($N$8<6,Abdriftminderungsklasse!R75,\"\")","v":"1 - 2 bar"},{"$f":"IF($N$8<6,Abdriftminderungsklasse!S75,\"\")","v":"1 bar"}]
[]
[]
["lange Injektor-Doppelflachstrahldüsen kombiniert mit langen Injektordüsen (hinterm Schlepper)"]
["AITTJ + AI/AIC\nwww.teejet.de",null,null,null,null,null,null,{"$f":"IF($H$8<6,Abdriftminderungsklasse!H77,\"\")","v":"2 - 5 bar"},{"$f":"IF($H$8<6,Abdriftminderungsklasse!I77,\"\")","v":"2,5 bar"},null,{"$f":"IF($H$8<6,Abdriftminderungsklasse!K77,\"\")","v":"2 - 5 bar"},{"$f":"IF($H$8<6,Abdriftminderungsklasse!L77,\"\")","v":"2 bar"}]
[]
[]
[]
[]
[]
[]
[]
[]
[]
["*Der angegebene Druck ist ein tabellarischer Wert, da in jedem  Pflanzenschutzgerät Druckverluste auftreten, muss das Gerät vor Inbetriebnahme ausgelitert werden\nGültig nur für ISO 10625 genormte Düsen bei einem Düsenabstand von 50 cm! Für Vollständigkeit und Richtigkeit wird keine Gewähr übernommen"]

{"sheet":"Vorauflauf","index":14,"n_rows":16,"n_cols":14,"rows_kept":16,"cut":false,"hidden":false,"merged":[[1,6,1,7],[6,1,6,3],[6,4,6,6],[6,7,6,9],[16,2,19,3],[15,0,15,13],[6,10,6,13],[7,10,7,13],[8,1,8,13],[7,1,7,3],[7,4,7,6],[7,7,7,9]]}
[]
[300,"gewünschte Wasseraufwandmenge in l/ha",null,null,null,null,"zurück zur\nÜbersicht"]
["Daten in die gelben Felder eintragen"]
[7,"Fahrgeschwindigkeit in km/hWasseraufwandmenge in l/ha"]
[]
[]
["Düsengröße/-farbe",{"$f":"\"025\"","v":"025"},null,null,{"$f":"\"03\"","v":"03"},null,null,{"$f":"\"04\"","v":"04"},null,null,{"$f":"\"05\"","v":"05"}]
["Spritzdruck*",{"$f":"IF(POWER((($A$2*0.5*$A$4)/600)*SQRT(3)/1,2)<1,\"\",POWER((($A$2*0.5*$A$4)/600)*SQRT(3)/1,2))","v":9.1875},{"$f":"IF(POWER((($D$6*0.5*$H$6)/600)*SQRT(3)/1,2)<1,\"\",POWER((($D$6*0.5*$H$6)/600)*SQRT(3)/1,2))","v":""},{"$f":"IF(POWER((($D$6*0.5*$H$6)/600)*SQRT(3)/1,2)<1,\"\",POWER((($D$6*0.5*$H$6)/600)*SQRT(3)/1,2))","v":""},{"$f":"IF(POWER((($A$2*0.5*$A$4)/600)*SQRT(3)/1.2,2)<1,\"\",POWER((($A$2*0.5*$A$4)/600)*SQRT(3)/1.2,2))","v":6.380208333333333},{"$f":"IF(POWER((($D$6*0.5*$H$6)/600)*SQRT(3)/1,2)<1,\"\",POWER((($D$6*0.5*$H$6)/600)*SQRT(3)/1,2))","v":""},{"$f":"IF(POWER((($D$6*0.5*$H$6)/600)*SQRT(3)/1,2)<1,\"\",POWER((($D$6*0.5*$H$6)/600)*SQRT(3)/1,2))","v":""},{"$f":"IF(POWER((($A$2*0.5*$A$4)/600)*SQRT(3)/1.6,2)<1,\"\",POWER((($A$2*0.5*$A$4)/600)*SQRT(3)/1.6,2))","v":3.5888671874999996},{"$f":"IF(POWER((($D$6*0.5*$H$6)/600)*SQRT(3)/1,2)<1,\"\",POWER((($D$6*0.5*$H$6)/600)*SQRT(3)/1,2))","v":""},{"$f":"IF(POWER((($D$6*0.5*$H$6)/600)*SQRT(3)/1,2)<1,\"\",POWER((($D$6*0.5*$H$6)/600)*SQRT(3)/1,2))","v":""},{"$f":"IF(POWER((($A$2*0.5*$A$4)/600)*SQRT(3)/2,2)<1,\"\",POWER((($A$2*0.5*$A$4)/600)*SQRT(3)/2,2))","v":2.296875}]
["Volumenstrom/Düse",{"$f":"(1*SQRT(B8)/SQRT(3))","v":1.75}]
["Abdriftminderungsklasse",50,75,90,50,75,90,50,75,90,50,75,90,95]
[]
["Lechler PRE 130-\nwww.lechler.de",null,null,null,null,null,null,null,null,null,{"$f":"IF($K$8<8,Abdriftminderungsklasse!N83,\"\")","v":"1,5 - 8 bar"},{"$f":"IF($K$8<8,Abdriftminderungsklasse!O83,\"\")","v":"1,5 - 8 bar"},{"$f":"IF($K$8<8,Abdriftminderungsklasse!P83,\"\")","v":"1,5 - 6 bar"},{"$f":"IF($K$8<8,Abdriftminderungsklasse!Q83,\"\")","v":"1,5 - 5 bar"}]
["SYNGENTA 130 05\nwww.lechler.de",null,null,null,null,null,null,null,null,null,{"$f":"IF($K$8<8,Abdriftminderungsklasse!N82,\"\")","v":"1,5 - 8 bar"},{"$f":"IF($K$8<8,Abdriftminderungsklasse!O82,\"\")","v":"1,5 - 8 bar"},{"$f":"IF($K$8<8,Abdriftminderungsklasse!P82,\"\")","v":"1,5 - 6 bar"},{"$f":"IF($K$8<8,Abdriftminderungsklasse!Q82,\"\")","v":"1,5 - 5 bar"}]
[]
[]
["*Der angegebene Druck ist ein tabellarischer Wert, da in jedem  Pflanzenschutzgerät Druckverluste auftreten, muss das Gerät vor Inbetriebnahme ausgelitert werden\nGültig nur für ISO 10625 genormte Düsen bei einem Düsenabstand von 50 cm! Für Vollständigkeit und Richtigkeit wird keine Gewähr übernommen"]

{"sheet":"Fldgg","index":15,"n_rows":35,"n_cols":14,"rows_kept":35,"cut":false,"hidden":false,"merged":[[25,7,25,8],[0,3,0,9],[1,3,1,9],[2,10,2,13],[16,1,16,11],[19,2,19,11],[3,13,5,13]]}
[null,null,null,"Düsenrechner Ackerbau"]
[null,null,null," - Auswahl von Flüssigdüngerdüsen - "]
[null,null,null,null,null,null,null,null,null,{"$f":"IF(C9=B29,($C$6*(100/E29)*I29),IF(C9=B30,(C6*(100/E30)*I30),IF(C9=B31,(C6*(100/E31)*I31),IF(C9=B32,($C$6*(100/E32)*I32),IF(C9=B33,($C$6*(100/E33)*I33),IF(C9=B34,($C$6*(100/E34)*I34),IF(C9=B35,($C$6*(100/E35)*I35),\"\")))))))","v":157.8363350862829},"Ausstoß mit Wasser (zum auslitern an der Spritze)"]
[null,null,null,null,null,null,null,null,null,null,null,null,null,"Zurück\nzur\nÜbersicht"]
[]
[null,null,50,null,null,null,60,{"$f":"G6/10","v":6},null,{"$f":"IF(C9=B29,(J3*H29),IF(C9=B30,(J3*H30),IF(C9=B31,(J3*H31),IF(C9=B32,(J3*H32),IF(C9=B33,(J3*H33),IF(C9=B34,(J3*H34),IF(C9=B35,(J3*H35),\"\")))))))","v":139.50892857142856},"Flüssigdüngerausstoß"]
[]
[]
[null,null,"AHL 28 (28 Gew.-%)"]
[]
[]
[]
[]
[]
[null,"anderer Dünger",9,"N (kg/dt)",1.0900000000000001,"kg/l"]
[]
[null,"nach ISO 10625 codierte Düsengrößen und -farben"]
[null,"Düsengröße\nund -farbe","02\ngelb","025\nlila","03\nblau","04\nrot","05\nbraun","06\ngrau","08\nweiss","10\nhellblau","15\ngelbgrün","20\nhellblau","   "]
[null,"Arbeitsdruck (bar)",{"$f":"IF(POWER((($J$3*0.5*$H$6)/600)*SQRT(3)/0.8,2)<1,\"\",POWER((($J$3*0.5*$H$6)/600)*SQRT(3)/0.8,2))","v":2.9194111726721923},{"$f":"IF(POWER((($J$3*0.5*$H$6)/600)*SQRT(3)/1,2)<1,\"\",POWER((($J$3*0.5*$H$6)/600)*SQRT(3)/1,2))","v":1.8684231505102031},{"$f":"IF(POWER((($J$3*0.5*$H$6)/600)*SQRT(3)/1.2,2)<1,\"\",POWER((($J$3*0.5*$H$6)/600)*SQRT(3)/1.2,2))","v":1.297516076743197},{"$f":"IF(POWER((($J$3*0.5*$H$6)/600)*SQRT(3)/1.6,2)<1,\"\",POWER((($J$3*0.5*$H$6)/600)*SQRT(3)/1.6,2))","v":""},{"$f":"IF(POWER((($J$3*0.5*$H$6)/600)*SQRT(3)/2,2)<1,\"\",POWER((($J$3*0.5*$H$6)/600)*SQRT(3)/2,2))","v":""},{"$f":"IF(POWER((($J$3*0.5*$H$6)/600)*SQRT(3)/2.4,2)<1,\"\",POWER((($J$3*0.5*$H$6)/600)*SQRT(3)/2.4,2))","v":""},{"$f":"IF(POWER((($J$3*0.5*$H$6)/600)*SQRT(3)/3.2,2)<1,\"\",POWER((($J$3*0.5*$H$6)/600)*SQRT(3)/3.2,2))","v":""},{"$f":"IF(POWER((($J$3*0.5*$H$6)/600)*SQRT(3)/4,2)<1,\"\",POWER((($J$3*0.5*$H$6)/600)*SQRT(3)/4,2))","v":""},{"$f":"IF(POWER((($J$3*0.5*$H$6)/600)*SQRT(3)/6,2)<1,\"\",POWER((($J$3*0.5*$H$6)/600)*SQRT(3)/6,2))","v":""},{"$f":"IF(POWER((($J$3*0.5*$H$6)/600)*SQRT(3)/8,2)<1,\"\",POWER((($J$3*0.5*$H$6)/600)*SQRT(3)/8,2))","v":""}]
[null,"l/min und Düse",{"$f":"IF(C19=\"\",\"\",(0.8*SQRT(C19))/SQRT(3))","v":0.78918167543141449}]
[]
[]
[]
[null,{"$f":"IF(C9=B29,($C$6*(100/E29)),IF(C9=B30,(C6*(100/E30)),IF(C9=B31,(C6*(100/E31)),IF(C9=B32,($C$6*(100/E32)),IF(C9=B33,($C$6*(100/E33)),IF(C9=B34,($C$6*(100/E34)),IF(C9=B35,($C$6*(100/E35)),\"\")))))))","v":139.50892857142856},"Düngertabelle"]
[null,null,null,null,null,-0.41420000000000001,0.45279999999999998,"x"]
[null,null,null,null,null,1.42,0.54779999999999995,"Korrekturfaktor (Wurzel)"]
[null,null,"Gew.-%","Dichte","Vol.-%","W-Dgg","Dgg-W","W-Dgg","Dgg-W"]
[null,null,"kg/dt","kg/l","kg/100l"]
[null,"AHL 28 (28 Gew.-%)",28,1.28,{"$f":"C29*D29","v":35.840000000000003},{"$f":"$F$25*D29+$F$26","v":0.88982399999999995},{"$f":"$G$25*D29+$G$26","v":1.1273839999999999},{"$f":"SQRT((1/D29))","v":0.88388347648318444},{"$f":"SQRT(D29)","v":1.131370849898476}]
[null,"AHL 30 (30 Gew.-%)",30,1.32,39.6,0.87325599999999992,1.1454960000000001,0.8703882797784892,1.1489125293076057]
[null,"AHL+S (Piasan S 25/6) (25 Gew.-%)",25,1.31,32.75,0.8773979999999999,1.140968,0.8737040566610379,1.1445523142259597]
[null,"ASL (8 Gew.-%)",8,1.24,9.92,0.90639199999999986,1.1092719999999998,0.89802651013387458,1.1135528725660044]
[null,"ATS (12 Gew.-%)",12,1.32,15.84,0.87325599999999992,1.1454960000000001,0.8703882797784892,1.1489125293076057]
[null,"Ammoniumsulfat-HL (20 Gew.-%)",20,1.25,25,0.90224999999999989,1.1137999999999999,0.89442719099991586,1.1180339887498949]
[null,"anderer Dünger",{"$f":"C15","v":9},{"$f":"E15","v":1.0900000000000001},9.81,0.96852199999999988,1.0413519999999998,0.95782628522115132,1.0440306508910551]

{"sheet":"anerkannte Düsen","index":16,"n_rows":162,"n_cols":12,"rows_kept":162,"cut":false,"hidden":true,"merged":[[1,2,1,3]]}
[null,"anerkannt",null,null,null,{"$f":"YEAR(G1)","v":2016},{"$f":"TODAY()","v":"2016-10-28"},null,null,null,"Jahr","Übertragung"]
["G Nr","Bezeichnung","Druckbereich\n(bar)",null,"Tropfen","anerk.","Anmelder","Bauart","Verwendung","Abstand","erneut \nbeantragt"]
[1182,"XR 11004 VS / XRC 110 04 VS",1,4,"m - f",2015,"TeeJet","Flachstrahldüse","Verband - Feldbau","50 cm"]
[1211,"XR 11005 VS / XRC 110 05 VS",1,4,"g - f",2015,"TeeJet","Flachstrahldüse","Verband - Feldbau","50 cm"]
[1212,"XR 11006 VS",1,4,"g - m",2015,"TeeJet","Flachstrahldüse","Verband - Feldbau","50 cm"]
[1240,"LU 120 05 POM",1.5,5,"m - f",2016,"Lechler","Flachstrahldüse","Verband - Feldbau","50 cm"]
[1242,"LU 120 06 POM",1.5,5,"g - f",2011,"Lechler","Flachstrahldüse","Verband - Feldbau","50 cm"]
[1392,"XR 11003 VP",1.5,4,"m - f",2014,"TeeJet","Flachstrahldüse","Verband - Feldbau","50 cm"]
[1393,"XR 11004 VP",1,4,"m - f",2015,"TeeJet","Flachstrahldüse","Verband - Feldbau","50 cm"]
[1394,"XR 11005 VP",1,4,"g - f",2016,"TeeJet","Flachstrahldüse","Verband - Feldbau","50 cm"]
[1395,"XR 11003 VK",1.5,4,"m - f",2015,"TeeJet","Flachstrahldüse","Verband - Feldbau","50 cm"]
[1396,"XR 110 04 VK",1,4,"m - f",2015,"TeeJet","Flachstrahldüse","Verband - Feldbau","50 cm"]
[1397,"XR 110 05 VK",1,4,"g - f",2015,"TeeJet","Flachstrahldüse","Verband - Feldbau","50 cm"]
[1398,"DG 11003 VS",1.5,6,"-",2008,"TeeJet","Flachstrahldüse","Verband - Feldbau","50 cm","nein"]
[1399,"DG 11004 VS",1.5,6,"-",2008,"TeeJet","Flachstrahldüse","Verband - Feldbau","50 cm","nein"]
[1435,"ES 90-02",1.5,3,"-",2015,"Lechler","Flachstrahldüse","Bandspritzung","-"]
[1436,"ES 90-02 POM, gelb",1.5,3,"-",2015,"Lechler","Flachstrahldüse","Bandspritzung","-"]
[1437,"ES 90-03 Messing",1.5,3,"-",2015,"Lechler","Flachstrahldüse","Bandspritzung","-"]
[1438,"ES 90-04 POM, rot",1.5,3,"-",2015,"Lechler","Flachstrahldüse","Bandspritzung","-"]
[1441,"XR 11003 VS / XRC 11003 VS",1,4,"m - f",2010,"TeeJet","Flachstrahldüse","Verband - Feldbau","50 cm"]
[1489,"XR 11006 VP",1,4,"g - m",2012,"TeeJet","Flachstrahldüse","Verband - Feldbau","50 cm"]
[1524,"LU 120 03 POM",1.5,5,"m - f",2016,"Lechler","Flachstrahldüse","Verband - Feldbau","50 cm"]
[1525,"TURBO Teejet 11002 VP",1,6,"g - m",2013,"TeeJet","Flachstrahldüse","Verband - Feldbau","50 - 75 cm"]
[1526,"TURBO Teejet 11003 VP",1,6,"sg - m",2012,"TeeJet","Flachstrahldüse","Verband - Feldbau","50 - 75 cm"]
[1527,"TURBO Teejet 11004 VP",1,6,"sg - m",2012,"TeeJet","Flachstrahldüse","Verband - Feldbau","50 - 75 cm"]
[1528,"TURBO Teejet 110 05 VP",1,6,"sg - m",2012,"TeeJet","Flachstrahldüse","Verband - Feldbau","75 cm"]
[1535,"ID 120 03 POM",3,8,"sg - g",2016,"Lechler","Injektor-Flachstrahldüse","Verband - Feldbau","50 cm"]
[1536,"ID 120 04 POM",3,8,"sg - g",2012,"Lechler","Injektor-Flachstrahldüse","Verband - Feldbau","50 cm"]
[1545,"ID 120 04 C (Keramik)",3,8,"sg - g",2013,"Lechler","Injektor-Flachstrahldüse","Verband - Feldbau","50 cm"]
[1546,"ID 120 03 C (Keramik)",3,8,"sg - g",2013,"Lechler","Injektor-Flachstrahldüse","Verband - Feldbau","50 cm"]
[1547,"ID 120 02 C (Keramik)",3.5,8,"g",2015,"Lechler","Injektor-Flachstrahldüse","Verband - Feldbau","50 cm"]
[1548,"ID 120 02 POM",3,8,"g",2014,"Lechler","Injektor-Flachstrahldüse","Verband - Feldbau","50 cm"]
[1565,"ID 120 025 POM",3,8,"sg - g",2014,"Lechler","Injektor-Flachstrahldüse","Verband - Feldbau","50 cm"]
[1566,"ID 120 025 C (Keramik)",3,8,"sg - g",2015,"Lechler","Injektor-Flachstrahldüse","Verband - Feldbau","50 cm"]
[1567,"AI 110 025 VS / AIC 110 025 VS",2,8,"sg - g",2015,"TeeJet","Injektor-Flachstrahldüse","Verband - Feldbau","50 - 75 cm","ja"]
[1568,"AI 110 03 VS / AIC 110 03 VS",2.5,8,"sg - g",2015,"TeeJet","Injektor-Flachstrahldüse","Verband - Feldbau","50 - 75 cm","ja"]
[1569,"AI 110 04 VS / AIC 110 04 VS",2.5,8,"sg - g",2015,"TeeJet","Injektor-Flachstrahldüse","Verband - Feldbau","50 - 75 cm","ja"]
[1581,"ALBUZ AXI 110 04",1.5,4,"g - f",2012,"Saint-Gobain","Flachstrahldüse","Verband - Feldbau","50 cm","ja"]
[1588,"ISO-F-02",1.5,5,"m - f",2011,"Hardi","Flachstrahldüse","Verband - Feldbau","50 cm"]
[1589,"ISO-F-03",1.5,5,"m - f",2016,"Hardi","Flachstrahldüse","Verband - Feldbau","50 cm"]
[1590,"ISO-F-04",1.5,5,"m - f",2016,"Hardi","Flachstrahldüse","Verband - Feldbau","50 cm"]
[1591,"ISO-F-05",1.5,5,"g - m",2016,"Hardi","Flachstrahldüse","Verband - Feldbau","50 cm"]
[1592,"AIRTEC 35 1001",1.5,4,"-",2008,"Cleanacres","Zweistoff-Flachstrahldüse","Verband - Feldbau","50 - 75 cm","nein"]
[1596,"LU 120 04 POM",1.5,5,"m - f",2016,"Lechler","Flachstrahldüse","Verband - Feldbau","50 cm"]
[1597,"LU 120 05 C (Keramik)",1.5,5,"m - f",2015,"Lechler","Flachstrahldüse","Verband - Feldbau","50 cm"]
[1605,"ALBUZ AVI 110 04",3,7,"sg - g",2012,"Agrotop","Injektor-Flachstrahldüse","Verband - Feldbau","50 - 75 cm"]
[1606,"ALBUZ AVI 110 03",3,7,"sg - g",2012,"Agrotop","Injektor-Flachstrahldüse","Verband - Feldbau","50 - 75 cm"]
[1610,"TD 110 04 Keramik",2.5,10,"sg - g",2006,"Agrotop","Injektor-Flachstrahldüse","Verband - Feldbau","75 cm","ja"]
[1612,"ID 90 02 C (Keramik)",3,8,"sg - g",2011,"Lechler","Injektor-Flachstrahldüse","Verband - Feldbau","75 cm"]
[1613,"AI 110 05 VS / AIC 110 05 VS",2,8,"sg - g",2012,"TeeJet","Injektor-Flachstrahldüse","Verband - Feldbau","50 - 75 cm"]
[1618,"ID 120 05 POM",2,8,"sg - g",2016,"Lechler","Injektor-Flachstrahldüse","Verband - Feldbau","50 cm"]
[1620,"ALBUZ AVI 110 025",3,7,"g",2011,"Saint-Gobain","Injektor-Flachstrahldüse","Verband - Feldbau","50 - 75 cm"]
[1631,"Airmix 110 04 KS",1,6,"sg - g",2013,"Agrotop","Injektor-Flachstrahldüse","Verband - Feldbau","50 - 75 cm"]
[1633,"ID 120 05 C (Keramik)",2,8,"sg - g",2013,"Lechler","Injektor-Flachstrahldüse","Verband - Feldbau","50 cm"]
[1637,"Airmix 110 03 KS",1.5,6,"sg - g",2012,"Agrotop","Injektor-Flachstrahldüse","Verband - Feldbau","50 - 75 cm"]
[1638,"Airmix 110 05 KS",1,6,"sg - g",2013,"Agrotop","Injektor-Flachstrahldüse","Verband - Feldbau","50 - 75 cm"]
[1644,"ID 120 015 POM",3,8,"g",2015,"Lechler","Injektor-Flachstrahldüse","Verband - Feldbau","50 cm"]
[1645,"S Injet 02",3,8,"g",2012,"Hardi","Injektor-Flachstrahldüse","Verband - Feldbau","50 cm"]
[1646,"S Injet 025",3,8,"sg - g",2012,"Hardi","Injektor-Flachstrahldüse","Verband - Feldbau","50 cm"]
[1647,"S Injet 03",3,8,"sg - g",2007,"Hardi","Injektor-Flachstrahldüse","Verband - Feldbau","50 cm","nein"]
[1648,"S Injet 04",3,8,"sg - g",2011,"Hardi","Injektor-Flachstrahldüse","Verband - Feldbau","50 cm"]
[1649,"S Injet 05",2,8,"sg - g",2007,"Hardi","Injektor-Flachstrahldüse","Verband - Feldbau","50 cm","nein"]
[1654,"AIRTEC 40 1001",1.5,4,"-",2008,"Cleanacres","Zweistoff-Flachstrahldüse","Verband - Feldbau","50 - 75 cm","nein"]
[1655,"AIRTEC 50 1001",1.5,4,"-",2008,"Cleanacres","Zweistoff-Flachstrahldüse","Verband - Feldbau","75 cm","nein"]
[1657,"Twin Fluid 35",2,6,"-",2008,"John Deere","Zweistoff-Flachstrahldüse","Verband - Feldbau","50 - 75 cm","nein"]
[1658,"Twin Fluid 42",2,6,"-",2008,"John Deere","Zweistoff-Flachstrahldüse","Verband - Feldbau","50 - 75 cm","nein"]
[1659,"ID 90 03 C (Keramik)",3,8,"sg - g",2013,"Lechler","Injektor-Flachstrahldüse","Verband - Feldbau","75 cm"]
[1661,"IDK 120 03 POM",1.5,6,"sg - g",2013,"Lechler","Injektor-Flachstrahldüse","Verband - Feldbau","50 - 75 cm"]
[1662,"IDK 120 04 POM",1,6,"sg - g",2013,"Lechler","Injektor-Flachstrahldüse","Verband - Feldbau","50 - 75 cm"]
[1663,"IDK 120 05 POM",1,6,"sg - g",2013,"Lechler","Injektor-Flachstrahldüse","Verband - Feldbau","50 - 75 cm"]
[1683,"IDK 120 025 POM",1.5,6,"sg - g",2014,"Lechler","Injektor-Flachstrahldüse","Verband - Feldbau","50 - 75 cm"]
[1688,"ISO LD 110 015",2,5,"g - f",2009,"Hardi","Flachstrahldüse","Verband - Feldbau","50 cm","nein"]
[1689,"ISO LD 110 02",2,5,"g - m",2009,"Hardi","Flachstrahldüse","Verband - Feldbau","50 cm","nein"]
[1690,"ISO LD 110 025",2,5,"g - m",2009,"Hardi","Flachstrahldüse","Verband - Feldbau","50 cm","nein"]
[1691,"ISO LD 110 03",2,5,"g - m",2009,"Hardi","Flachstrahldüse","Verband - Feldbau","50 cm","nein"]
[1692,"ISO LD 110 04",2,5,"sg - m",2009,"Hardi","Flachstrahldüse","Verband - Feldbau","50 cm","nein"]
[1695,"IDN 120 025 POM",2,8,"sg - g",2014,"Lechler","Injektor-Flachstrahldüse","Verband - Feldbau","50 cm"]
[1696,"XRC 110025 VS",1.5,4,"m - f",2016,"TeeJet","Flachstrahldüse","Verband - Feldbau","50 cm"]
[1705,"AirMix 110-025 NoDrift",2.5,8,"sg - g",2011,"Agrotop","Injektor-Flachstrahldüse","Verband - Feldbau","50 cm","ja"]
[1706,"AirMix 110-03 NoDrift",3,8,"sg - g",2011,"Agrotop","Injektor-Flachstrahldüse","Verband - Feldbau","50 cm","ja"]
[1707,"AirMix 110-04 NoDrift",2,8,"sg - g",2015,"Agrotop","Injektor-Flachstrahldüse","Verband - Feldbau","50 cm"]
[1710,"ISO Minidrift MD-025-110",1.5,6,"sg - g",2009,"Hardi","Injektor-Flachstrahldüse","Verband - Feldbau","50 - 75 cm","nein"]
[1711,"ISO Minidrift MD-03-110",1.5,6,"sg - g",2009,"Hardi","Injektor-Flachstrahldüse","Verband - Feldbau","50 - 75 cm","nein"]
[1712,"ISO Minidrift MD-04-110",1,6,"sg - g",2009,"Hardi","Injektor-Flachstrahldüse","Verband - Feldbau","50 - 75 cm","nein"]
[1713,"ISO Minidrift MD-05-110",1,6,"sg - g",2009,"Hardi","Injektor-Flachstrahldüse","Verband - Feldbau","50 - 75 cm","nein"]
[1717,"IDN 120 03 POM",2,8,"sg - g",2010,"Lechler","Injektor-Flachstrahldüse","Verband - Feldbau","50 cm"]
[1718,"IDK N 120 04 POM",1,6,"sg - g",2016,"Lechler","Injektor-Flachstrahldüse","Verband - Feldbau","50 cm"]
[1723,"AIC 110 04 VP",2.5,8,"sg - g",2011,"TeeJet","Injektor-Flachstrahldüse","Verband - Feldbau","50 - 75 cm"]
[1724,"AIC 110 03 VP",2.5,8,"sg - g",2011,"TeeJet","Injektor-Flachstrahldüse","Verband - Feldbau","50 - 75 cm"]
[1725,"AIC 110 05 VP",2,8,"sg - g",2011,"TeeJet","Injektor-Flachstrahldüse","Verband - Feldbau","50 - 75 cm"]
[1726,"AIC 025 VP",2,8,"sg - g",2014,"TeeJet","Injektor-Flachstrahldüse","Verband - Feldbau","50 - 75 cm"]
[1736,"AirJet 35",2,6,"sg - g",2013,"TeeJet","Zweistoff-Flachstrahldüse","Verband - Feldbau","50 - 75 cm"]
[1737,"TTI 110 025 VP",1.5,7,"sg",2011,"TeeJet","Injektor-Flachstrahldüse","Verband - Feldbau","50 - 75 cm"]
[1738,"TTI 110 03 VP",1.5,7,"sg - g",2011,"TeeJet","Injektor-Flachstrahldüse","Verband - Feldbau","50 - 75 cm"]
[1739,"TTI 110 04 VP",1.5,7,"sg",2011,"TeeJet","Injektor-Flachstrahldüse","Verband - Feldbau","50 - 75 cm"]
[1740,"TTI 110 05 VP",1,7,"sehr grob",2011,"TeeJet","Injektor-Flachstrahldüse","Verband - Feldbau","50 - 75 cm"]
[1744,"AirJet 52",1,6,"sg - f",2013,"TeeJet","Zweistoff-Flachstrahldüse","Verband - Feldbau","50 - 75 cm"]
[1750,"Albuz AVI Twin 110 04",2,8,"sg - g",2011,"Agrotop","Injektor-Doppelflachstrahl","Verband - Feldbau","50 cm","ja"]
[1753,"IS 80 025 POM",3,8,"sg - g",2011,"Lechler","Injektor-Flachstrahldüse","Verband - Feldbau Randbehandlung","siehe ID 120 025"]
[1754,"IS 80 03 POM",3,8,"sg - g",2011,"Lechler","Injektor-Flachstrahldüse","Verband - Feldbau Randbehandlung","siehe ID 120 03"]
[1755,"IS 80 04 POM",3,8,"sg - g",2011,"Lechler","Injektor-Flachstrahldüse","Verband - Feldbau Randbehandlung","siehe ID 120 04"]
[1756,"AIUB 85 025 VS",2.5,8,"sg - g",2011,"TeeJet","Injektor-Flachstrahldüse","Verband - Feldbau Randbehandlung","siehe AI/AIC 110 03"]
[1757,"AIUB 85 03 VS",2.5,8,"sg - g",2011,"TeeJet","Injektor-Flachstrahldüse","Verband - Feldbau Randbehandlung","siehe AI/AIC 110 04"]
[1758,"AIUB 85 04 VS",2,8,"sg - g",2011,"TeeJet","Injektor-Flachstrahldüse","Verband - Feldbau Randbehandlung","siehe AI/AIC 110 05"]
[1762,"Minidrift MD 02",2,6,"sg - g",2012,"Hardi","Injektor-Flachstrahldüse","Verband - Feldbau Randbehandlung","50 cm"]
[1767,"TTI 110 02 VP",2,7,"sg",2012,"TeeJet","Injektor-Flachstrahldüse","Verband - Feldbau","50 - 75 cm"]
[1768,"AIXR 110 03",1.5,6,"sg - g",2013,"TeeJet","Injektor-Flachstrahldüse","Verband - Feldbau","50 - 75 cm"]
[1769,"AIXR 110 04",1.5,6,"sg - g",2013,"TeeJet","Injektor-Flachstrahldüse","Verband - Feldbau","50 - 75 cm"]
[1770,"TTJ 60 - 110 03 VP",1.5,6,"sg - m",2012,"TeeJet","Doppelflachstrahldüse","Verband - Feldbau","50 cm"]
[1771,"TTJ 60 - 110 04 VP",1,6,"sg - m",2012,"TeeJet","Doppelflachstrahldüse","Verband - Feldbau","50 cm"]
[1778,"ULD 03",2.5,8,"sg - m",2012,"Hypro","Flachstrahldüse","Verband - Feldbau","50 cm"]
[1779,"ULD 04",2.5,8,"sg - g",2012,"Hypro","Flachstrahldüse","Verband - Feldbau","50 cm"]
[1780,"ULD 05",2.5,8,"sg - g",2012,"Hypro","Flachstrahldüse","Verband - Feldbau","50 cm"]
[1781,"Minidrift MD 025",1.5,6,"sg - g",2012,"Hardi","Injektor-Flachstrahldüse","Verband - Feldbau","50 cm"]
[1782,"Minidrift MD 03",1,6,"sg - g",2012,"Hardi","Injektor-Flachstrahldüse","Verband - Feldbau","50 cm"]
[1783,"Minidrift MD 04",1,6,"sg - g",2012,"Hardi","Injektor-Flachstrahldüse","Verband - Feldbau","50 cm"]
[1784,"Minidrift MD 05",1,6,"sg - g",2012,"Hardi","Injektor-Flachstrahldüse","Verband - Feldbau","50 cm"]
[1786,"IDK-S 80-025 POM",1.5,6,"sg - g",2012,"Lechler","Injektor-Flachstrahldüse","Verband - Feldbau Randbehandlung","siehe siehe IDK 120 025"]
[1787,"IDK-S 80-03 POM",1.5,6,"sg - g",2012,"Lechler","Injektor-Flachstrahldüse","Verband - Feldbau Randbehandlung","siehe siehe IDK 120 03"]
[1788,"IDK-S 80-04 POM",1,6,"sg - g",2012,"Lechler","Injektor-Flachstrahldüse","Verband - Feldbau Randbehandlung","siehe siehe IDK 120 04"]
[1789,"IDK-S 80-05 POM",1,6,"sg - g",2012,"Lechler","Injektor-Flachstrahldüse","Verband - Feldbau Randbehandlung","siehe siehe IDK 120 05"]
[1791,"AIUB 85 02 VS",2,8,"sg - g",2012,"TeeJet","Injektor-Flachstrahldüse","Verband - Feldbau Randbehandlung","siehe AI/AIC 110 025"]
[1795,"AIXR 110 05",1,6,"sg - g",2013,"TeeJet","Injektor-Flachstrahldüse","Verband - Feldbau","50 - 75 cm"]
[1799,"IDK N 120 03 POM",1,6,"sg - g",2013,"Lechler","Injektor-Flachstrahldüse","Verband - Feldbau"]
[1800,"IDK 120 03 C",2,6,"sg - g",2013,"Lechler","Injektor-Flachstrahldüse","Verband - Feldbau"]
[1801,"IDK 120 04 C",1.5,6,"sg - g",2013,"Lechler","Injektor-Flachstrahldüse","Verband - Feldbau"]
[1802,"IDK 120 05 C",1.5,6,"sg - g",2013,"Lechler","Injektor-Flachstrahldüse","Verband - Feldbau"]
[1813,"Guardian Air 03",1.5,6,"sg-g",2014,"Hypro","Injektor Flachstrahl","Verband-Feldbau","50 cm"]
[1817,"Guardian Air 025",1,6,"sg - g",2014,"Hypro","Injektor-Flachstrahldüse","Verband-Feldbau","50 cm"]
[1819,"Hispeed 02",2,8,"sg - g",2014,"Agrotop","Injektor-Doppelflachstrahldüe","Verband - Feldbau","50 cm"]
[1820,"Hispeed 03",2.5,8,"sg - g",2014,"Agrotop","Injektor-Doppelflachstrahl","Verband - Feldbau","50 cm"]
[1821,"Hispeed 04",2,8,"sg - g",2014,"Agrotop","Injektor-Doppelflachstrahl","Verband - Feldbau","50 cm"]
[1822,"HiSpeed 05",2,8,"sg - g",2014,"Agrotop","Injektor-Doppelflachstrahldüse","Verband-Feldbau","50 cm"]
[1832,"Guardian GRD 120 08",1.5,8,"sg - m",2014,"Hypro","Flachstrahldüse","Verband - Feldbau","50 cm"]
[1836,"IDKT 05",1,6,"sg - g",2014,"Lechler","Injektor-Doppelflachstrahl","Verband - Feldbau","50 cm"]
[1837,"IDKT 04",1,6,"sg - g",2014,"Lechler","Injektor-Doppelflachstrahl","Verband - Feldbau","50 cm"]
[1848,"AITTJ 60 - 110 04 VP",1.5,8,null,2015,"TeeJet","Injektor-Doppelflachstrahl","Verband - Feldbau","50 cm"]
[1852,"VP 110 03",2,5,null,2015,"Hypro","Flachstrahldüse","Verband - Feldbau","50 cm"]
[1853,"VP 110 04",2,5,null,2015,"Hypro","Flachstrahldüse","Verband - Feldbau","50 cm"]
[1854,"VP 110 05",2,5,null,2015,"Hypro","Flachstrahldüse","Verband - Feldbau","50 cm"]
[1860,"LD 04 F 110",1,5,null,2015,"Hypro","Flachstrahldüse","Verband - Feldbau","50 cm"]
[1861,"LD 05 F 110",1,5,null,2015,"Hypro","Flachstrahldüse","Verband - Feldbau","50 cm"]
[1862,"LD 06 F 110",1.5,5,null,2015,"Hypro","Flachstrahldüse","Verband - Feldbau","50 cm"]
[1865,"IDKT 03 C",1.5,6,"sg - g",2015,"Lechler","Injektor-Doppelflachstrahl","Verband - Feldbau","50 cm"]
[1867,"Twin Fluid TK 10/35",2,6,null,2014,"John Deere","Zweistoff Flachstrahl","Verband - Feldbau","50 - 75 cm",null,1736]
[1868,"Twin Fluid TK 10/42",2,6,null,2014,"John Deere","Zweistoff Flachstrahl","Verband - Feldbau","75 cm",null,1743]
[1872,"Guardian Air Twin 025",2,6,null,null,"Hypro","Injektor-Doppelflachstrahl"]
[1882,"IDKT 120 03 POM",1,6,"sg",2016,"Lechler","Injektor-Doppelflachstrahl","Verband-Feldbau",50]
[1883,"IDKT 120 04 POM",1,6,"sg",2016,"Lechler","Injektor-Doppelflachstrahl","Verband-Feldbau",50]
[1884,"IDKT 120 05 POM",1,6,"sg",2016,"Lechler","Injektor-Doppelflachstrahl","Verband-Feldbau",50]
[1891,"AirMix OC 80 025",1.5,8,"sg - g",2016,"Agrotop","Injektor-Flachstrahldüse","Verband - Feldbau Randbehandlung",50]
[1892,"AirMix OC 80 03",1,8,"sg - g",2016,"Agrotop","Injektor-Flachstrahldüse","Verband - Feldbau Randbehandlung",50]
[1893,"AirMix OC 80 04",1,6,"sg - g",2016,"Agrotop","Injektor-Flachstrahldüse","Verband - Feldbau Randbehandlung",50]
[1903,"CVI Twin 110 03",1.5,6,null,2017]
[1905,"CVI Twin 110 04",1.5,6,null,2017]
[1907,"Minidrift Duo 110 03",1,6,"sg",2016,"Lechler","Injektor-Doppelflachstrahl","Verband-Feldbau",50,null,1882]
[1908,"Minidrift Duo 110 04",1,6,"sg",2016,"Lechler","Injektor-Doppelflachstrahl","Verband-Feldbau",50,null,1883]
[1909,"Minidrift Duo 110 05",1,6,"sg",2016,"Lechler","Injektor-Doppelflachstrahl","Verband-Feldbau",50,null,1884]
[1911,"IDKT 120 02 POM",1.5,6,null,2017,"Lechler","Injektor-Doppelflachstrahl","Verband-Feldbau",50]
[1912,"IDKT 120 025 POM",1.5,6,null,2017,"Lechler","Injektor-Doppelflachstrahl","Verband-Feldbau",50]
[1904,"CVI Twin 110 025 ",1.5,6,null,2018,"Agrotop","Injektor-Doppelflachstrahl","Verband-Feldbau",50]
[1935,"IDKT 120 06 POM",1,6,null,2018,"Lechler","Injektor-Doppelflachstrahl","Verband-Feldbau",50]